BEGIN:VCALENDAR
VERSION:2.0
PRODID:-//Williamson County Republican Party - ECPv6.15.20//NONSGML v1.0//EN
CALSCALE:GREGORIAN
METHOD:PUBLISH
X-ORIGINAL-URL:https://wilcogop.org
X-WR-CALDESC:Events for Williamson County Republican Party
REFRESH-INTERVAL;VALUE=DURATION:PT1H
X-Robots-Tag:noindex
X-PUBLISHED-TTL:PT1H
BEGIN:VTIMEZONE
TZID:America/Chicago
BEGIN:DAYLIGHT
TZOFFSETFROM:-0600
TZOFFSETTO:-0500
TZNAME:CDT
DTSTART:20250309T080000
END:DAYLIGHT
BEGIN:STANDARD
TZOFFSETFROM:-0500
TZOFFSETTO:-0600
TZNAME:CST
DTSTART:20251102T070000
END:STANDARD
BEGIN:DAYLIGHT
TZOFFSETFROM:-0600
TZOFFSETTO:-0500
TZNAME:CDT
DTSTART:20260308T080000
END:DAYLIGHT
BEGIN:STANDARD
TZOFFSETFROM:-0500
TZOFFSETTO:-0600
TZNAME:CST
DTSTART:20261101T070000
END:STANDARD
BEGIN:DAYLIGHT
TZOFFSETFROM:-0600
TZOFFSETTO:-0500
TZNAME:CDT
DTSTART:20270314T080000
END:DAYLIGHT
BEGIN:STANDARD
TZOFFSETFROM:-0500
TZOFFSETTO:-0600
TZNAME:CST
DTSTART:20271107T070000
END:STANDARD
END:VTIMEZONE
BEGIN:VTIMEZONE
TZID:America/New_York
BEGIN:DAYLIGHT
TZOFFSETFROM:-0500
TZOFFSETTO:-0400
TZNAME:EDT
DTSTART:20230312T070000
END:DAYLIGHT
BEGIN:STANDARD
TZOFFSETFROM:-0400
TZOFFSETTO:-0500
TZNAME:EST
DTSTART:20231105T060000
END:STANDARD
BEGIN:DAYLIGHT
TZOFFSETFROM:-0500
TZOFFSETTO:-0400
TZNAME:EDT
DTSTART:20240310T070000
END:DAYLIGHT
BEGIN:STANDARD
TZOFFSETFROM:-0400
TZOFFSETTO:-0500
TZNAME:EST
DTSTART:20241103T060000
END:STANDARD
BEGIN:DAYLIGHT
TZOFFSETFROM:-0500
TZOFFSETTO:-0400
TZNAME:EDT
DTSTART:20250309T070000
END:DAYLIGHT
BEGIN:STANDARD
TZOFFSETFROM:-0400
TZOFFSETTO:-0500
TZNAME:EST
DTSTART:20251102T060000
END:STANDARD
END:VTIMEZONE
BEGIN:VEVENT
DTSTART;TZID=America/Chicago:20260312T140000
DTEND;TZID=America/Chicago:20260312T170000
DTSTAMP:20260424T054020
CREATED:20260311T181950Z
LAST-MODIFIED:20260311T181950Z
UID:10000842-1773324000-1773334800@wilcogop.org
SUMMARY:SD 5 Temporary Legislative Priorities Committee Meeting
DESCRIPTION:
URL:https://wilcogop.org/event/sd-5-temporary-legislative-priorities-committee-meeting/
LOCATION:Williamson County GOP HQ\, 716 S Rock St\, Georgetown\, TX\, 78626\, United States
ORGANIZER;CN="Williamson County Republican Party":MAILTO:chairman@wilcogop.org
END:VEVENT
BEGIN:VEVENT
DTSTART;TZID=America/New_York:20241019T090000
DTEND;TZID=America/New_York:20241019T120000
DTSTAMP:20260424T054020
CREATED:20240828T165926Z
LAST-MODIFIED:20240923T203856Z
UID:10000411-1729328400-1729339200@wilcogop.org
SUMMARY:Block Walking Meetup
DESCRIPTION:
URL:https://wilcogop.org/event/block-walking-meetup/2024-10-19/
LOCATION:Williamson County GOP HQ\, 716 S Rock St\, Georgetown\, TX\, 78626\, United States
CATEGORIES:Event
END:VEVENT
BEGIN:VEVENT
DTSTART;TZID=America/New_York:20241012T090000
DTEND;TZID=America/New_York:20241012T120000
DTSTAMP:20260424T054020
CREATED:20240828T165926Z
LAST-MODIFIED:20240923T203856Z
UID:10000410-1728723600-1728734400@wilcogop.org
SUMMARY:Block Walking Meetup
DESCRIPTION:
URL:https://wilcogop.org/event/block-walking-meetup/2024-10-12/
LOCATION:Williamson County GOP HQ\, 716 S Rock St\, Georgetown\, TX\, 78626\, United States
CATEGORIES:Event
END:VEVENT
BEGIN:VEVENT
DTSTART;TZID=America/New_York:20241005T090000
DTEND;TZID=America/New_York:20241005T120000
DTSTAMP:20260424T054020
CREATED:20240828T165926Z
LAST-MODIFIED:20240923T203856Z
UID:10000409-1728118800-1728129600@wilcogop.org
SUMMARY:Block Walking Meetup
DESCRIPTION:
URL:https://wilcogop.org/event/block-walking-meetup/2024-10-05/
LOCATION:Williamson County GOP HQ\, 716 S Rock St\, Georgetown\, TX\, 78626\, United States
CATEGORIES:Event
END:VEVENT
BEGIN:VEVENT
DTSTART;TZID=America/New_York:20240928T090000
DTEND;TZID=America/New_York:20240928T120000
DTSTAMP:20260424T054020
CREATED:20240828T165926Z
LAST-MODIFIED:20240923T203856Z
UID:10000408-1727514000-1727524800@wilcogop.org
SUMMARY:Block Walking Meetup
DESCRIPTION:
URL:https://wilcogop.org/event/block-walking-meetup/2024-09-28/
LOCATION:Williamson County GOP HQ\, 716 S Rock St\, Georgetown\, TX\, 78626\, United States
CATEGORIES:Event
END:VEVENT
BEGIN:VEVENT
DTSTART;TZID=America/New_York:20240921T090000
DTEND;TZID=America/New_York:20240921T120000
DTSTAMP:20260424T054020
CREATED:20240828T165926Z
LAST-MODIFIED:20240923T203856Z
UID:10000407-1726909200-1726920000@wilcogop.org
SUMMARY:Block Walking Meetup
DESCRIPTION:
URL:https://wilcogop.org/event/block-walking-meetup/2024-09-21/
LOCATION:Williamson County GOP HQ\, 716 S Rock St\, Georgetown\, TX\, 78626\, United States
CATEGORIES:Event
END:VEVENT
BEGIN:VEVENT
DTSTART;TZID=America/New_York:20240914T090000
DTEND;TZID=America/New_York:20240914T120000
DTSTAMP:20260424T054020
CREATED:20240828T165926Z
LAST-MODIFIED:20240923T203856Z
UID:10000406-1726304400-1726315200@wilcogop.org
SUMMARY:Block Walking Meetup
DESCRIPTION:
URL:https://wilcogop.org/event/block-walking-meetup/2024-09-14/
LOCATION:Williamson County GOP HQ\, 716 S Rock St\, Georgetown\, TX\, 78626\, United States
CATEGORIES:Event
END:VEVENT
BEGIN:VEVENT
DTSTART;TZID=America/New_York:20240907T090000
DTEND;TZID=America/New_York:20240907T120000
DTSTAMP:20260424T054020
CREATED:20240828T165926Z
LAST-MODIFIED:20240923T203856Z
UID:10000405-1725699600-1725710400@wilcogop.org
SUMMARY:Block Walking Meetup
DESCRIPTION:
URL:https://wilcogop.org/event/block-walking-meetup/2024-09-07/
LOCATION:Williamson County GOP HQ\, 716 S Rock St\, Georgetown\, TX\, 78626\, United States
CATEGORIES:Event
END:VEVENT
BEGIN:VEVENT
DTSTART;TZID=America/New_York:20240831T090000
DTEND;TZID=America/New_York:20240831T120000
DTSTAMP:20260424T054020
CREATED:20240828T165926Z
LAST-MODIFIED:20240923T203856Z
UID:10000404-1725094800-1725105600@wilcogop.org
SUMMARY:Block Walking Meetup
DESCRIPTION:
URL:https://wilcogop.org/event/block-walking-meetup/2024-08-31/
LOCATION:Williamson County GOP HQ\, 716 S Rock St\, Georgetown\, TX\, 78626\, United States
CATEGORIES:Event
END:VEVENT
END:VCALENDAR