BEGIN:VCALENDAR
VERSION:2.0
PRODID:-//Williamson County Republican Party - ECPv6.15.20//NONSGML v1.0//EN
CALSCALE:GREGORIAN
METHOD:PUBLISH
X-ORIGINAL-URL:https://wilcogop.org
X-WR-CALDESC:Events for Williamson County Republican Party
REFRESH-INTERVAL;VALUE=DURATION:PT1H
X-Robots-Tag:noindex
X-PUBLISHED-TTL:PT1H
BEGIN:VTIMEZONE
TZID:America/Chicago
BEGIN:DAYLIGHT
TZOFFSETFROM:-0600
TZOFFSETTO:-0500
TZNAME:CDT
DTSTART:20280312T080000
END:DAYLIGHT
BEGIN:STANDARD
TZOFFSETFROM:-0500
TZOFFSETTO:-0600
TZNAME:CST
DTSTART:20281105T070000
END:STANDARD
BEGIN:DAYLIGHT
TZOFFSETFROM:-0600
TZOFFSETTO:-0500
TZNAME:CDT
DTSTART:20290311T080000
END:DAYLIGHT
BEGIN:STANDARD
TZOFFSETFROM:-0500
TZOFFSETTO:-0600
TZNAME:CST
DTSTART:20291104T070000
END:STANDARD
BEGIN:DAYLIGHT
TZOFFSETFROM:-0600
TZOFFSETTO:-0500
TZNAME:CDT
DTSTART:20300310T080000
END:DAYLIGHT
BEGIN:STANDARD
TZOFFSETFROM:-0500
TZOFFSETTO:-0600
TZNAME:CST
DTSTART:20301103T070000
END:STANDARD
BEGIN:DAYLIGHT
TZOFFSETFROM:-0600
TZOFFSETTO:-0500
TZNAME:CDT
DTSTART:20310309T080000
END:DAYLIGHT
BEGIN:STANDARD
TZOFFSETFROM:-0500
TZOFFSETTO:-0600
TZNAME:CST
DTSTART:20311102T070000
END:STANDARD
BEGIN:DAYLIGHT
TZOFFSETFROM:-0600
TZOFFSETTO:-0500
TZNAME:CDT
DTSTART:20320314T080000
END:DAYLIGHT
BEGIN:STANDARD
TZOFFSETFROM:-0500
TZOFFSETTO:-0600
TZNAME:CST
DTSTART:20321107T070000
END:STANDARD
END:VTIMEZONE
BEGIN:VEVENT
DTSTART;TZID=America/Chicago:20290920T183000
DTEND;TZID=America/Chicago:20290920T203000
DTSTAMP:20260420T162205
CREATED:20260415T132359Z
LAST-MODIFIED:20260415T132422Z
UID:10001107-1884623400-1884630600@wilcogop.org
SUMMARY:East Williamson County Republicans Monthly Meeting
DESCRIPTION:
URL:https://wilcogop.org/event/east-williamson-county-republicans-monthly-meeting/2029-09-20/
LOCATION:Sirloin Stockade – Taylor\, 3607 N Main St\, Taylor\, TX\, 76574\, United States
END:VEVENT
BEGIN:VEVENT
DTSTART;TZID=America/Chicago:20291018T183000
DTEND;TZID=America/Chicago:20291018T203000
DTSTAMP:20260420T162205
CREATED:20260415T132359Z
LAST-MODIFIED:20260415T132422Z
UID:10001108-1887042600-1887049800@wilcogop.org
SUMMARY:East Williamson County Republicans Monthly Meeting
DESCRIPTION:
URL:https://wilcogop.org/event/east-williamson-county-republicans-monthly-meeting/2029-10-18/
LOCATION:Sirloin Stockade – Taylor\, 3607 N Main St\, Taylor\, TX\, 76574\, United States
END:VEVENT
BEGIN:VEVENT
DTSTART;TZID=America/Chicago:20291115T183000
DTEND;TZID=America/Chicago:20291115T203000
DTSTAMP:20260420T162205
CREATED:20260415T132359Z
LAST-MODIFIED:20260415T132422Z
UID:10001109-1889461800-1889469000@wilcogop.org
SUMMARY:East Williamson County Republicans Monthly Meeting
DESCRIPTION:
URL:https://wilcogop.org/event/east-williamson-county-republicans-monthly-meeting/2029-11-15/
LOCATION:Sirloin Stockade – Taylor\, 3607 N Main St\, Taylor\, TX\, 76574\, United States
END:VEVENT
BEGIN:VEVENT
DTSTART;TZID=America/Chicago:20291220T183000
DTEND;TZID=America/Chicago:20291220T203000
DTSTAMP:20260420T162205
CREATED:20260415T132359Z
LAST-MODIFIED:20260415T132422Z
UID:10001110-1892485800-1892493000@wilcogop.org
SUMMARY:East Williamson County Republicans Monthly Meeting
DESCRIPTION:
URL:https://wilcogop.org/event/east-williamson-county-republicans-monthly-meeting/2029-12-20/
LOCATION:Sirloin Stockade – Taylor\, 3607 N Main St\, Taylor\, TX\, 76574\, United States
END:VEVENT
BEGIN:VEVENT
DTSTART;TZID=America/Chicago:20300117T183000
DTEND;TZID=America/Chicago:20300117T203000
DTSTAMP:20260420T162205
CREATED:20260415T132359Z
LAST-MODIFIED:20260415T132422Z
UID:10001111-1894905000-1894912200@wilcogop.org
SUMMARY:East Williamson County Republicans Monthly Meeting
DESCRIPTION:
URL:https://wilcogop.org/event/east-williamson-county-republicans-monthly-meeting/2030-01-17/
LOCATION:Sirloin Stockade – Taylor\, 3607 N Main St\, Taylor\, TX\, 76574\, United States
END:VEVENT
BEGIN:VEVENT
DTSTART;TZID=America/Chicago:20300221T183000
DTEND;TZID=America/Chicago:20300221T203000
DTSTAMP:20260420T162205
CREATED:20260415T132359Z
LAST-MODIFIED:20260415T132422Z
UID:10001112-1897929000-1897936200@wilcogop.org
SUMMARY:East Williamson County Republicans Monthly Meeting
DESCRIPTION:
URL:https://wilcogop.org/event/east-williamson-county-republicans-monthly-meeting/2030-02-21/
LOCATION:Sirloin Stockade – Taylor\, 3607 N Main St\, Taylor\, TX\, 76574\, United States
END:VEVENT
BEGIN:VEVENT
DTSTART;TZID=America/Chicago:20300321T183000
DTEND;TZID=America/Chicago:20300321T203000
DTSTAMP:20260420T162205
CREATED:20260415T132359Z
LAST-MODIFIED:20260415T132422Z
UID:10001113-1900348200-1900355400@wilcogop.org
SUMMARY:East Williamson County Republicans Monthly Meeting
DESCRIPTION:
URL:https://wilcogop.org/event/east-williamson-county-republicans-monthly-meeting/2030-03-21/
LOCATION:Sirloin Stockade – Taylor\, 3607 N Main St\, Taylor\, TX\, 76574\, United States
END:VEVENT
BEGIN:VEVENT
DTSTART;TZID=America/Chicago:20300418T183000
DTEND;TZID=America/Chicago:20300418T203000
DTSTAMP:20260420T162205
CREATED:20260415T132359Z
LAST-MODIFIED:20260415T132422Z
UID:10001114-1902767400-1902774600@wilcogop.org
SUMMARY:East Williamson County Republicans Monthly Meeting
DESCRIPTION:
URL:https://wilcogop.org/event/east-williamson-county-republicans-monthly-meeting/2030-04-18/
LOCATION:Sirloin Stockade – Taylor\, 3607 N Main St\, Taylor\, TX\, 76574\, United States
END:VEVENT
BEGIN:VEVENT
DTSTART;TZID=America/Chicago:20300516T183000
DTEND;TZID=America/Chicago:20300516T203000
DTSTAMP:20260420T162205
CREATED:20260415T132359Z
LAST-MODIFIED:20260415T132422Z
UID:10001115-1905186600-1905193800@wilcogop.org
SUMMARY:East Williamson County Republicans Monthly Meeting
DESCRIPTION:
URL:https://wilcogop.org/event/east-williamson-county-republicans-monthly-meeting/2030-05-16/
LOCATION:Sirloin Stockade – Taylor\, 3607 N Main St\, Taylor\, TX\, 76574\, United States
END:VEVENT
BEGIN:VEVENT
DTSTART;TZID=America/Chicago:20300620T183000
DTEND;TZID=America/Chicago:20300620T203000
DTSTAMP:20260420T162205
CREATED:20260415T132359Z
LAST-MODIFIED:20260415T132422Z
UID:10001116-1908210600-1908217800@wilcogop.org
SUMMARY:East Williamson County Republicans Monthly Meeting
DESCRIPTION:
URL:https://wilcogop.org/event/east-williamson-county-republicans-monthly-meeting/2030-06-20/
LOCATION:Sirloin Stockade – Taylor\, 3607 N Main St\, Taylor\, TX\, 76574\, United States
END:VEVENT
BEGIN:VEVENT
DTSTART;TZID=America/Chicago:20300718T183000
DTEND;TZID=America/Chicago:20300718T203000
DTSTAMP:20260420T162205
CREATED:20260415T132359Z
LAST-MODIFIED:20260415T132422Z
UID:10001117-1910629800-1910637000@wilcogop.org
SUMMARY:East Williamson County Republicans Monthly Meeting
DESCRIPTION:
URL:https://wilcogop.org/event/east-williamson-county-republicans-monthly-meeting/2030-07-18/
LOCATION:Sirloin Stockade – Taylor\, 3607 N Main St\, Taylor\, TX\, 76574\, United States
END:VEVENT
BEGIN:VEVENT
DTSTART;TZID=America/Chicago:20300815T183000
DTEND;TZID=America/Chicago:20300815T203000
DTSTAMP:20260420T162205
CREATED:20260415T132359Z
LAST-MODIFIED:20260415T132422Z
UID:10001118-1913049000-1913056200@wilcogop.org
SUMMARY:East Williamson County Republicans Monthly Meeting
DESCRIPTION:
URL:https://wilcogop.org/event/east-williamson-county-republicans-monthly-meeting/2030-08-15/
LOCATION:Sirloin Stockade – Taylor\, 3607 N Main St\, Taylor\, TX\, 76574\, United States
END:VEVENT
BEGIN:VEVENT
DTSTART;TZID=America/Chicago:20300919T183000
DTEND;TZID=America/Chicago:20300919T203000
DTSTAMP:20260420T162205
CREATED:20260415T132359Z
LAST-MODIFIED:20260415T132422Z
UID:10001119-1916073000-1916080200@wilcogop.org
SUMMARY:East Williamson County Republicans Monthly Meeting
DESCRIPTION:
URL:https://wilcogop.org/event/east-williamson-county-republicans-monthly-meeting/2030-09-19/
LOCATION:Sirloin Stockade – Taylor\, 3607 N Main St\, Taylor\, TX\, 76574\, United States
END:VEVENT
BEGIN:VEVENT
DTSTART;TZID=America/Chicago:20301017T183000
DTEND;TZID=America/Chicago:20301017T203000
DTSTAMP:20260420T162205
CREATED:20260415T132359Z
LAST-MODIFIED:20260415T132422Z
UID:10001120-1918492200-1918499400@wilcogop.org
SUMMARY:East Williamson County Republicans Monthly Meeting
DESCRIPTION:
URL:https://wilcogop.org/event/east-williamson-county-republicans-monthly-meeting/2030-10-17/
LOCATION:Sirloin Stockade – Taylor\, 3607 N Main St\, Taylor\, TX\, 76574\, United States
END:VEVENT
BEGIN:VEVENT
DTSTART;TZID=America/Chicago:20301121T183000
DTEND;TZID=America/Chicago:20301121T203000
DTSTAMP:20260420T162205
CREATED:20260415T132359Z
LAST-MODIFIED:20260415T132422Z
UID:10001121-1921516200-1921523400@wilcogop.org
SUMMARY:East Williamson County Republicans Monthly Meeting
DESCRIPTION:
URL:https://wilcogop.org/event/east-williamson-county-republicans-monthly-meeting/2030-11-21/
LOCATION:Sirloin Stockade – Taylor\, 3607 N Main St\, Taylor\, TX\, 76574\, United States
END:VEVENT
BEGIN:VEVENT
DTSTART;TZID=America/Chicago:20301219T183000
DTEND;TZID=America/Chicago:20301219T203000
DTSTAMP:20260420T162205
CREATED:20260415T132359Z
LAST-MODIFIED:20260415T132422Z
UID:10001122-1923935400-1923942600@wilcogop.org
SUMMARY:East Williamson County Republicans Monthly Meeting
DESCRIPTION:
URL:https://wilcogop.org/event/east-williamson-county-republicans-monthly-meeting/2030-12-19/
LOCATION:Sirloin Stockade – Taylor\, 3607 N Main St\, Taylor\, TX\, 76574\, United States
END:VEVENT
BEGIN:VEVENT
DTSTART;TZID=America/Chicago:20310116T183000
DTEND;TZID=America/Chicago:20310116T203000
DTSTAMP:20260420T162205
CREATED:20260415T132359Z
LAST-MODIFIED:20260415T132422Z
UID:10001123-1926354600-1926361800@wilcogop.org
SUMMARY:East Williamson County Republicans Monthly Meeting
DESCRIPTION:
URL:https://wilcogop.org/event/east-williamson-county-republicans-monthly-meeting/2031-01-16/
LOCATION:Sirloin Stockade – Taylor\, 3607 N Main St\, Taylor\, TX\, 76574\, United States
END:VEVENT
BEGIN:VEVENT
DTSTART;TZID=America/Chicago:20310220T183000
DTEND;TZID=America/Chicago:20310220T203000
DTSTAMP:20260420T162205
CREATED:20260415T132359Z
LAST-MODIFIED:20260415T132422Z
UID:10001124-1929378600-1929385800@wilcogop.org
SUMMARY:East Williamson County Republicans Monthly Meeting
DESCRIPTION:
URL:https://wilcogop.org/event/east-williamson-county-republicans-monthly-meeting/2031-02-20/
LOCATION:Sirloin Stockade – Taylor\, 3607 N Main St\, Taylor\, TX\, 76574\, United States
END:VEVENT
BEGIN:VEVENT
DTSTART;TZID=America/Chicago:20310320T183000
DTEND;TZID=America/Chicago:20310320T203000
DTSTAMP:20260420T162205
CREATED:20260415T132359Z
LAST-MODIFIED:20260415T132422Z
UID:10001125-1931797800-1931805000@wilcogop.org
SUMMARY:East Williamson County Republicans Monthly Meeting
DESCRIPTION:
URL:https://wilcogop.org/event/east-williamson-county-republicans-monthly-meeting/2031-03-20/
LOCATION:Sirloin Stockade – Taylor\, 3607 N Main St\, Taylor\, TX\, 76574\, United States
END:VEVENT
END:VCALENDAR