BEGIN:VCALENDAR
VERSION:2.0
PRODID:-//Williamson County Republican Party - ECPv6.15.20//NONSGML v1.0//EN
CALSCALE:GREGORIAN
METHOD:PUBLISH
X-WR-CALNAME:Williamson County Republican Party
X-ORIGINAL-URL:https://wilcogop.org
X-WR-CALDESC:Events for Williamson County Republican Party
REFRESH-INTERVAL;VALUE=DURATION:PT1H
X-Robots-Tag:noindex
X-PUBLISHED-TTL:PT1H
BEGIN:VTIMEZONE
TZID:America/Chicago
BEGIN:DAYLIGHT
TZOFFSETFROM:-0600
TZOFFSETTO:-0500
TZNAME:CDT
DTSTART:20270314T080000
END:DAYLIGHT
BEGIN:STANDARD
TZOFFSETFROM:-0500
TZOFFSETTO:-0600
TZNAME:CST
DTSTART:20271107T070000
END:STANDARD
BEGIN:DAYLIGHT
TZOFFSETFROM:-0600
TZOFFSETTO:-0500
TZNAME:CDT
DTSTART:20280312T080000
END:DAYLIGHT
BEGIN:STANDARD
TZOFFSETFROM:-0500
TZOFFSETTO:-0600
TZNAME:CST
DTSTART:20281105T070000
END:STANDARD
BEGIN:DAYLIGHT
TZOFFSETFROM:-0600
TZOFFSETTO:-0500
TZNAME:CDT
DTSTART:20290311T080000
END:DAYLIGHT
BEGIN:STANDARD
TZOFFSETFROM:-0500
TZOFFSETTO:-0600
TZNAME:CST
DTSTART:20291104T070000
END:STANDARD
BEGIN:DAYLIGHT
TZOFFSETFROM:-0600
TZOFFSETTO:-0500
TZNAME:CDT
DTSTART:20300310T080000
END:DAYLIGHT
BEGIN:STANDARD
TZOFFSETFROM:-0500
TZOFFSETTO:-0600
TZNAME:CST
DTSTART:20301103T070000
END:STANDARD
BEGIN:DAYLIGHT
TZOFFSETFROM:-0600
TZOFFSETTO:-0500
TZNAME:CDT
DTSTART:20310309T080000
END:DAYLIGHT
BEGIN:STANDARD
TZOFFSETFROM:-0500
TZOFFSETTO:-0600
TZNAME:CST
DTSTART:20311102T070000
END:STANDARD
END:VTIMEZONE
BEGIN:VEVENT
DTSTART;TZID=America/Chicago:20280120T183000
DTEND;TZID=America/Chicago:20280120T203000
DTSTAMP:20260420T125622
CREATED:20260415T132359Z
LAST-MODIFIED:20260415T132422Z
UID:10001087-1832005800-1832013000@wilcogop.org
SUMMARY:East Williamson County Republicans Monthly Meeting
DESCRIPTION:
URL:https://wilcogop.org/event/east-williamson-county-republicans-monthly-meeting/2028-01-20/
LOCATION:Sirloin Stockade – Taylor\, 3607 N Main St\, Taylor\, TX\, 76574\, United States
END:VEVENT
BEGIN:VEVENT
DTSTART;TZID=America/Chicago:20280217T183000
DTEND;TZID=America/Chicago:20280217T203000
DTSTAMP:20260420T125622
CREATED:20260415T132359Z
LAST-MODIFIED:20260415T132422Z
UID:10001088-1834425000-1834432200@wilcogop.org
SUMMARY:East Williamson County Republicans Monthly Meeting
DESCRIPTION:
URL:https://wilcogop.org/event/east-williamson-county-republicans-monthly-meeting/2028-02-17/
LOCATION:Sirloin Stockade – Taylor\, 3607 N Main St\, Taylor\, TX\, 76574\, United States
END:VEVENT
BEGIN:VEVENT
DTSTART;TZID=America/Chicago:20280316T183000
DTEND;TZID=America/Chicago:20280316T203000
DTSTAMP:20260420T125622
CREATED:20260415T132359Z
LAST-MODIFIED:20260415T132422Z
UID:10001089-1836844200-1836851400@wilcogop.org
SUMMARY:East Williamson County Republicans Monthly Meeting
DESCRIPTION:
URL:https://wilcogop.org/event/east-williamson-county-republicans-monthly-meeting/2028-03-16/
LOCATION:Sirloin Stockade – Taylor\, 3607 N Main St\, Taylor\, TX\, 76574\, United States
END:VEVENT
BEGIN:VEVENT
DTSTART;TZID=America/Chicago:20280420T183000
DTEND;TZID=America/Chicago:20280420T203000
DTSTAMP:20260420T125622
CREATED:20260415T132359Z
LAST-MODIFIED:20260415T132422Z
UID:10001090-1839868200-1839875400@wilcogop.org
SUMMARY:East Williamson County Republicans Monthly Meeting
DESCRIPTION:
URL:https://wilcogop.org/event/east-williamson-county-republicans-monthly-meeting/2028-04-20/
LOCATION:Sirloin Stockade – Taylor\, 3607 N Main St\, Taylor\, TX\, 76574\, United States
END:VEVENT
BEGIN:VEVENT
DTSTART;TZID=America/Chicago:20280518T183000
DTEND;TZID=America/Chicago:20280518T203000
DTSTAMP:20260420T125622
CREATED:20260415T132359Z
LAST-MODIFIED:20260415T132422Z
UID:10001091-1842287400-1842294600@wilcogop.org
SUMMARY:East Williamson County Republicans Monthly Meeting
DESCRIPTION:
URL:https://wilcogop.org/event/east-williamson-county-republicans-monthly-meeting/2028-05-18/
LOCATION:Sirloin Stockade – Taylor\, 3607 N Main St\, Taylor\, TX\, 76574\, United States
END:VEVENT
BEGIN:VEVENT
DTSTART;TZID=America/Chicago:20280615T183000
DTEND;TZID=America/Chicago:20280615T203000
DTSTAMP:20260420T125622
CREATED:20260415T132359Z
LAST-MODIFIED:20260415T132422Z
UID:10001092-1844706600-1844713800@wilcogop.org
SUMMARY:East Williamson County Republicans Monthly Meeting
DESCRIPTION:
URL:https://wilcogop.org/event/east-williamson-county-republicans-monthly-meeting/2028-06-15/
LOCATION:Sirloin Stockade – Taylor\, 3607 N Main St\, Taylor\, TX\, 76574\, United States
END:VEVENT
BEGIN:VEVENT
DTSTART;TZID=America/Chicago:20280720T183000
DTEND;TZID=America/Chicago:20280720T203000
DTSTAMP:20260420T125622
CREATED:20260415T132359Z
LAST-MODIFIED:20260415T132422Z
UID:10001093-1847730600-1847737800@wilcogop.org
SUMMARY:East Williamson County Republicans Monthly Meeting
DESCRIPTION:
URL:https://wilcogop.org/event/east-williamson-county-republicans-monthly-meeting/2028-07-20/
LOCATION:Sirloin Stockade – Taylor\, 3607 N Main St\, Taylor\, TX\, 76574\, United States
END:VEVENT
BEGIN:VEVENT
DTSTART;TZID=America/Chicago:20280817T183000
DTEND;TZID=America/Chicago:20280817T203000
DTSTAMP:20260420T125622
CREATED:20260415T132359Z
LAST-MODIFIED:20260415T132422Z
UID:10001094-1850149800-1850157000@wilcogop.org
SUMMARY:East Williamson County Republicans Monthly Meeting
DESCRIPTION:
URL:https://wilcogop.org/event/east-williamson-county-republicans-monthly-meeting/2028-08-17/
LOCATION:Sirloin Stockade – Taylor\, 3607 N Main St\, Taylor\, TX\, 76574\, United States
END:VEVENT
BEGIN:VEVENT
DTSTART;TZID=America/Chicago:20280921T183000
DTEND;TZID=America/Chicago:20280921T203000
DTSTAMP:20260420T125622
CREATED:20260415T132359Z
LAST-MODIFIED:20260415T132422Z
UID:10001095-1853173800-1853181000@wilcogop.org
SUMMARY:East Williamson County Republicans Monthly Meeting
DESCRIPTION:
URL:https://wilcogop.org/event/east-williamson-county-republicans-monthly-meeting/2028-09-21/
LOCATION:Sirloin Stockade – Taylor\, 3607 N Main St\, Taylor\, TX\, 76574\, United States
END:VEVENT
BEGIN:VEVENT
DTSTART;TZID=America/Chicago:20281019T183000
DTEND;TZID=America/Chicago:20281019T203000
DTSTAMP:20260420T125622
CREATED:20260415T132359Z
LAST-MODIFIED:20260415T132422Z
UID:10001096-1855593000-1855600200@wilcogop.org
SUMMARY:East Williamson County Republicans Monthly Meeting
DESCRIPTION:
URL:https://wilcogop.org/event/east-williamson-county-republicans-monthly-meeting/2028-10-19/
LOCATION:Sirloin Stockade – Taylor\, 3607 N Main St\, Taylor\, TX\, 76574\, United States
END:VEVENT
BEGIN:VEVENT
DTSTART;TZID=America/Chicago:20281116T183000
DTEND;TZID=America/Chicago:20281116T203000
DTSTAMP:20260420T125622
CREATED:20260415T132359Z
LAST-MODIFIED:20260415T132422Z
UID:10001097-1858012200-1858019400@wilcogop.org
SUMMARY:East Williamson County Republicans Monthly Meeting
DESCRIPTION:
URL:https://wilcogop.org/event/east-williamson-county-republicans-monthly-meeting/2028-11-16/
LOCATION:Sirloin Stockade – Taylor\, 3607 N Main St\, Taylor\, TX\, 76574\, United States
END:VEVENT
BEGIN:VEVENT
DTSTART;TZID=America/Chicago:20281221T183000
DTEND;TZID=America/Chicago:20281221T203000
DTSTAMP:20260420T125622
CREATED:20260415T132359Z
LAST-MODIFIED:20260415T132422Z
UID:10001098-1861036200-1861043400@wilcogop.org
SUMMARY:East Williamson County Republicans Monthly Meeting
DESCRIPTION:
URL:https://wilcogop.org/event/east-williamson-county-republicans-monthly-meeting/2028-12-21/
LOCATION:Sirloin Stockade – Taylor\, 3607 N Main St\, Taylor\, TX\, 76574\, United States
END:VEVENT
BEGIN:VEVENT
DTSTART;TZID=America/Chicago:20290118T183000
DTEND;TZID=America/Chicago:20290118T203000
DTSTAMP:20260420T125622
CREATED:20260415T132359Z
LAST-MODIFIED:20260415T132422Z
UID:10001099-1863455400-1863462600@wilcogop.org
SUMMARY:East Williamson County Republicans Monthly Meeting
DESCRIPTION:
URL:https://wilcogop.org/event/east-williamson-county-republicans-monthly-meeting/2029-01-18/
LOCATION:Sirloin Stockade – Taylor\, 3607 N Main St\, Taylor\, TX\, 76574\, United States
END:VEVENT
BEGIN:VEVENT
DTSTART;TZID=America/Chicago:20290215T183000
DTEND;TZID=America/Chicago:20290215T203000
DTSTAMP:20260420T125622
CREATED:20260415T132359Z
LAST-MODIFIED:20260415T132422Z
UID:10001100-1865874600-1865881800@wilcogop.org
SUMMARY:East Williamson County Republicans Monthly Meeting
DESCRIPTION:
URL:https://wilcogop.org/event/east-williamson-county-republicans-monthly-meeting/2029-02-15/
LOCATION:Sirloin Stockade – Taylor\, 3607 N Main St\, Taylor\, TX\, 76574\, United States
END:VEVENT
BEGIN:VEVENT
DTSTART;TZID=America/Chicago:20290315T183000
DTEND;TZID=America/Chicago:20290315T203000
DTSTAMP:20260420T125622
CREATED:20260415T132359Z
LAST-MODIFIED:20260415T132422Z
UID:10001101-1868293800-1868301000@wilcogop.org
SUMMARY:East Williamson County Republicans Monthly Meeting
DESCRIPTION:
URL:https://wilcogop.org/event/east-williamson-county-republicans-monthly-meeting/2029-03-15/
LOCATION:Sirloin Stockade – Taylor\, 3607 N Main St\, Taylor\, TX\, 76574\, United States
END:VEVENT
BEGIN:VEVENT
DTSTART;TZID=America/Chicago:20290419T183000
DTEND;TZID=America/Chicago:20290419T203000
DTSTAMP:20260420T125622
CREATED:20260415T132359Z
LAST-MODIFIED:20260415T132422Z
UID:10001102-1871317800-1871325000@wilcogop.org
SUMMARY:East Williamson County Republicans Monthly Meeting
DESCRIPTION:
URL:https://wilcogop.org/event/east-williamson-county-republicans-monthly-meeting/2029-04-19/
LOCATION:Sirloin Stockade – Taylor\, 3607 N Main St\, Taylor\, TX\, 76574\, United States
END:VEVENT
BEGIN:VEVENT
DTSTART;TZID=America/Chicago:20290517T183000
DTEND;TZID=America/Chicago:20290517T203000
DTSTAMP:20260420T125622
CREATED:20260415T132359Z
LAST-MODIFIED:20260415T132422Z
UID:10001103-1873737000-1873744200@wilcogop.org
SUMMARY:East Williamson County Republicans Monthly Meeting
DESCRIPTION:
URL:https://wilcogop.org/event/east-williamson-county-republicans-monthly-meeting/2029-05-17/
LOCATION:Sirloin Stockade – Taylor\, 3607 N Main St\, Taylor\, TX\, 76574\, United States
END:VEVENT
BEGIN:VEVENT
DTSTART;TZID=America/Chicago:20290621T183000
DTEND;TZID=America/Chicago:20290621T203000
DTSTAMP:20260420T125622
CREATED:20260415T132359Z
LAST-MODIFIED:20260415T132422Z
UID:10001104-1876761000-1876768200@wilcogop.org
SUMMARY:East Williamson County Republicans Monthly Meeting
DESCRIPTION:
URL:https://wilcogop.org/event/east-williamson-county-republicans-monthly-meeting/2029-06-21/
LOCATION:Sirloin Stockade – Taylor\, 3607 N Main St\, Taylor\, TX\, 76574\, United States
END:VEVENT
BEGIN:VEVENT
DTSTART;TZID=America/Chicago:20290719T183000
DTEND;TZID=America/Chicago:20290719T203000
DTSTAMP:20260420T125622
CREATED:20260415T132359Z
LAST-MODIFIED:20260415T132422Z
UID:10001105-1879180200-1879187400@wilcogop.org
SUMMARY:East Williamson County Republicans Monthly Meeting
DESCRIPTION:
URL:https://wilcogop.org/event/east-williamson-county-republicans-monthly-meeting/2029-07-19/
LOCATION:Sirloin Stockade – Taylor\, 3607 N Main St\, Taylor\, TX\, 76574\, United States
END:VEVENT
BEGIN:VEVENT
DTSTART;TZID=America/Chicago:20290816T183000
DTEND;TZID=America/Chicago:20290816T203000
DTSTAMP:20260420T125622
CREATED:20260415T132359Z
LAST-MODIFIED:20260415T132422Z
UID:10001106-1881599400-1881606600@wilcogop.org
SUMMARY:East Williamson County Republicans Monthly Meeting
DESCRIPTION:
URL:https://wilcogop.org/event/east-williamson-county-republicans-monthly-meeting/2029-08-16/
LOCATION:Sirloin Stockade – Taylor\, 3607 N Main St\, Taylor\, TX\, 76574\, United States
END:VEVENT
BEGIN:VEVENT
DTSTART;TZID=America/Chicago:20290920T183000
DTEND;TZID=America/Chicago:20290920T203000
DTSTAMP:20260420T125622
CREATED:20260415T132359Z
LAST-MODIFIED:20260415T132422Z
UID:10001107-1884623400-1884630600@wilcogop.org
SUMMARY:East Williamson County Republicans Monthly Meeting
DESCRIPTION:
URL:https://wilcogop.org/event/east-williamson-county-republicans-monthly-meeting/2029-09-20/
LOCATION:Sirloin Stockade – Taylor\, 3607 N Main St\, Taylor\, TX\, 76574\, United States
END:VEVENT
BEGIN:VEVENT
DTSTART;TZID=America/Chicago:20291018T183000
DTEND;TZID=America/Chicago:20291018T203000
DTSTAMP:20260420T125622
CREATED:20260415T132359Z
LAST-MODIFIED:20260415T132422Z
UID:10001108-1887042600-1887049800@wilcogop.org
SUMMARY:East Williamson County Republicans Monthly Meeting
DESCRIPTION:
URL:https://wilcogop.org/event/east-williamson-county-republicans-monthly-meeting/2029-10-18/
LOCATION:Sirloin Stockade – Taylor\, 3607 N Main St\, Taylor\, TX\, 76574\, United States
END:VEVENT
BEGIN:VEVENT
DTSTART;TZID=America/Chicago:20291115T183000
DTEND;TZID=America/Chicago:20291115T203000
DTSTAMP:20260420T125622
CREATED:20260415T132359Z
LAST-MODIFIED:20260415T132422Z
UID:10001109-1889461800-1889469000@wilcogop.org
SUMMARY:East Williamson County Republicans Monthly Meeting
DESCRIPTION:
URL:https://wilcogop.org/event/east-williamson-county-republicans-monthly-meeting/2029-11-15/
LOCATION:Sirloin Stockade – Taylor\, 3607 N Main St\, Taylor\, TX\, 76574\, United States
END:VEVENT
BEGIN:VEVENT
DTSTART;TZID=America/Chicago:20291220T183000
DTEND;TZID=America/Chicago:20291220T203000
DTSTAMP:20260420T125622
CREATED:20260415T132359Z
LAST-MODIFIED:20260415T132422Z
UID:10001110-1892485800-1892493000@wilcogop.org
SUMMARY:East Williamson County Republicans Monthly Meeting
DESCRIPTION:
URL:https://wilcogop.org/event/east-williamson-county-republicans-monthly-meeting/2029-12-20/
LOCATION:Sirloin Stockade – Taylor\, 3607 N Main St\, Taylor\, TX\, 76574\, United States
END:VEVENT
BEGIN:VEVENT
DTSTART;TZID=America/Chicago:20300117T183000
DTEND;TZID=America/Chicago:20300117T203000
DTSTAMP:20260420T125622
CREATED:20260415T132359Z
LAST-MODIFIED:20260415T132422Z
UID:10001111-1894905000-1894912200@wilcogop.org
SUMMARY:East Williamson County Republicans Monthly Meeting
DESCRIPTION:
URL:https://wilcogop.org/event/east-williamson-county-republicans-monthly-meeting/2030-01-17/
LOCATION:Sirloin Stockade – Taylor\, 3607 N Main St\, Taylor\, TX\, 76574\, United States
END:VEVENT
BEGIN:VEVENT
DTSTART;TZID=America/Chicago:20300221T183000
DTEND;TZID=America/Chicago:20300221T203000
DTSTAMP:20260420T125622
CREATED:20260415T132359Z
LAST-MODIFIED:20260415T132422Z
UID:10001112-1897929000-1897936200@wilcogop.org
SUMMARY:East Williamson County Republicans Monthly Meeting
DESCRIPTION:
URL:https://wilcogop.org/event/east-williamson-county-republicans-monthly-meeting/2030-02-21/
LOCATION:Sirloin Stockade – Taylor\, 3607 N Main St\, Taylor\, TX\, 76574\, United States
END:VEVENT
BEGIN:VEVENT
DTSTART;TZID=America/Chicago:20300321T183000
DTEND;TZID=America/Chicago:20300321T203000
DTSTAMP:20260420T125622
CREATED:20260415T132359Z
LAST-MODIFIED:20260415T132422Z
UID:10001113-1900348200-1900355400@wilcogop.org
SUMMARY:East Williamson County Republicans Monthly Meeting
DESCRIPTION:
URL:https://wilcogop.org/event/east-williamson-county-republicans-monthly-meeting/2030-03-21/
LOCATION:Sirloin Stockade – Taylor\, 3607 N Main St\, Taylor\, TX\, 76574\, United States
END:VEVENT
BEGIN:VEVENT
DTSTART;TZID=America/Chicago:20300418T183000
DTEND;TZID=America/Chicago:20300418T203000
DTSTAMP:20260420T125622
CREATED:20260415T132359Z
LAST-MODIFIED:20260415T132422Z
UID:10001114-1902767400-1902774600@wilcogop.org
SUMMARY:East Williamson County Republicans Monthly Meeting
DESCRIPTION:
URL:https://wilcogop.org/event/east-williamson-county-republicans-monthly-meeting/2030-04-18/
LOCATION:Sirloin Stockade – Taylor\, 3607 N Main St\, Taylor\, TX\, 76574\, United States
END:VEVENT
BEGIN:VEVENT
DTSTART;TZID=America/Chicago:20300516T183000
DTEND;TZID=America/Chicago:20300516T203000
DTSTAMP:20260420T125622
CREATED:20260415T132359Z
LAST-MODIFIED:20260415T132422Z
UID:10001115-1905186600-1905193800@wilcogop.org
SUMMARY:East Williamson County Republicans Monthly Meeting
DESCRIPTION:
URL:https://wilcogop.org/event/east-williamson-county-republicans-monthly-meeting/2030-05-16/
LOCATION:Sirloin Stockade – Taylor\, 3607 N Main St\, Taylor\, TX\, 76574\, United States
END:VEVENT
BEGIN:VEVENT
DTSTART;TZID=America/Chicago:20300620T183000
DTEND;TZID=America/Chicago:20300620T203000
DTSTAMP:20260420T125622
CREATED:20260415T132359Z
LAST-MODIFIED:20260415T132422Z
UID:10001116-1908210600-1908217800@wilcogop.org
SUMMARY:East Williamson County Republicans Monthly Meeting
DESCRIPTION:
URL:https://wilcogop.org/event/east-williamson-county-republicans-monthly-meeting/2030-06-20/
LOCATION:Sirloin Stockade – Taylor\, 3607 N Main St\, Taylor\, TX\, 76574\, United States
END:VEVENT
END:VCALENDAR