BEGIN:VCALENDAR
VERSION:2.0
PRODID:-//Williamson County Republican Party - ECPv6.15.20//NONSGML v1.0//EN
CALSCALE:GREGORIAN
METHOD:PUBLISH
X-WR-CALNAME:Williamson County Republican Party
X-ORIGINAL-URL:https://wilcogop.org
X-WR-CALDESC:Events for Williamson County Republican Party
REFRESH-INTERVAL;VALUE=DURATION:PT1H
X-Robots-Tag:noindex
X-PUBLISHED-TTL:PT1H
BEGIN:VTIMEZONE
TZID:America/New_York
BEGIN:DAYLIGHT
TZOFFSETFROM:-0500
TZOFFSETTO:-0400
TZNAME:EDT
DTSTART:20230312T070000
END:DAYLIGHT
BEGIN:STANDARD
TZOFFSETFROM:-0400
TZOFFSETTO:-0500
TZNAME:EST
DTSTART:20231105T060000
END:STANDARD
BEGIN:DAYLIGHT
TZOFFSETFROM:-0500
TZOFFSETTO:-0400
TZNAME:EDT
DTSTART:20240310T070000
END:DAYLIGHT
BEGIN:STANDARD
TZOFFSETFROM:-0400
TZOFFSETTO:-0500
TZNAME:EST
DTSTART:20241103T060000
END:STANDARD
BEGIN:DAYLIGHT
TZOFFSETFROM:-0500
TZOFFSETTO:-0400
TZNAME:EDT
DTSTART:20250309T070000
END:DAYLIGHT
BEGIN:STANDARD
TZOFFSETFROM:-0400
TZOFFSETTO:-0500
TZNAME:EST
DTSTART:20251102T060000
END:STANDARD
END:VTIMEZONE
BEGIN:VEVENT
DTSTART;TZID=America/New_York:20241205T180000
DTEND;TZID=America/New_York:20241205T200000
DTSTAMP:20260421T091848
CREATED:20241118T175103Z
LAST-MODIFIED:20241118T175103Z
UID:10000685-1733421600-1733428800@wilcogop.org
SUMMARY:Wilco GOP Christmas Party
DESCRIPTION:Gather with fellow Republicans for food and fellowship!\nThe GOP will provide the main dish\, so please bring a side dish and/or dessert to share.\nWe will be collecting blankets and coats (new\, unused) to donate.\nWe also will need tables and chairs for the event\, so if you are able to loan us one or both\, or if you have additional questions\, please email VICECHAIR@WILCOGOP.ORG
URL:https://wilcogop.org/event/wilco-gop-christmas-party/
LOCATION:Jett Ranches\, 4001 County Road 233\, Florence\, TX\, United States
END:VEVENT
BEGIN:VEVENT
DTSTART;TZID=America/New_York:20240925T180000
DTEND;TZID=America/New_York:20240925T200000
DTSTAMP:20260421T091848
CREATED:20240828T171641Z
LAST-MODIFIED:20240828T171738Z
UID:10000668-1727287200-1727294400@wilcogop.org
SUMMARY:Candidate Meet and Greet
DESCRIPTION:Current Confirmed Candidates:\nDavid Schenck\, Presiding Judge\, Court of Criminal Appeals\nGina Parker\, Judge\, Court of Criminal Appeals\, Place 7\nJohn Messinger\, Justice\, 3rd Court of Appeals\, Place 2\nTom Maynard\, Member\, SBOE\, District 10\nWill Ward\, County Court at Law\, No. 5\nDee Hobbs\, County Attorney\nMatt Lindemann\, County Sheriff\nJeff Anderson\, County Constable\, Pct 2\nKevin Wilkie\, County Constable\, Pct 3\nDonna King\, 26th District Judge\nRyan Larson\, 395th District Judge
URL:https://wilcogop.org/event/candidate-meet-and-greet/
LOCATION:Jett Ranches\, 4001 County Road 233\, Florence\, TX\, United States
CATEGORIES:Event
END:VEVENT
END:VCALENDAR