BEGIN:VCALENDAR
VERSION:2.0
PRODID:-//Williamson County Republican Party - ECPv6.15.20//NONSGML v1.0//EN
CALSCALE:GREGORIAN
METHOD:PUBLISH
X-ORIGINAL-URL:https://wilcogop.org
X-WR-CALDESC:Events for Williamson County Republican Party
REFRESH-INTERVAL;VALUE=DURATION:PT1H
X-Robots-Tag:noindex
X-PUBLISHED-TTL:PT1H
BEGIN:VTIMEZONE
TZID:America/Chicago
BEGIN:DAYLIGHT
TZOFFSETFROM:-0600
TZOFFSETTO:-0500
TZNAME:CDT
DTSTART:20260308T080000
END:DAYLIGHT
BEGIN:STANDARD
TZOFFSETFROM:-0500
TZOFFSETTO:-0600
TZNAME:CST
DTSTART:20261101T070000
END:STANDARD
BEGIN:DAYLIGHT
TZOFFSETFROM:-0600
TZOFFSETTO:-0500
TZNAME:CDT
DTSTART:20270314T080000
END:DAYLIGHT
BEGIN:STANDARD
TZOFFSETFROM:-0500
TZOFFSETTO:-0600
TZNAME:CST
DTSTART:20271107T070000
END:STANDARD
BEGIN:DAYLIGHT
TZOFFSETFROM:-0600
TZOFFSETTO:-0500
TZNAME:CDT
DTSTART:20280312T080000
END:DAYLIGHT
BEGIN:STANDARD
TZOFFSETFROM:-0500
TZOFFSETTO:-0600
TZNAME:CST
DTSTART:20281105T070000
END:STANDARD
BEGIN:DAYLIGHT
TZOFFSETFROM:-0600
TZOFFSETTO:-0500
TZNAME:CDT
DTSTART:20290311T080000
END:DAYLIGHT
BEGIN:STANDARD
TZOFFSETFROM:-0500
TZOFFSETTO:-0600
TZNAME:CST
DTSTART:20291104T070000
END:STANDARD
BEGIN:DAYLIGHT
TZOFFSETFROM:-0600
TZOFFSETTO:-0500
TZNAME:CDT
DTSTART:20300310T080000
END:DAYLIGHT
BEGIN:STANDARD
TZOFFSETFROM:-0500
TZOFFSETTO:-0600
TZNAME:CST
DTSTART:20301103T070000
END:STANDARD
END:VTIMEZONE
BEGIN:VEVENT
DTSTART;TZID=America/Chicago:20270315T120000
DTEND;TZID=America/Chicago:20270315T133000
DTSTAMP:20260421T045524
CREATED:20260415T132216Z
LAST-MODIFIED:20260415T132216Z
UID:10001017-1805112000-1805117400@wilcogop.org
SUMMARY:Liberty Hill Republican Women Monthly Meeting
DESCRIPTION:
URL:https://wilcogop.org/event/liberty-hill-republican-women-monthly-meeting/2027-03-15/
LOCATION:Jardin Corona 15395 W State Highway 29 Liberty Hill\, 15395 W State Highway 29\, Liberty Hill\, 78642\, United States
END:VEVENT
BEGIN:VEVENT
DTSTART;TZID=America/Chicago:20270419T120000
DTEND;TZID=America/Chicago:20270419T133000
DTSTAMP:20260421T045524
CREATED:20260415T132216Z
LAST-MODIFIED:20260415T132216Z
UID:10001018-1808136000-1808141400@wilcogop.org
SUMMARY:Liberty Hill Republican Women Monthly Meeting
DESCRIPTION:
URL:https://wilcogop.org/event/liberty-hill-republican-women-monthly-meeting/2027-04-19/
LOCATION:Jardin Corona 15395 W State Highway 29 Liberty Hill\, 15395 W State Highway 29\, Liberty Hill\, 78642\, United States
END:VEVENT
BEGIN:VEVENT
DTSTART;TZID=America/Chicago:20270517T120000
DTEND;TZID=America/Chicago:20270517T133000
DTSTAMP:20260421T045524
CREATED:20260415T132216Z
LAST-MODIFIED:20260415T132216Z
UID:10001019-1810555200-1810560600@wilcogop.org
SUMMARY:Liberty Hill Republican Women Monthly Meeting
DESCRIPTION:
URL:https://wilcogop.org/event/liberty-hill-republican-women-monthly-meeting/2027-05-17/
LOCATION:Jardin Corona 15395 W State Highway 29 Liberty Hill\, 15395 W State Highway 29\, Liberty Hill\, 78642\, United States
END:VEVENT
BEGIN:VEVENT
DTSTART;TZID=America/Chicago:20270621T120000
DTEND;TZID=America/Chicago:20270621T133000
DTSTAMP:20260421T045524
CREATED:20260415T132216Z
LAST-MODIFIED:20260415T132216Z
UID:10001020-1813579200-1813584600@wilcogop.org
SUMMARY:Liberty Hill Republican Women Monthly Meeting
DESCRIPTION:
URL:https://wilcogop.org/event/liberty-hill-republican-women-monthly-meeting/2027-06-21/
LOCATION:Jardin Corona 15395 W State Highway 29 Liberty Hill\, 15395 W State Highway 29\, Liberty Hill\, 78642\, United States
END:VEVENT
BEGIN:VEVENT
DTSTART;TZID=America/Chicago:20270719T120000
DTEND;TZID=America/Chicago:20270719T133000
DTSTAMP:20260421T045524
CREATED:20260415T132216Z
LAST-MODIFIED:20260415T132216Z
UID:10001021-1815998400-1816003800@wilcogop.org
SUMMARY:Liberty Hill Republican Women Monthly Meeting
DESCRIPTION:
URL:https://wilcogop.org/event/liberty-hill-republican-women-monthly-meeting/2027-07-19/
LOCATION:Jardin Corona 15395 W State Highway 29 Liberty Hill\, 15395 W State Highway 29\, Liberty Hill\, 78642\, United States
END:VEVENT
BEGIN:VEVENT
DTSTART;TZID=America/Chicago:20270816T120000
DTEND;TZID=America/Chicago:20270816T133000
DTSTAMP:20260421T045524
CREATED:20260415T132216Z
LAST-MODIFIED:20260415T132216Z
UID:10001022-1818417600-1818423000@wilcogop.org
SUMMARY:Liberty Hill Republican Women Monthly Meeting
DESCRIPTION:
URL:https://wilcogop.org/event/liberty-hill-republican-women-monthly-meeting/2027-08-16/
LOCATION:Jardin Corona 15395 W State Highway 29 Liberty Hill\, 15395 W State Highway 29\, Liberty Hill\, 78642\, United States
END:VEVENT
BEGIN:VEVENT
DTSTART;TZID=America/Chicago:20270920T120000
DTEND;TZID=America/Chicago:20270920T133000
DTSTAMP:20260421T045524
CREATED:20260415T132216Z
LAST-MODIFIED:20260415T132216Z
UID:10001023-1821441600-1821447000@wilcogop.org
SUMMARY:Liberty Hill Republican Women Monthly Meeting
DESCRIPTION:
URL:https://wilcogop.org/event/liberty-hill-republican-women-monthly-meeting/2027-09-20/
LOCATION:Jardin Corona 15395 W State Highway 29 Liberty Hill\, 15395 W State Highway 29\, Liberty Hill\, 78642\, United States
END:VEVENT
BEGIN:VEVENT
DTSTART;TZID=America/Chicago:20271018T120000
DTEND;TZID=America/Chicago:20271018T133000
DTSTAMP:20260421T045524
CREATED:20260415T132216Z
LAST-MODIFIED:20260415T132216Z
UID:10001024-1823860800-1823866200@wilcogop.org
SUMMARY:Liberty Hill Republican Women Monthly Meeting
DESCRIPTION:
URL:https://wilcogop.org/event/liberty-hill-republican-women-monthly-meeting/2027-10-18/
LOCATION:Jardin Corona 15395 W State Highway 29 Liberty Hill\, 15395 W State Highway 29\, Liberty Hill\, 78642\, United States
END:VEVENT
BEGIN:VEVENT
DTSTART;TZID=America/Chicago:20271115T120000
DTEND;TZID=America/Chicago:20271115T133000
DTSTAMP:20260421T045524
CREATED:20260415T132216Z
LAST-MODIFIED:20260415T132216Z
UID:10001025-1826280000-1826285400@wilcogop.org
SUMMARY:Liberty Hill Republican Women Monthly Meeting
DESCRIPTION:
URL:https://wilcogop.org/event/liberty-hill-republican-women-monthly-meeting/2027-11-15/
LOCATION:Jardin Corona 15395 W State Highway 29 Liberty Hill\, 15395 W State Highway 29\, Liberty Hill\, 78642\, United States
END:VEVENT
BEGIN:VEVENT
DTSTART;TZID=America/Chicago:20271220T120000
DTEND;TZID=America/Chicago:20271220T133000
DTSTAMP:20260421T045524
CREATED:20260415T132216Z
LAST-MODIFIED:20260415T132216Z
UID:10001026-1829304000-1829309400@wilcogop.org
SUMMARY:Liberty Hill Republican Women Monthly Meeting
DESCRIPTION:
URL:https://wilcogop.org/event/liberty-hill-republican-women-monthly-meeting/2027-12-20/
LOCATION:Jardin Corona 15395 W State Highway 29 Liberty Hill\, 15395 W State Highway 29\, Liberty Hill\, 78642\, United States
END:VEVENT
BEGIN:VEVENT
DTSTART;TZID=America/Chicago:20280117T120000
DTEND;TZID=America/Chicago:20280117T133000
DTSTAMP:20260421T045524
CREATED:20260415T132216Z
LAST-MODIFIED:20260415T132216Z
UID:10001027-1831723200-1831728600@wilcogop.org
SUMMARY:Liberty Hill Republican Women Monthly Meeting
DESCRIPTION:
URL:https://wilcogop.org/event/liberty-hill-republican-women-monthly-meeting/2028-01-17/
LOCATION:Jardin Corona 15395 W State Highway 29 Liberty Hill\, 15395 W State Highway 29\, Liberty Hill\, 78642\, United States
END:VEVENT
BEGIN:VEVENT
DTSTART;TZID=America/Chicago:20280221T120000
DTEND;TZID=America/Chicago:20280221T133000
DTSTAMP:20260421T045524
CREATED:20260415T132216Z
LAST-MODIFIED:20260415T132216Z
UID:10001028-1834747200-1834752600@wilcogop.org
SUMMARY:Liberty Hill Republican Women Monthly Meeting
DESCRIPTION:
URL:https://wilcogop.org/event/liberty-hill-republican-women-monthly-meeting/2028-02-21/
LOCATION:Jardin Corona 15395 W State Highway 29 Liberty Hill\, 15395 W State Highway 29\, Liberty Hill\, 78642\, United States
END:VEVENT
BEGIN:VEVENT
DTSTART;TZID=America/Chicago:20280320T120000
DTEND;TZID=America/Chicago:20280320T133000
DTSTAMP:20260421T045524
CREATED:20260415T132216Z
LAST-MODIFIED:20260415T132216Z
UID:10001029-1837166400-1837171800@wilcogop.org
SUMMARY:Liberty Hill Republican Women Monthly Meeting
DESCRIPTION:
URL:https://wilcogop.org/event/liberty-hill-republican-women-monthly-meeting/2028-03-20/
LOCATION:Jardin Corona 15395 W State Highway 29 Liberty Hill\, 15395 W State Highway 29\, Liberty Hill\, 78642\, United States
END:VEVENT
BEGIN:VEVENT
DTSTART;TZID=America/Chicago:20280417T120000
DTEND;TZID=America/Chicago:20280417T133000
DTSTAMP:20260421T045524
CREATED:20260415T132216Z
LAST-MODIFIED:20260415T132216Z
UID:10001030-1839585600-1839591000@wilcogop.org
SUMMARY:Liberty Hill Republican Women Monthly Meeting
DESCRIPTION:
URL:https://wilcogop.org/event/liberty-hill-republican-women-monthly-meeting/2028-04-17/
LOCATION:Jardin Corona 15395 W State Highway 29 Liberty Hill\, 15395 W State Highway 29\, Liberty Hill\, 78642\, United States
END:VEVENT
BEGIN:VEVENT
DTSTART;TZID=America/Chicago:20280515T120000
DTEND;TZID=America/Chicago:20280515T133000
DTSTAMP:20260421T045524
CREATED:20260415T132216Z
LAST-MODIFIED:20260415T132216Z
UID:10001031-1842004800-1842010200@wilcogop.org
SUMMARY:Liberty Hill Republican Women Monthly Meeting
DESCRIPTION:
URL:https://wilcogop.org/event/liberty-hill-republican-women-monthly-meeting/2028-05-15/
LOCATION:Jardin Corona 15395 W State Highway 29 Liberty Hill\, 15395 W State Highway 29\, Liberty Hill\, 78642\, United States
END:VEVENT
BEGIN:VEVENT
DTSTART;TZID=America/Chicago:20280619T120000
DTEND;TZID=America/Chicago:20280619T133000
DTSTAMP:20260421T045524
CREATED:20260415T132216Z
LAST-MODIFIED:20260415T132216Z
UID:10001032-1845028800-1845034200@wilcogop.org
SUMMARY:Liberty Hill Republican Women Monthly Meeting
DESCRIPTION:
URL:https://wilcogop.org/event/liberty-hill-republican-women-monthly-meeting/2028-06-19/
LOCATION:Jardin Corona 15395 W State Highway 29 Liberty Hill\, 15395 W State Highway 29\, Liberty Hill\, 78642\, United States
END:VEVENT
BEGIN:VEVENT
DTSTART;TZID=America/Chicago:20280717T120000
DTEND;TZID=America/Chicago:20280717T133000
DTSTAMP:20260421T045524
CREATED:20260415T132216Z
LAST-MODIFIED:20260415T132216Z
UID:10001033-1847448000-1847453400@wilcogop.org
SUMMARY:Liberty Hill Republican Women Monthly Meeting
DESCRIPTION:
URL:https://wilcogop.org/event/liberty-hill-republican-women-monthly-meeting/2028-07-17/
LOCATION:Jardin Corona 15395 W State Highway 29 Liberty Hill\, 15395 W State Highway 29\, Liberty Hill\, 78642\, United States
END:VEVENT
BEGIN:VEVENT
DTSTART;TZID=America/Chicago:20280821T120000
DTEND;TZID=America/Chicago:20280821T133000
DTSTAMP:20260421T045524
CREATED:20260415T132216Z
LAST-MODIFIED:20260415T132216Z
UID:10001034-1850472000-1850477400@wilcogop.org
SUMMARY:Liberty Hill Republican Women Monthly Meeting
DESCRIPTION:
URL:https://wilcogop.org/event/liberty-hill-republican-women-monthly-meeting/2028-08-21/
LOCATION:Jardin Corona 15395 W State Highway 29 Liberty Hill\, 15395 W State Highway 29\, Liberty Hill\, 78642\, United States
END:VEVENT
BEGIN:VEVENT
DTSTART;TZID=America/Chicago:20280918T120000
DTEND;TZID=America/Chicago:20280918T133000
DTSTAMP:20260421T045524
CREATED:20260415T132216Z
LAST-MODIFIED:20260415T132216Z
UID:10001035-1852891200-1852896600@wilcogop.org
SUMMARY:Liberty Hill Republican Women Monthly Meeting
DESCRIPTION:
URL:https://wilcogop.org/event/liberty-hill-republican-women-monthly-meeting/2028-09-18/
LOCATION:Jardin Corona 15395 W State Highway 29 Liberty Hill\, 15395 W State Highway 29\, Liberty Hill\, 78642\, United States
END:VEVENT
BEGIN:VEVENT
DTSTART;TZID=America/Chicago:20281016T120000
DTEND;TZID=America/Chicago:20281016T133000
DTSTAMP:20260421T045524
CREATED:20260415T132216Z
LAST-MODIFIED:20260415T132216Z
UID:10001036-1855310400-1855315800@wilcogop.org
SUMMARY:Liberty Hill Republican Women Monthly Meeting
DESCRIPTION:
URL:https://wilcogop.org/event/liberty-hill-republican-women-monthly-meeting/2028-10-16/
LOCATION:Jardin Corona 15395 W State Highway 29 Liberty Hill\, 15395 W State Highway 29\, Liberty Hill\, 78642\, United States
END:VEVENT
BEGIN:VEVENT
DTSTART;TZID=America/Chicago:20281120T120000
DTEND;TZID=America/Chicago:20281120T133000
DTSTAMP:20260421T045524
CREATED:20260415T132216Z
LAST-MODIFIED:20260415T132216Z
UID:10001037-1858334400-1858339800@wilcogop.org
SUMMARY:Liberty Hill Republican Women Monthly Meeting
DESCRIPTION:
URL:https://wilcogop.org/event/liberty-hill-republican-women-monthly-meeting/2028-11-20/
LOCATION:Jardin Corona 15395 W State Highway 29 Liberty Hill\, 15395 W State Highway 29\, Liberty Hill\, 78642\, United States
END:VEVENT
BEGIN:VEVENT
DTSTART;TZID=America/Chicago:20281218T120000
DTEND;TZID=America/Chicago:20281218T133000
DTSTAMP:20260421T045524
CREATED:20260415T132216Z
LAST-MODIFIED:20260415T132216Z
UID:10001038-1860753600-1860759000@wilcogop.org
SUMMARY:Liberty Hill Republican Women Monthly Meeting
DESCRIPTION:
URL:https://wilcogop.org/event/liberty-hill-republican-women-monthly-meeting/2028-12-18/
LOCATION:Jardin Corona 15395 W State Highway 29 Liberty Hill\, 15395 W State Highway 29\, Liberty Hill\, 78642\, United States
END:VEVENT
BEGIN:VEVENT
DTSTART;TZID=America/Chicago:20290115T120000
DTEND;TZID=America/Chicago:20290115T133000
DTSTAMP:20260421T045524
CREATED:20260415T132216Z
LAST-MODIFIED:20260415T132216Z
UID:10001039-1863172800-1863178200@wilcogop.org
SUMMARY:Liberty Hill Republican Women Monthly Meeting
DESCRIPTION:
URL:https://wilcogop.org/event/liberty-hill-republican-women-monthly-meeting/2029-01-15/
LOCATION:Jardin Corona 15395 W State Highway 29 Liberty Hill\, 15395 W State Highway 29\, Liberty Hill\, 78642\, United States
END:VEVENT
BEGIN:VEVENT
DTSTART;TZID=America/Chicago:20290219T120000
DTEND;TZID=America/Chicago:20290219T133000
DTSTAMP:20260421T045524
CREATED:20260415T132216Z
LAST-MODIFIED:20260415T132216Z
UID:10001040-1866196800-1866202200@wilcogop.org
SUMMARY:Liberty Hill Republican Women Monthly Meeting
DESCRIPTION:
URL:https://wilcogop.org/event/liberty-hill-republican-women-monthly-meeting/2029-02-19/
LOCATION:Jardin Corona 15395 W State Highway 29 Liberty Hill\, 15395 W State Highway 29\, Liberty Hill\, 78642\, United States
END:VEVENT
BEGIN:VEVENT
DTSTART;TZID=America/Chicago:20290319T120000
DTEND;TZID=America/Chicago:20290319T133000
DTSTAMP:20260421T045524
CREATED:20260415T132216Z
LAST-MODIFIED:20260415T132216Z
UID:10001041-1868616000-1868621400@wilcogop.org
SUMMARY:Liberty Hill Republican Women Monthly Meeting
DESCRIPTION:
URL:https://wilcogop.org/event/liberty-hill-republican-women-monthly-meeting/2029-03-19/
LOCATION:Jardin Corona 15395 W State Highway 29 Liberty Hill\, 15395 W State Highway 29\, Liberty Hill\, 78642\, United States
END:VEVENT
BEGIN:VEVENT
DTSTART;TZID=America/Chicago:20290416T120000
DTEND;TZID=America/Chicago:20290416T133000
DTSTAMP:20260421T045524
CREATED:20260415T132216Z
LAST-MODIFIED:20260415T132216Z
UID:10001042-1871035200-1871040600@wilcogop.org
SUMMARY:Liberty Hill Republican Women Monthly Meeting
DESCRIPTION:
URL:https://wilcogop.org/event/liberty-hill-republican-women-monthly-meeting/2029-04-16/
LOCATION:Jardin Corona 15395 W State Highway 29 Liberty Hill\, 15395 W State Highway 29\, Liberty Hill\, 78642\, United States
END:VEVENT
BEGIN:VEVENT
DTSTART;TZID=America/Chicago:20290521T120000
DTEND;TZID=America/Chicago:20290521T133000
DTSTAMP:20260421T045524
CREATED:20260415T132216Z
LAST-MODIFIED:20260415T132216Z
UID:10001043-1874059200-1874064600@wilcogop.org
SUMMARY:Liberty Hill Republican Women Monthly Meeting
DESCRIPTION:
URL:https://wilcogop.org/event/liberty-hill-republican-women-monthly-meeting/2029-05-21/
LOCATION:Jardin Corona 15395 W State Highway 29 Liberty Hill\, 15395 W State Highway 29\, Liberty Hill\, 78642\, United States
END:VEVENT
BEGIN:VEVENT
DTSTART;TZID=America/Chicago:20290618T120000
DTEND;TZID=America/Chicago:20290618T133000
DTSTAMP:20260421T045524
CREATED:20260415T132216Z
LAST-MODIFIED:20260415T132216Z
UID:10001044-1876478400-1876483800@wilcogop.org
SUMMARY:Liberty Hill Republican Women Monthly Meeting
DESCRIPTION:
URL:https://wilcogop.org/event/liberty-hill-republican-women-monthly-meeting/2029-06-18/
LOCATION:Jardin Corona 15395 W State Highway 29 Liberty Hill\, 15395 W State Highway 29\, Liberty Hill\, 78642\, United States
END:VEVENT
BEGIN:VEVENT
DTSTART;TZID=America/Chicago:20290716T120000
DTEND;TZID=America/Chicago:20290716T133000
DTSTAMP:20260421T045524
CREATED:20260415T132216Z
LAST-MODIFIED:20260415T132216Z
UID:10001045-1878897600-1878903000@wilcogop.org
SUMMARY:Liberty Hill Republican Women Monthly Meeting
DESCRIPTION:
URL:https://wilcogop.org/event/liberty-hill-republican-women-monthly-meeting/2029-07-16/
LOCATION:Jardin Corona 15395 W State Highway 29 Liberty Hill\, 15395 W State Highway 29\, Liberty Hill\, 78642\, United States
END:VEVENT
BEGIN:VEVENT
DTSTART;TZID=America/Chicago:20290820T120000
DTEND;TZID=America/Chicago:20290820T133000
DTSTAMP:20260421T045524
CREATED:20260415T132216Z
LAST-MODIFIED:20260415T132216Z
UID:10001046-1881921600-1881927000@wilcogop.org
SUMMARY:Liberty Hill Republican Women Monthly Meeting
DESCRIPTION:
URL:https://wilcogop.org/event/liberty-hill-republican-women-monthly-meeting/2029-08-20/
LOCATION:Jardin Corona 15395 W State Highway 29 Liberty Hill\, 15395 W State Highway 29\, Liberty Hill\, 78642\, United States
END:VEVENT
END:VCALENDAR