BEGIN:VCALENDAR
VERSION:2.0
PRODID:-//Williamson County Republican Party - ECPv6.15.20//NONSGML v1.0//EN
CALSCALE:GREGORIAN
METHOD:PUBLISH
X-ORIGINAL-URL:https://wilcogop.org
X-WR-CALDESC:Events for Williamson County Republican Party
REFRESH-INTERVAL;VALUE=DURATION:PT1H
X-Robots-Tag:noindex
X-PUBLISHED-TTL:PT1H
BEGIN:VTIMEZONE
TZID:America/Chicago
BEGIN:DAYLIGHT
TZOFFSETFROM:-0600
TZOFFSETTO:-0500
TZNAME:CDT
DTSTART:20260308T080000
END:DAYLIGHT
BEGIN:STANDARD
TZOFFSETFROM:-0500
TZOFFSETTO:-0600
TZNAME:CST
DTSTART:20261101T070000
END:STANDARD
BEGIN:DAYLIGHT
TZOFFSETFROM:-0600
TZOFFSETTO:-0500
TZNAME:CDT
DTSTART:20270314T080000
END:DAYLIGHT
BEGIN:STANDARD
TZOFFSETFROM:-0500
TZOFFSETTO:-0600
TZNAME:CST
DTSTART:20271107T070000
END:STANDARD
BEGIN:DAYLIGHT
TZOFFSETFROM:-0600
TZOFFSETTO:-0500
TZNAME:CDT
DTSTART:20280312T080000
END:DAYLIGHT
BEGIN:STANDARD
TZOFFSETFROM:-0500
TZOFFSETTO:-0600
TZNAME:CST
DTSTART:20281105T070000
END:STANDARD
BEGIN:DAYLIGHT
TZOFFSETFROM:-0600
TZOFFSETTO:-0500
TZNAME:CDT
DTSTART:20290311T080000
END:DAYLIGHT
BEGIN:STANDARD
TZOFFSETFROM:-0500
TZOFFSETTO:-0600
TZNAME:CST
DTSTART:20291104T070000
END:STANDARD
BEGIN:DAYLIGHT
TZOFFSETFROM:-0600
TZOFFSETTO:-0500
TZNAME:CDT
DTSTART:20300310T080000
END:DAYLIGHT
BEGIN:STANDARD
TZOFFSETFROM:-0500
TZOFFSETTO:-0600
TZNAME:CST
DTSTART:20301103T070000
END:STANDARD
END:VTIMEZONE
BEGIN:VEVENT
DTSTART;TZID=America/Chicago:20270318T110000
DTEND;TZID=America/Chicago:20270318T130000
DTSTAMP:20260420T112638
CREATED:20260415T132524Z
LAST-MODIFIED:20260415T132524Z
UID:10001137-1805367600-1805374800@wilcogop.org
SUMMARY:Georgetown Area Republican Women
DESCRIPTION:
URL:https://wilcogop.org/event/georgetown-area-republican-women/2027-03-18/
LOCATION:Georgetown Chamber of Commerce\, 1 Chamber Way\, Georgetown\, TX\, 78626\, United States
ORGANIZER;CN="Georgetown Area Republican Women":MAILTO:garwpac@gmail.com
END:VEVENT
BEGIN:VEVENT
DTSTART;TZID=America/Chicago:20270415T110000
DTEND;TZID=America/Chicago:20270415T130000
DTSTAMP:20260420T112638
CREATED:20260415T132524Z
LAST-MODIFIED:20260415T132524Z
UID:10001138-1807786800-1807794000@wilcogop.org
SUMMARY:Georgetown Area Republican Women
DESCRIPTION:
URL:https://wilcogop.org/event/georgetown-area-republican-women/2027-04-15/
LOCATION:Georgetown Chamber of Commerce\, 1 Chamber Way\, Georgetown\, TX\, 78626\, United States
ORGANIZER;CN="Georgetown Area Republican Women":MAILTO:garwpac@gmail.com
END:VEVENT
BEGIN:VEVENT
DTSTART;TZID=America/Chicago:20270520T110000
DTEND;TZID=America/Chicago:20270520T130000
DTSTAMP:20260420T112638
CREATED:20260415T132524Z
LAST-MODIFIED:20260415T132524Z
UID:10001139-1810810800-1810818000@wilcogop.org
SUMMARY:Georgetown Area Republican Women
DESCRIPTION:
URL:https://wilcogop.org/event/georgetown-area-republican-women/2027-05-20/
LOCATION:Georgetown Chamber of Commerce\, 1 Chamber Way\, Georgetown\, TX\, 78626\, United States
ORGANIZER;CN="Georgetown Area Republican Women":MAILTO:garwpac@gmail.com
END:VEVENT
BEGIN:VEVENT
DTSTART;TZID=America/Chicago:20270617T110000
DTEND;TZID=America/Chicago:20270617T130000
DTSTAMP:20260420T112638
CREATED:20260415T132524Z
LAST-MODIFIED:20260415T132524Z
UID:10001140-1813230000-1813237200@wilcogop.org
SUMMARY:Georgetown Area Republican Women
DESCRIPTION:
URL:https://wilcogop.org/event/georgetown-area-republican-women/2027-06-17/
LOCATION:Georgetown Chamber of Commerce\, 1 Chamber Way\, Georgetown\, TX\, 78626\, United States
ORGANIZER;CN="Georgetown Area Republican Women":MAILTO:garwpac@gmail.com
END:VEVENT
BEGIN:VEVENT
DTSTART;TZID=America/Chicago:20270715T110000
DTEND;TZID=America/Chicago:20270715T130000
DTSTAMP:20260420T112638
CREATED:20260415T132524Z
LAST-MODIFIED:20260415T132524Z
UID:10001141-1815649200-1815656400@wilcogop.org
SUMMARY:Georgetown Area Republican Women
DESCRIPTION:
URL:https://wilcogop.org/event/georgetown-area-republican-women/2027-07-15/
LOCATION:Georgetown Chamber of Commerce\, 1 Chamber Way\, Georgetown\, TX\, 78626\, United States
ORGANIZER;CN="Georgetown Area Republican Women":MAILTO:garwpac@gmail.com
END:VEVENT
BEGIN:VEVENT
DTSTART;TZID=America/Chicago:20270819T110000
DTEND;TZID=America/Chicago:20270819T130000
DTSTAMP:20260420T112638
CREATED:20260415T132524Z
LAST-MODIFIED:20260415T132524Z
UID:10001142-1818673200-1818680400@wilcogop.org
SUMMARY:Georgetown Area Republican Women
DESCRIPTION:
URL:https://wilcogop.org/event/georgetown-area-republican-women/2027-08-19/
LOCATION:Georgetown Chamber of Commerce\, 1 Chamber Way\, Georgetown\, TX\, 78626\, United States
ORGANIZER;CN="Georgetown Area Republican Women":MAILTO:garwpac@gmail.com
END:VEVENT
BEGIN:VEVENT
DTSTART;TZID=America/Chicago:20270916T110000
DTEND;TZID=America/Chicago:20270916T130000
DTSTAMP:20260420T112638
CREATED:20260415T132524Z
LAST-MODIFIED:20260415T132524Z
UID:10001143-1821092400-1821099600@wilcogop.org
SUMMARY:Georgetown Area Republican Women
DESCRIPTION:
URL:https://wilcogop.org/event/georgetown-area-republican-women/2027-09-16/
LOCATION:Georgetown Chamber of Commerce\, 1 Chamber Way\, Georgetown\, TX\, 78626\, United States
ORGANIZER;CN="Georgetown Area Republican Women":MAILTO:garwpac@gmail.com
END:VEVENT
BEGIN:VEVENT
DTSTART;TZID=America/Chicago:20271021T110000
DTEND;TZID=America/Chicago:20271021T130000
DTSTAMP:20260420T112638
CREATED:20260415T132524Z
LAST-MODIFIED:20260415T132524Z
UID:10001144-1824116400-1824123600@wilcogop.org
SUMMARY:Georgetown Area Republican Women
DESCRIPTION:
URL:https://wilcogop.org/event/georgetown-area-republican-women/2027-10-21/
LOCATION:Georgetown Chamber of Commerce\, 1 Chamber Way\, Georgetown\, TX\, 78626\, United States
ORGANIZER;CN="Georgetown Area Republican Women":MAILTO:garwpac@gmail.com
END:VEVENT
BEGIN:VEVENT
DTSTART;TZID=America/Chicago:20271118T110000
DTEND;TZID=America/Chicago:20271118T130000
DTSTAMP:20260420T112638
CREATED:20260415T132524Z
LAST-MODIFIED:20260415T132524Z
UID:10001145-1826535600-1826542800@wilcogop.org
SUMMARY:Georgetown Area Republican Women
DESCRIPTION:
URL:https://wilcogop.org/event/georgetown-area-republican-women/2027-11-18/
LOCATION:Georgetown Chamber of Commerce\, 1 Chamber Way\, Georgetown\, TX\, 78626\, United States
ORGANIZER;CN="Georgetown Area Republican Women":MAILTO:garwpac@gmail.com
END:VEVENT
BEGIN:VEVENT
DTSTART;TZID=America/Chicago:20271216T110000
DTEND;TZID=America/Chicago:20271216T130000
DTSTAMP:20260420T112638
CREATED:20260415T132524Z
LAST-MODIFIED:20260415T132524Z
UID:10001146-1828954800-1828962000@wilcogop.org
SUMMARY:Georgetown Area Republican Women
DESCRIPTION:
URL:https://wilcogop.org/event/georgetown-area-republican-women/2027-12-16/
LOCATION:Georgetown Chamber of Commerce\, 1 Chamber Way\, Georgetown\, TX\, 78626\, United States
ORGANIZER;CN="Georgetown Area Republican Women":MAILTO:garwpac@gmail.com
END:VEVENT
BEGIN:VEVENT
DTSTART;TZID=America/Chicago:20280120T110000
DTEND;TZID=America/Chicago:20280120T130000
DTSTAMP:20260420T112638
CREATED:20260415T132524Z
LAST-MODIFIED:20260415T132524Z
UID:10001147-1831978800-1831986000@wilcogop.org
SUMMARY:Georgetown Area Republican Women
DESCRIPTION:
URL:https://wilcogop.org/event/georgetown-area-republican-women/2028-01-20/
LOCATION:Georgetown Chamber of Commerce\, 1 Chamber Way\, Georgetown\, TX\, 78626\, United States
ORGANIZER;CN="Georgetown Area Republican Women":MAILTO:garwpac@gmail.com
END:VEVENT
BEGIN:VEVENT
DTSTART;TZID=America/Chicago:20280217T110000
DTEND;TZID=America/Chicago:20280217T130000
DTSTAMP:20260420T112638
CREATED:20260415T132524Z
LAST-MODIFIED:20260415T132524Z
UID:10001148-1834398000-1834405200@wilcogop.org
SUMMARY:Georgetown Area Republican Women
DESCRIPTION:
URL:https://wilcogop.org/event/georgetown-area-republican-women/2028-02-17/
LOCATION:Georgetown Chamber of Commerce\, 1 Chamber Way\, Georgetown\, TX\, 78626\, United States
ORGANIZER;CN="Georgetown Area Republican Women":MAILTO:garwpac@gmail.com
END:VEVENT
BEGIN:VEVENT
DTSTART;TZID=America/Chicago:20280316T110000
DTEND;TZID=America/Chicago:20280316T130000
DTSTAMP:20260420T112638
CREATED:20260415T132524Z
LAST-MODIFIED:20260415T132524Z
UID:10001149-1836817200-1836824400@wilcogop.org
SUMMARY:Georgetown Area Republican Women
DESCRIPTION:
URL:https://wilcogop.org/event/georgetown-area-republican-women/2028-03-16/
LOCATION:Georgetown Chamber of Commerce\, 1 Chamber Way\, Georgetown\, TX\, 78626\, United States
ORGANIZER;CN="Georgetown Area Republican Women":MAILTO:garwpac@gmail.com
END:VEVENT
BEGIN:VEVENT
DTSTART;TZID=America/Chicago:20280420T110000
DTEND;TZID=America/Chicago:20280420T130000
DTSTAMP:20260420T112638
CREATED:20260415T132524Z
LAST-MODIFIED:20260415T132524Z
UID:10001150-1839841200-1839848400@wilcogop.org
SUMMARY:Georgetown Area Republican Women
DESCRIPTION:
URL:https://wilcogop.org/event/georgetown-area-republican-women/2028-04-20/
LOCATION:Georgetown Chamber of Commerce\, 1 Chamber Way\, Georgetown\, TX\, 78626\, United States
ORGANIZER;CN="Georgetown Area Republican Women":MAILTO:garwpac@gmail.com
END:VEVENT
BEGIN:VEVENT
DTSTART;TZID=America/Chicago:20280518T110000
DTEND;TZID=America/Chicago:20280518T130000
DTSTAMP:20260420T112638
CREATED:20260415T132524Z
LAST-MODIFIED:20260415T132524Z
UID:10001151-1842260400-1842267600@wilcogop.org
SUMMARY:Georgetown Area Republican Women
DESCRIPTION:
URL:https://wilcogop.org/event/georgetown-area-republican-women/2028-05-18/
LOCATION:Georgetown Chamber of Commerce\, 1 Chamber Way\, Georgetown\, TX\, 78626\, United States
ORGANIZER;CN="Georgetown Area Republican Women":MAILTO:garwpac@gmail.com
END:VEVENT
BEGIN:VEVENT
DTSTART;TZID=America/Chicago:20280615T110000
DTEND;TZID=America/Chicago:20280615T130000
DTSTAMP:20260420T112638
CREATED:20260415T132524Z
LAST-MODIFIED:20260415T132524Z
UID:10001152-1844679600-1844686800@wilcogop.org
SUMMARY:Georgetown Area Republican Women
DESCRIPTION:
URL:https://wilcogop.org/event/georgetown-area-republican-women/2028-06-15/
LOCATION:Georgetown Chamber of Commerce\, 1 Chamber Way\, Georgetown\, TX\, 78626\, United States
ORGANIZER;CN="Georgetown Area Republican Women":MAILTO:garwpac@gmail.com
END:VEVENT
BEGIN:VEVENT
DTSTART;TZID=America/Chicago:20280720T110000
DTEND;TZID=America/Chicago:20280720T130000
DTSTAMP:20260420T112638
CREATED:20260415T132524Z
LAST-MODIFIED:20260415T132524Z
UID:10001153-1847703600-1847710800@wilcogop.org
SUMMARY:Georgetown Area Republican Women
DESCRIPTION:
URL:https://wilcogop.org/event/georgetown-area-republican-women/2028-07-20/
LOCATION:Georgetown Chamber of Commerce\, 1 Chamber Way\, Georgetown\, TX\, 78626\, United States
ORGANIZER;CN="Georgetown Area Republican Women":MAILTO:garwpac@gmail.com
END:VEVENT
BEGIN:VEVENT
DTSTART;TZID=America/Chicago:20280817T110000
DTEND;TZID=America/Chicago:20280817T130000
DTSTAMP:20260420T112638
CREATED:20260415T132524Z
LAST-MODIFIED:20260415T132524Z
UID:10001154-1850122800-1850130000@wilcogop.org
SUMMARY:Georgetown Area Republican Women
DESCRIPTION:
URL:https://wilcogop.org/event/georgetown-area-republican-women/2028-08-17/
LOCATION:Georgetown Chamber of Commerce\, 1 Chamber Way\, Georgetown\, TX\, 78626\, United States
ORGANIZER;CN="Georgetown Area Republican Women":MAILTO:garwpac@gmail.com
END:VEVENT
BEGIN:VEVENT
DTSTART;TZID=America/Chicago:20280921T110000
DTEND;TZID=America/Chicago:20280921T130000
DTSTAMP:20260420T112638
CREATED:20260415T132524Z
LAST-MODIFIED:20260415T132524Z
UID:10001155-1853146800-1853154000@wilcogop.org
SUMMARY:Georgetown Area Republican Women
DESCRIPTION:
URL:https://wilcogop.org/event/georgetown-area-republican-women/2028-09-21/
LOCATION:Georgetown Chamber of Commerce\, 1 Chamber Way\, Georgetown\, TX\, 78626\, United States
ORGANIZER;CN="Georgetown Area Republican Women":MAILTO:garwpac@gmail.com
END:VEVENT
BEGIN:VEVENT
DTSTART;TZID=America/Chicago:20281019T110000
DTEND;TZID=America/Chicago:20281019T130000
DTSTAMP:20260420T112638
CREATED:20260415T132524Z
LAST-MODIFIED:20260415T132524Z
UID:10001156-1855566000-1855573200@wilcogop.org
SUMMARY:Georgetown Area Republican Women
DESCRIPTION:
URL:https://wilcogop.org/event/georgetown-area-republican-women/2028-10-19/
LOCATION:Georgetown Chamber of Commerce\, 1 Chamber Way\, Georgetown\, TX\, 78626\, United States
ORGANIZER;CN="Georgetown Area Republican Women":MAILTO:garwpac@gmail.com
END:VEVENT
BEGIN:VEVENT
DTSTART;TZID=America/Chicago:20281116T110000
DTEND;TZID=America/Chicago:20281116T130000
DTSTAMP:20260420T112638
CREATED:20260415T132524Z
LAST-MODIFIED:20260415T132524Z
UID:10001157-1857985200-1857992400@wilcogop.org
SUMMARY:Georgetown Area Republican Women
DESCRIPTION:
URL:https://wilcogop.org/event/georgetown-area-republican-women/2028-11-16/
LOCATION:Georgetown Chamber of Commerce\, 1 Chamber Way\, Georgetown\, TX\, 78626\, United States
ORGANIZER;CN="Georgetown Area Republican Women":MAILTO:garwpac@gmail.com
END:VEVENT
BEGIN:VEVENT
DTSTART;TZID=America/Chicago:20281221T110000
DTEND;TZID=America/Chicago:20281221T130000
DTSTAMP:20260420T112638
CREATED:20260415T132524Z
LAST-MODIFIED:20260415T132524Z
UID:10001158-1861009200-1861016400@wilcogop.org
SUMMARY:Georgetown Area Republican Women
DESCRIPTION:
URL:https://wilcogop.org/event/georgetown-area-republican-women/2028-12-21/
LOCATION:Georgetown Chamber of Commerce\, 1 Chamber Way\, Georgetown\, TX\, 78626\, United States
ORGANIZER;CN="Georgetown Area Republican Women":MAILTO:garwpac@gmail.com
END:VEVENT
BEGIN:VEVENT
DTSTART;TZID=America/Chicago:20290118T110000
DTEND;TZID=America/Chicago:20290118T130000
DTSTAMP:20260420T112638
CREATED:20260415T132524Z
LAST-MODIFIED:20260415T132524Z
UID:10001159-1863428400-1863435600@wilcogop.org
SUMMARY:Georgetown Area Republican Women
DESCRIPTION:
URL:https://wilcogop.org/event/georgetown-area-republican-women/2029-01-18/
LOCATION:Georgetown Chamber of Commerce\, 1 Chamber Way\, Georgetown\, TX\, 78626\, United States
ORGANIZER;CN="Georgetown Area Republican Women":MAILTO:garwpac@gmail.com
END:VEVENT
BEGIN:VEVENT
DTSTART;TZID=America/Chicago:20290215T110000
DTEND;TZID=America/Chicago:20290215T130000
DTSTAMP:20260420T112638
CREATED:20260415T132524Z
LAST-MODIFIED:20260415T132524Z
UID:10001160-1865847600-1865854800@wilcogop.org
SUMMARY:Georgetown Area Republican Women
DESCRIPTION:
URL:https://wilcogop.org/event/georgetown-area-republican-women/2029-02-15/
LOCATION:Georgetown Chamber of Commerce\, 1 Chamber Way\, Georgetown\, TX\, 78626\, United States
ORGANIZER;CN="Georgetown Area Republican Women":MAILTO:garwpac@gmail.com
END:VEVENT
BEGIN:VEVENT
DTSTART;TZID=America/Chicago:20290315T110000
DTEND;TZID=America/Chicago:20290315T130000
DTSTAMP:20260420T112638
CREATED:20260415T132524Z
LAST-MODIFIED:20260415T132524Z
UID:10001161-1868266800-1868274000@wilcogop.org
SUMMARY:Georgetown Area Republican Women
DESCRIPTION:
URL:https://wilcogop.org/event/georgetown-area-republican-women/2029-03-15/
LOCATION:Georgetown Chamber of Commerce\, 1 Chamber Way\, Georgetown\, TX\, 78626\, United States
ORGANIZER;CN="Georgetown Area Republican Women":MAILTO:garwpac@gmail.com
END:VEVENT
BEGIN:VEVENT
DTSTART;TZID=America/Chicago:20290419T110000
DTEND;TZID=America/Chicago:20290419T130000
DTSTAMP:20260420T112638
CREATED:20260415T132524Z
LAST-MODIFIED:20260415T132524Z
UID:10001162-1871290800-1871298000@wilcogop.org
SUMMARY:Georgetown Area Republican Women
DESCRIPTION:
URL:https://wilcogop.org/event/georgetown-area-republican-women/2029-04-19/
LOCATION:Georgetown Chamber of Commerce\, 1 Chamber Way\, Georgetown\, TX\, 78626\, United States
ORGANIZER;CN="Georgetown Area Republican Women":MAILTO:garwpac@gmail.com
END:VEVENT
BEGIN:VEVENT
DTSTART;TZID=America/Chicago:20290517T110000
DTEND;TZID=America/Chicago:20290517T130000
DTSTAMP:20260420T112638
CREATED:20260415T132524Z
LAST-MODIFIED:20260415T132524Z
UID:10001163-1873710000-1873717200@wilcogop.org
SUMMARY:Georgetown Area Republican Women
DESCRIPTION:
URL:https://wilcogop.org/event/georgetown-area-republican-women/2029-05-17/
LOCATION:Georgetown Chamber of Commerce\, 1 Chamber Way\, Georgetown\, TX\, 78626\, United States
ORGANIZER;CN="Georgetown Area Republican Women":MAILTO:garwpac@gmail.com
END:VEVENT
BEGIN:VEVENT
DTSTART;TZID=America/Chicago:20290621T110000
DTEND;TZID=America/Chicago:20290621T130000
DTSTAMP:20260420T112638
CREATED:20260415T132524Z
LAST-MODIFIED:20260415T132524Z
UID:10001164-1876734000-1876741200@wilcogop.org
SUMMARY:Georgetown Area Republican Women
DESCRIPTION:
URL:https://wilcogop.org/event/georgetown-area-republican-women/2029-06-21/
LOCATION:Georgetown Chamber of Commerce\, 1 Chamber Way\, Georgetown\, TX\, 78626\, United States
ORGANIZER;CN="Georgetown Area Republican Women":MAILTO:garwpac@gmail.com
END:VEVENT
BEGIN:VEVENT
DTSTART;TZID=America/Chicago:20290719T110000
DTEND;TZID=America/Chicago:20290719T130000
DTSTAMP:20260420T112638
CREATED:20260415T132524Z
LAST-MODIFIED:20260415T132524Z
UID:10001165-1879153200-1879160400@wilcogop.org
SUMMARY:Georgetown Area Republican Women
DESCRIPTION:
URL:https://wilcogop.org/event/georgetown-area-republican-women/2029-07-19/
LOCATION:Georgetown Chamber of Commerce\, 1 Chamber Way\, Georgetown\, TX\, 78626\, United States
ORGANIZER;CN="Georgetown Area Republican Women":MAILTO:garwpac@gmail.com
END:VEVENT
BEGIN:VEVENT
DTSTART;TZID=America/Chicago:20290816T110000
DTEND;TZID=America/Chicago:20290816T130000
DTSTAMP:20260420T112638
CREATED:20260415T132524Z
LAST-MODIFIED:20260415T132524Z
UID:10001166-1881572400-1881579600@wilcogop.org
SUMMARY:Georgetown Area Republican Women
DESCRIPTION:
URL:https://wilcogop.org/event/georgetown-area-republican-women/2029-08-16/
LOCATION:Georgetown Chamber of Commerce\, 1 Chamber Way\, Georgetown\, TX\, 78626\, United States
ORGANIZER;CN="Georgetown Area Republican Women":MAILTO:garwpac@gmail.com
END:VEVENT
END:VCALENDAR