BEGIN:VCALENDAR
VERSION:2.0
PRODID:-//Williamson County Republican Party - ECPv6.15.20//NONSGML v1.0//EN
CALSCALE:GREGORIAN
METHOD:PUBLISH
X-ORIGINAL-URL:https://wilcogop.org
X-WR-CALDESC:Events for Williamson County Republican Party
REFRESH-INTERVAL;VALUE=DURATION:PT1H
X-Robots-Tag:noindex
X-PUBLISHED-TTL:PT1H
BEGIN:VTIMEZONE
TZID:America/New_York
BEGIN:DAYLIGHT
TZOFFSETFROM:-0500
TZOFFSETTO:-0400
TZNAME:EDT
DTSTART:20230312T070000
END:DAYLIGHT
BEGIN:STANDARD
TZOFFSETFROM:-0400
TZOFFSETTO:-0500
TZNAME:EST
DTSTART:20231105T060000
END:STANDARD
BEGIN:DAYLIGHT
TZOFFSETFROM:-0500
TZOFFSETTO:-0400
TZNAME:EDT
DTSTART:20240310T070000
END:DAYLIGHT
BEGIN:STANDARD
TZOFFSETFROM:-0400
TZOFFSETTO:-0500
TZNAME:EST
DTSTART:20241103T060000
END:STANDARD
BEGIN:DAYLIGHT
TZOFFSETFROM:-0500
TZOFFSETTO:-0400
TZNAME:EDT
DTSTART:20250309T070000
END:DAYLIGHT
BEGIN:STANDARD
TZOFFSETFROM:-0400
TZOFFSETTO:-0500
TZNAME:EST
DTSTART:20251102T060000
END:STANDARD
END:VTIMEZONE
BEGIN:VEVENT
DTSTART;TZID=America/New_York:20240910T193000
DTEND;TZID=America/New_York:20240910T220000
DTSTAMP:20260424T103914
CREATED:20240816T231105Z
LAST-MODIFIED:20240819T025934Z
UID:10000080-1725996600-1726005600@wilcogop.org
SUMMARY:Debate Watch Party
DESCRIPTION:
URL:https://wilcogop.org/event/wilco-gop-viewing-party/
LOCATION:Flix Brewhouse\, 2200 S I-35 Frontage Rd B1\, Round Rock\, TX\, 78681\, United States
CATEGORIES:Event
END:VEVENT
BEGIN:VEVENT
DTSTART;TZID=America/New_York:20240824T170000
DTEND;TZID=America/New_York:20240824T170000
DTSTAMP:20260424T103914
CREATED:20240713T195904Z
LAST-MODIFIED:20240713T204053Z
UID:10000004-1724518800-1724518800@wilcogop.org
SUMMARY:Reagan Movie Screening Benefitting the Wilco GOP
DESCRIPTION:Join the Williamson County Republican Party for a private sneak preview of “Reagan”\, starring Dennis Quaid and Jon Voight. \nWe will serve unlimited popcorn and sodas\, but Flix Brewhouse also offers an extensive menu\, including beer and wine. \nSingle tickets: $40 \nCouples: $75 \nSponsorships: \nBronze – Name on screen $150 \nSilver – Name on screen and priority seating $500 \nGold – Name on screen\, priority seating\, two drink tickets and a social media shout-out $1000 \n			\n				Get Tickets
URL:https://wilcogop.org/event/reagan-movie-screening-benefitting-the-wilco-gop/
LOCATION:Flix Brewhouse\, 2200 S I-35 Frontage Rd B1\, Round Rock\, TX\, 78681\, United States
CATEGORIES:Movie
ATTACH;FMTTYPE=image/png:https://wilcogop.org/wp-content/uploads/2024/07/3189abdb-674a-4b84-81d4-7acc925af770_resize.png
END:VEVENT
END:VCALENDAR