BEGIN:VCALENDAR
VERSION:2.0
PRODID:-//Williamson County Republican Party - ECPv6.15.20//NONSGML v1.0//EN
CALSCALE:GREGORIAN
METHOD:PUBLISH
X-WR-CALNAME:Williamson County Republican Party
X-ORIGINAL-URL:https://wilcogop.org
X-WR-CALDESC:Events for Williamson County Republican Party
REFRESH-INTERVAL;VALUE=DURATION:PT1H
X-Robots-Tag:noindex
X-PUBLISHED-TTL:PT1H
BEGIN:VTIMEZONE
TZID:America/Chicago
BEGIN:DAYLIGHT
TZOFFSETFROM:-0600
TZOFFSETTO:-0500
TZNAME:CDT
DTSTART:20270314T080000
END:DAYLIGHT
BEGIN:STANDARD
TZOFFSETFROM:-0500
TZOFFSETTO:-0600
TZNAME:CST
DTSTART:20271107T070000
END:STANDARD
BEGIN:DAYLIGHT
TZOFFSETFROM:-0600
TZOFFSETTO:-0500
TZNAME:CDT
DTSTART:20280312T080000
END:DAYLIGHT
BEGIN:STANDARD
TZOFFSETFROM:-0500
TZOFFSETTO:-0600
TZNAME:CST
DTSTART:20281105T070000
END:STANDARD
BEGIN:DAYLIGHT
TZOFFSETFROM:-0600
TZOFFSETTO:-0500
TZNAME:CDT
DTSTART:20290311T080000
END:DAYLIGHT
BEGIN:STANDARD
TZOFFSETFROM:-0500
TZOFFSETTO:-0600
TZNAME:CST
DTSTART:20291104T070000
END:STANDARD
BEGIN:DAYLIGHT
TZOFFSETFROM:-0600
TZOFFSETTO:-0500
TZNAME:CDT
DTSTART:20300310T080000
END:DAYLIGHT
BEGIN:STANDARD
TZOFFSETFROM:-0500
TZOFFSETTO:-0600
TZNAME:CST
DTSTART:20301103T070000
END:STANDARD
BEGIN:DAYLIGHT
TZOFFSETFROM:-0600
TZOFFSETTO:-0500
TZNAME:CDT
DTSTART:20310309T080000
END:DAYLIGHT
BEGIN:STANDARD
TZOFFSETFROM:-0500
TZOFFSETTO:-0600
TZNAME:CST
DTSTART:20311102T070000
END:STANDARD
BEGIN:DAYLIGHT
TZOFFSETFROM:-0600
TZOFFSETTO:-0500
TZNAME:CDT
DTSTART:20320314T080000
END:DAYLIGHT
BEGIN:STANDARD
TZOFFSETFROM:-0500
TZOFFSETTO:-0600
TZNAME:CST
DTSTART:20321107T070000
END:STANDARD
END:VTIMEZONE
BEGIN:VEVENT
DTSTART;TZID=America/Chicago:20281023T110000
DTEND;TZID=America/Chicago:20281023T130000
DTSTAMP:20260421T102507
CREATED:20260415T132624Z
LAST-MODIFIED:20260415T132624Z
UID:10001216-1855911600-1855918800@wilcogop.org
SUMMARY:Leander Area Republican Women
DESCRIPTION:
URL:https://wilcogop.org/event/leander-area-republican-women/2028-10-23/
LOCATION:Facility Resource\, Inc\, 1641 Scottsdale Dr\, Cedar Park\,\, TX\, 78613\, United States
ORGANIZER;CN="Leander Area Republican Women":MAILTO:presidentlarw@gmail.com
END:VEVENT
BEGIN:VEVENT
DTSTART;TZID=America/Chicago:20281127T110000
DTEND;TZID=America/Chicago:20281127T130000
DTSTAMP:20260421T102507
CREATED:20260415T132624Z
LAST-MODIFIED:20260415T132624Z
UID:10001217-1858935600-1858942800@wilcogop.org
SUMMARY:Leander Area Republican Women
DESCRIPTION:
URL:https://wilcogop.org/event/leander-area-republican-women/2028-11-27/
LOCATION:Facility Resource\, Inc\, 1641 Scottsdale Dr\, Cedar Park\,\, TX\, 78613\, United States
ORGANIZER;CN="Leander Area Republican Women":MAILTO:presidentlarw@gmail.com
END:VEVENT
BEGIN:VEVENT
DTSTART;TZID=America/Chicago:20281225T110000
DTEND;TZID=America/Chicago:20281225T130000
DTSTAMP:20260421T102507
CREATED:20260415T132624Z
LAST-MODIFIED:20260415T132624Z
UID:10001218-1861354800-1861362000@wilcogop.org
SUMMARY:Leander Area Republican Women
DESCRIPTION:
URL:https://wilcogop.org/event/leander-area-republican-women/2028-12-25/
LOCATION:Facility Resource\, Inc\, 1641 Scottsdale Dr\, Cedar Park\,\, TX\, 78613\, United States
ORGANIZER;CN="Leander Area Republican Women":MAILTO:presidentlarw@gmail.com
END:VEVENT
BEGIN:VEVENT
DTSTART;TZID=America/Chicago:20290122T110000
DTEND;TZID=America/Chicago:20290122T130000
DTSTAMP:20260421T102507
CREATED:20260415T132624Z
LAST-MODIFIED:20260415T132624Z
UID:10001219-1863774000-1863781200@wilcogop.org
SUMMARY:Leander Area Republican Women
DESCRIPTION:
URL:https://wilcogop.org/event/leander-area-republican-women/2029-01-22/
LOCATION:Facility Resource\, Inc\, 1641 Scottsdale Dr\, Cedar Park\,\, TX\, 78613\, United States
ORGANIZER;CN="Leander Area Republican Women":MAILTO:presidentlarw@gmail.com
END:VEVENT
BEGIN:VEVENT
DTSTART;TZID=America/Chicago:20290226T110000
DTEND;TZID=America/Chicago:20290226T130000
DTSTAMP:20260421T102507
CREATED:20260415T132624Z
LAST-MODIFIED:20260415T132624Z
UID:10001220-1866798000-1866805200@wilcogop.org
SUMMARY:Leander Area Republican Women
DESCRIPTION:
URL:https://wilcogop.org/event/leander-area-republican-women/2029-02-26/
LOCATION:Facility Resource\, Inc\, 1641 Scottsdale Dr\, Cedar Park\,\, TX\, 78613\, United States
ORGANIZER;CN="Leander Area Republican Women":MAILTO:presidentlarw@gmail.com
END:VEVENT
BEGIN:VEVENT
DTSTART;TZID=America/Chicago:20290326T110000
DTEND;TZID=America/Chicago:20290326T130000
DTSTAMP:20260421T102507
CREATED:20260415T132624Z
LAST-MODIFIED:20260415T132624Z
UID:10001221-1869217200-1869224400@wilcogop.org
SUMMARY:Leander Area Republican Women
DESCRIPTION:
URL:https://wilcogop.org/event/leander-area-republican-women/2029-03-26/
LOCATION:Facility Resource\, Inc\, 1641 Scottsdale Dr\, Cedar Park\,\, TX\, 78613\, United States
ORGANIZER;CN="Leander Area Republican Women":MAILTO:presidentlarw@gmail.com
END:VEVENT
BEGIN:VEVENT
DTSTART;TZID=America/Chicago:20290423T110000
DTEND;TZID=America/Chicago:20290423T130000
DTSTAMP:20260421T102507
CREATED:20260415T132624Z
LAST-MODIFIED:20260415T132624Z
UID:10001222-1871636400-1871643600@wilcogop.org
SUMMARY:Leander Area Republican Women
DESCRIPTION:
URL:https://wilcogop.org/event/leander-area-republican-women/2029-04-23/
LOCATION:Facility Resource\, Inc\, 1641 Scottsdale Dr\, Cedar Park\,\, TX\, 78613\, United States
ORGANIZER;CN="Leander Area Republican Women":MAILTO:presidentlarw@gmail.com
END:VEVENT
BEGIN:VEVENT
DTSTART;TZID=America/Chicago:20290528T110000
DTEND;TZID=America/Chicago:20290528T130000
DTSTAMP:20260421T102507
CREATED:20260415T132624Z
LAST-MODIFIED:20260415T132624Z
UID:10001223-1874660400-1874667600@wilcogop.org
SUMMARY:Leander Area Republican Women
DESCRIPTION:
URL:https://wilcogop.org/event/leander-area-republican-women/2029-05-28/
LOCATION:Facility Resource\, Inc\, 1641 Scottsdale Dr\, Cedar Park\,\, TX\, 78613\, United States
ORGANIZER;CN="Leander Area Republican Women":MAILTO:presidentlarw@gmail.com
END:VEVENT
BEGIN:VEVENT
DTSTART;TZID=America/Chicago:20290625T110000
DTEND;TZID=America/Chicago:20290625T130000
DTSTAMP:20260421T102507
CREATED:20260415T132624Z
LAST-MODIFIED:20260415T132624Z
UID:10001224-1877079600-1877086800@wilcogop.org
SUMMARY:Leander Area Republican Women
DESCRIPTION:
URL:https://wilcogop.org/event/leander-area-republican-women/2029-06-25/
LOCATION:Facility Resource\, Inc\, 1641 Scottsdale Dr\, Cedar Park\,\, TX\, 78613\, United States
ORGANIZER;CN="Leander Area Republican Women":MAILTO:presidentlarw@gmail.com
END:VEVENT
BEGIN:VEVENT
DTSTART;TZID=America/Chicago:20290723T110000
DTEND;TZID=America/Chicago:20290723T130000
DTSTAMP:20260421T102507
CREATED:20260415T132624Z
LAST-MODIFIED:20260415T132624Z
UID:10001225-1879498800-1879506000@wilcogop.org
SUMMARY:Leander Area Republican Women
DESCRIPTION:
URL:https://wilcogop.org/event/leander-area-republican-women/2029-07-23/
LOCATION:Facility Resource\, Inc\, 1641 Scottsdale Dr\, Cedar Park\,\, TX\, 78613\, United States
ORGANIZER;CN="Leander Area Republican Women":MAILTO:presidentlarw@gmail.com
END:VEVENT
BEGIN:VEVENT
DTSTART;TZID=America/Chicago:20290827T110000
DTEND;TZID=America/Chicago:20290827T130000
DTSTAMP:20260421T102507
CREATED:20260415T132624Z
LAST-MODIFIED:20260415T132624Z
UID:10001226-1882522800-1882530000@wilcogop.org
SUMMARY:Leander Area Republican Women
DESCRIPTION:
URL:https://wilcogop.org/event/leander-area-republican-women/2029-08-27/
LOCATION:Facility Resource\, Inc\, 1641 Scottsdale Dr\, Cedar Park\,\, TX\, 78613\, United States
ORGANIZER;CN="Leander Area Republican Women":MAILTO:presidentlarw@gmail.com
END:VEVENT
BEGIN:VEVENT
DTSTART;TZID=America/Chicago:20290924T110000
DTEND;TZID=America/Chicago:20290924T130000
DTSTAMP:20260421T102507
CREATED:20260415T132624Z
LAST-MODIFIED:20260415T132624Z
UID:10001227-1884942000-1884949200@wilcogop.org
SUMMARY:Leander Area Republican Women
DESCRIPTION:
URL:https://wilcogop.org/event/leander-area-republican-women/2029-09-24/
LOCATION:Facility Resource\, Inc\, 1641 Scottsdale Dr\, Cedar Park\,\, TX\, 78613\, United States
ORGANIZER;CN="Leander Area Republican Women":MAILTO:presidentlarw@gmail.com
END:VEVENT
BEGIN:VEVENT
DTSTART;TZID=America/Chicago:20291022T110000
DTEND;TZID=America/Chicago:20291022T130000
DTSTAMP:20260421T102507
CREATED:20260415T132624Z
LAST-MODIFIED:20260415T132624Z
UID:10001228-1887361200-1887368400@wilcogop.org
SUMMARY:Leander Area Republican Women
DESCRIPTION:
URL:https://wilcogop.org/event/leander-area-republican-women/2029-10-22/
LOCATION:Facility Resource\, Inc\, 1641 Scottsdale Dr\, Cedar Park\,\, TX\, 78613\, United States
ORGANIZER;CN="Leander Area Republican Women":MAILTO:presidentlarw@gmail.com
END:VEVENT
BEGIN:VEVENT
DTSTART;TZID=America/Chicago:20291126T110000
DTEND;TZID=America/Chicago:20291126T130000
DTSTAMP:20260421T102507
CREATED:20260415T132624Z
LAST-MODIFIED:20260415T132624Z
UID:10001229-1890385200-1890392400@wilcogop.org
SUMMARY:Leander Area Republican Women
DESCRIPTION:
URL:https://wilcogop.org/event/leander-area-republican-women/2029-11-26/
LOCATION:Facility Resource\, Inc\, 1641 Scottsdale Dr\, Cedar Park\,\, TX\, 78613\, United States
ORGANIZER;CN="Leander Area Republican Women":MAILTO:presidentlarw@gmail.com
END:VEVENT
BEGIN:VEVENT
DTSTART;TZID=America/Chicago:20291224T110000
DTEND;TZID=America/Chicago:20291224T130000
DTSTAMP:20260421T102507
CREATED:20260415T132624Z
LAST-MODIFIED:20260415T132624Z
UID:10001230-1892804400-1892811600@wilcogop.org
SUMMARY:Leander Area Republican Women
DESCRIPTION:
URL:https://wilcogop.org/event/leander-area-republican-women/2029-12-24/
LOCATION:Facility Resource\, Inc\, 1641 Scottsdale Dr\, Cedar Park\,\, TX\, 78613\, United States
ORGANIZER;CN="Leander Area Republican Women":MAILTO:presidentlarw@gmail.com
END:VEVENT
BEGIN:VEVENT
DTSTART;TZID=America/Chicago:20300128T110000
DTEND;TZID=America/Chicago:20300128T130000
DTSTAMP:20260421T102507
CREATED:20260415T132624Z
LAST-MODIFIED:20260415T132624Z
UID:10001231-1895828400-1895835600@wilcogop.org
SUMMARY:Leander Area Republican Women
DESCRIPTION:
URL:https://wilcogop.org/event/leander-area-republican-women/2030-01-28/
LOCATION:Facility Resource\, Inc\, 1641 Scottsdale Dr\, Cedar Park\,\, TX\, 78613\, United States
ORGANIZER;CN="Leander Area Republican Women":MAILTO:presidentlarw@gmail.com
END:VEVENT
BEGIN:VEVENT
DTSTART;TZID=America/Chicago:20300225T110000
DTEND;TZID=America/Chicago:20300225T130000
DTSTAMP:20260421T102507
CREATED:20260415T132624Z
LAST-MODIFIED:20260415T132624Z
UID:10001232-1898247600-1898254800@wilcogop.org
SUMMARY:Leander Area Republican Women
DESCRIPTION:
URL:https://wilcogop.org/event/leander-area-republican-women/2030-02-25/
LOCATION:Facility Resource\, Inc\, 1641 Scottsdale Dr\, Cedar Park\,\, TX\, 78613\, United States
ORGANIZER;CN="Leander Area Republican Women":MAILTO:presidentlarw@gmail.com
END:VEVENT
BEGIN:VEVENT
DTSTART;TZID=America/Chicago:20300325T110000
DTEND;TZID=America/Chicago:20300325T130000
DTSTAMP:20260421T102507
CREATED:20260415T132624Z
LAST-MODIFIED:20260415T132624Z
UID:10001233-1900666800-1900674000@wilcogop.org
SUMMARY:Leander Area Republican Women
DESCRIPTION:
URL:https://wilcogop.org/event/leander-area-republican-women/2030-03-25/
LOCATION:Facility Resource\, Inc\, 1641 Scottsdale Dr\, Cedar Park\,\, TX\, 78613\, United States
ORGANIZER;CN="Leander Area Republican Women":MAILTO:presidentlarw@gmail.com
END:VEVENT
BEGIN:VEVENT
DTSTART;TZID=America/Chicago:20300422T110000
DTEND;TZID=America/Chicago:20300422T130000
DTSTAMP:20260421T102507
CREATED:20260415T132624Z
LAST-MODIFIED:20260415T132624Z
UID:10001234-1903086000-1903093200@wilcogop.org
SUMMARY:Leander Area Republican Women
DESCRIPTION:
URL:https://wilcogop.org/event/leander-area-republican-women/2030-04-22/
LOCATION:Facility Resource\, Inc\, 1641 Scottsdale Dr\, Cedar Park\,\, TX\, 78613\, United States
ORGANIZER;CN="Leander Area Republican Women":MAILTO:presidentlarw@gmail.com
END:VEVENT
BEGIN:VEVENT
DTSTART;TZID=America/Chicago:20300527T110000
DTEND;TZID=America/Chicago:20300527T130000
DTSTAMP:20260421T102507
CREATED:20260415T132624Z
LAST-MODIFIED:20260415T132624Z
UID:10001235-1906110000-1906117200@wilcogop.org
SUMMARY:Leander Area Republican Women
DESCRIPTION:
URL:https://wilcogop.org/event/leander-area-republican-women/2030-05-27/
LOCATION:Facility Resource\, Inc\, 1641 Scottsdale Dr\, Cedar Park\,\, TX\, 78613\, United States
ORGANIZER;CN="Leander Area Republican Women":MAILTO:presidentlarw@gmail.com
END:VEVENT
BEGIN:VEVENT
DTSTART;TZID=America/Chicago:20300624T110000
DTEND;TZID=America/Chicago:20300624T130000
DTSTAMP:20260421T102507
CREATED:20260415T132624Z
LAST-MODIFIED:20260415T132624Z
UID:10001236-1908529200-1908536400@wilcogop.org
SUMMARY:Leander Area Republican Women
DESCRIPTION:
URL:https://wilcogop.org/event/leander-area-republican-women/2030-06-24/
LOCATION:Facility Resource\, Inc\, 1641 Scottsdale Dr\, Cedar Park\,\, TX\, 78613\, United States
ORGANIZER;CN="Leander Area Republican Women":MAILTO:presidentlarw@gmail.com
END:VEVENT
BEGIN:VEVENT
DTSTART;TZID=America/Chicago:20300722T110000
DTEND;TZID=America/Chicago:20300722T130000
DTSTAMP:20260421T102507
CREATED:20260415T132624Z
LAST-MODIFIED:20260415T132624Z
UID:10001237-1910948400-1910955600@wilcogop.org
SUMMARY:Leander Area Republican Women
DESCRIPTION:
URL:https://wilcogop.org/event/leander-area-republican-women/2030-07-22/
LOCATION:Facility Resource\, Inc\, 1641 Scottsdale Dr\, Cedar Park\,\, TX\, 78613\, United States
ORGANIZER;CN="Leander Area Republican Women":MAILTO:presidentlarw@gmail.com
END:VEVENT
BEGIN:VEVENT
DTSTART;TZID=America/Chicago:20300826T110000
DTEND;TZID=America/Chicago:20300826T130000
DTSTAMP:20260421T102507
CREATED:20260415T132624Z
LAST-MODIFIED:20260415T132624Z
UID:10001238-1913972400-1913979600@wilcogop.org
SUMMARY:Leander Area Republican Women
DESCRIPTION:
URL:https://wilcogop.org/event/leander-area-republican-women/2030-08-26/
LOCATION:Facility Resource\, Inc\, 1641 Scottsdale Dr\, Cedar Park\,\, TX\, 78613\, United States
ORGANIZER;CN="Leander Area Republican Women":MAILTO:presidentlarw@gmail.com
END:VEVENT
BEGIN:VEVENT
DTSTART;TZID=America/Chicago:20300923T110000
DTEND;TZID=America/Chicago:20300923T130000
DTSTAMP:20260421T102507
CREATED:20260415T132624Z
LAST-MODIFIED:20260415T132624Z
UID:10001239-1916391600-1916398800@wilcogop.org
SUMMARY:Leander Area Republican Women
DESCRIPTION:
URL:https://wilcogop.org/event/leander-area-republican-women/2030-09-23/
LOCATION:Facility Resource\, Inc\, 1641 Scottsdale Dr\, Cedar Park\,\, TX\, 78613\, United States
ORGANIZER;CN="Leander Area Republican Women":MAILTO:presidentlarw@gmail.com
END:VEVENT
BEGIN:VEVENT
DTSTART;TZID=America/Chicago:20301028T110000
DTEND;TZID=America/Chicago:20301028T130000
DTSTAMP:20260421T102507
CREATED:20260415T132624Z
LAST-MODIFIED:20260415T132624Z
UID:10001240-1919415600-1919422800@wilcogop.org
SUMMARY:Leander Area Republican Women
DESCRIPTION:
URL:https://wilcogop.org/event/leander-area-republican-women/2030-10-28/
LOCATION:Facility Resource\, Inc\, 1641 Scottsdale Dr\, Cedar Park\,\, TX\, 78613\, United States
ORGANIZER;CN="Leander Area Republican Women":MAILTO:presidentlarw@gmail.com
END:VEVENT
BEGIN:VEVENT
DTSTART;TZID=America/Chicago:20301125T110000
DTEND;TZID=America/Chicago:20301125T130000
DTSTAMP:20260421T102507
CREATED:20260415T132624Z
LAST-MODIFIED:20260415T132624Z
UID:10001241-1921834800-1921842000@wilcogop.org
SUMMARY:Leander Area Republican Women
DESCRIPTION:
URL:https://wilcogop.org/event/leander-area-republican-women/2030-11-25/
LOCATION:Facility Resource\, Inc\, 1641 Scottsdale Dr\, Cedar Park\,\, TX\, 78613\, United States
ORGANIZER;CN="Leander Area Republican Women":MAILTO:presidentlarw@gmail.com
END:VEVENT
BEGIN:VEVENT
DTSTART;TZID=America/Chicago:20301223T110000
DTEND;TZID=America/Chicago:20301223T130000
DTSTAMP:20260421T102507
CREATED:20260415T132624Z
LAST-MODIFIED:20260415T132624Z
UID:10001242-1924254000-1924261200@wilcogop.org
SUMMARY:Leander Area Republican Women
DESCRIPTION:
URL:https://wilcogop.org/event/leander-area-republican-women/2030-12-23/
LOCATION:Facility Resource\, Inc\, 1641 Scottsdale Dr\, Cedar Park\,\, TX\, 78613\, United States
ORGANIZER;CN="Leander Area Republican Women":MAILTO:presidentlarw@gmail.com
END:VEVENT
BEGIN:VEVENT
DTSTART;TZID=America/Chicago:20310127T110000
DTEND;TZID=America/Chicago:20310127T130000
DTSTAMP:20260421T102507
CREATED:20260415T132624Z
LAST-MODIFIED:20260415T132624Z
UID:10001243-1927278000-1927285200@wilcogop.org
SUMMARY:Leander Area Republican Women
DESCRIPTION:
URL:https://wilcogop.org/event/leander-area-republican-women/2031-01-27/
LOCATION:Facility Resource\, Inc\, 1641 Scottsdale Dr\, Cedar Park\,\, TX\, 78613\, United States
ORGANIZER;CN="Leander Area Republican Women":MAILTO:presidentlarw@gmail.com
END:VEVENT
BEGIN:VEVENT
DTSTART;TZID=America/Chicago:20310224T110000
DTEND;TZID=America/Chicago:20310224T130000
DTSTAMP:20260421T102507
CREATED:20260415T132624Z
LAST-MODIFIED:20260415T132624Z
UID:10001244-1929697200-1929704400@wilcogop.org
SUMMARY:Leander Area Republican Women
DESCRIPTION:
URL:https://wilcogop.org/event/leander-area-republican-women/2031-02-24/
LOCATION:Facility Resource\, Inc\, 1641 Scottsdale Dr\, Cedar Park\,\, TX\, 78613\, United States
ORGANIZER;CN="Leander Area Republican Women":MAILTO:presidentlarw@gmail.com
END:VEVENT
BEGIN:VEVENT
DTSTART;TZID=America/Chicago:20310324T110000
DTEND;TZID=America/Chicago:20310324T130000
DTSTAMP:20260421T102507
CREATED:20260415T132624Z
LAST-MODIFIED:20260415T132624Z
UID:10001245-1932116400-1932123600@wilcogop.org
SUMMARY:Leander Area Republican Women
DESCRIPTION:
URL:https://wilcogop.org/event/leander-area-republican-women/2031-03-24/
LOCATION:Facility Resource\, Inc\, 1641 Scottsdale Dr\, Cedar Park\,\, TX\, 78613\, United States
ORGANIZER;CN="Leander Area Republican Women":MAILTO:presidentlarw@gmail.com
END:VEVENT
END:VCALENDAR