BEGIN:VCALENDAR
VERSION:2.0
PRODID:-//Williamson County Republican Party - ECPv6.15.20//NONSGML v1.0//EN
CALSCALE:GREGORIAN
METHOD:PUBLISH
X-ORIGINAL-URL:https://wilcogop.org
X-WR-CALDESC:Events for Williamson County Republican Party
REFRESH-INTERVAL;VALUE=DURATION:PT1H
X-Robots-Tag:noindex
X-PUBLISHED-TTL:PT1H
BEGIN:VTIMEZONE
TZID:America/New_York
BEGIN:DAYLIGHT
TZOFFSETFROM:-0500
TZOFFSETTO:-0400
TZNAME:EDT
DTSTART:20230312T070000
END:DAYLIGHT
BEGIN:STANDARD
TZOFFSETFROM:-0400
TZOFFSETTO:-0500
TZNAME:EST
DTSTART:20231105T060000
END:STANDARD
BEGIN:DAYLIGHT
TZOFFSETFROM:-0500
TZOFFSETTO:-0400
TZNAME:EDT
DTSTART:20240310T070000
END:DAYLIGHT
BEGIN:STANDARD
TZOFFSETFROM:-0400
TZOFFSETTO:-0500
TZNAME:EST
DTSTART:20241103T060000
END:STANDARD
BEGIN:DAYLIGHT
TZOFFSETFROM:-0500
TZOFFSETTO:-0400
TZNAME:EDT
DTSTART:20250309T070000
END:DAYLIGHT
BEGIN:STANDARD
TZOFFSETFROM:-0400
TZOFFSETTO:-0500
TZNAME:EST
DTSTART:20251102T060000
END:STANDARD
END:VTIMEZONE
BEGIN:VEVENT
DTSTART;TZID=America/New_York:20240923T110000
DTEND;TZID=America/New_York:20240923T123000
DTSTAMP:20260419T145259
CREATED:20240828T173011Z
LAST-MODIFIED:20240828T173011Z
UID:10000673-1727089200-1727094600@wilcogop.org
SUMMARY:Leander Area Republican Women Monthly Meeting
DESCRIPTION:Guest speaker is State Senator Donna Campbell
URL:https://wilcogop.org/event/leander-area-republican-women-monthly-meeting-2/
LOCATION:Facility Resource\, Inc\, 1641 Scottsdale Dr\, Cedar Park\,\, TX\, 78613\, United States
CATEGORIES:Event
ORGANIZER;CN="Leander Area Republican Women":MAILTO:presidentlarw@gmail.com
END:VEVENT
BEGIN:VEVENT
DTSTART;TZID=America/New_York:20240826T110000
DTEND;TZID=America/New_York:20240826T110000
DTSTAMP:20260419T145259
CREATED:20240724T152511Z
LAST-MODIFIED:20240724T152516Z
UID:10000009-1724670000-1724670000@wilcogop.org
SUMMARY:Leander Area Republican Women Monthly Meeting
DESCRIPTION:Speaker: Tom Maynard\, SBOE District 10\n			\n				RSVP
URL:https://wilcogop.org/event/leander-area-republican-women-monthly-meeting/
LOCATION:Facility Resource\, Inc\, 1641 Scottsdale Dr\, Cedar Park\,\, TX\, 78613\, United States
CATEGORIES:Event
ORGANIZER;CN="Leander Area Republican Women":MAILTO:presidentlarw@gmail.com
END:VEVENT
END:VCALENDAR