BEGIN:VCALENDAR
VERSION:2.0
PRODID:-//Williamson County Republican Party - ECPv6.15.20//NONSGML v1.0//EN
CALSCALE:GREGORIAN
METHOD:PUBLISH
X-ORIGINAL-URL:https://wilcogop.org
X-WR-CALDESC:Events for Williamson County Republican Party
REFRESH-INTERVAL;VALUE=DURATION:PT1H
X-Robots-Tag:noindex
X-PUBLISHED-TTL:PT1H
BEGIN:VTIMEZONE
TZID:America/Chicago
BEGIN:DAYLIGHT
TZOFFSETFROM:-0600
TZOFFSETTO:-0500
TZNAME:CDT
DTSTART:20290311T080000
END:DAYLIGHT
BEGIN:STANDARD
TZOFFSETFROM:-0500
TZOFFSETTO:-0600
TZNAME:CST
DTSTART:20291104T070000
END:STANDARD
BEGIN:DAYLIGHT
TZOFFSETFROM:-0600
TZOFFSETTO:-0500
TZNAME:CDT
DTSTART:20300310T080000
END:DAYLIGHT
BEGIN:STANDARD
TZOFFSETFROM:-0500
TZOFFSETTO:-0600
TZNAME:CST
DTSTART:20301103T070000
END:STANDARD
BEGIN:DAYLIGHT
TZOFFSETFROM:-0600
TZOFFSETTO:-0500
TZNAME:CDT
DTSTART:20310309T080000
END:DAYLIGHT
BEGIN:STANDARD
TZOFFSETFROM:-0500
TZOFFSETTO:-0600
TZNAME:CST
DTSTART:20311102T070000
END:STANDARD
BEGIN:DAYLIGHT
TZOFFSETFROM:-0600
TZOFFSETTO:-0500
TZNAME:CDT
DTSTART:20320314T080000
END:DAYLIGHT
BEGIN:STANDARD
TZOFFSETFROM:-0500
TZOFFSETTO:-0600
TZNAME:CST
DTSTART:20321107T070000
END:STANDARD
END:VTIMEZONE
BEGIN:VEVENT
DTSTART;TZID=America/Chicago:20300703T110000
DTEND;TZID=America/Chicago:20300703T130000
DTSTAMP:20260423T115722
CREATED:20260415T132834Z
LAST-MODIFIED:20260415T132834Z
UID:10001298-1909306800-1909314000@wilcogop.org
SUMMARY:Northwest Austin Republican Women Monthly Meeting
DESCRIPTION:
URL:https://wilcogop.org/event/northwest-austin-republican-women-monthly-meeting/2030-07-03/
LOCATION:Balcones Country Club\, 8600 Balcones Club Dr\, Austin\, TX\, 78750\, United States
ORGANIZER;CN="Northwest Austin Republican Women":MAILTO:membership@nwarw.org
END:VEVENT
BEGIN:VEVENT
DTSTART;TZID=America/Chicago:20300807T110000
DTEND;TZID=America/Chicago:20300807T130000
DTSTAMP:20260423T115722
CREATED:20260415T132834Z
LAST-MODIFIED:20260415T132834Z
UID:10001299-1912330800-1912338000@wilcogop.org
SUMMARY:Northwest Austin Republican Women Monthly Meeting
DESCRIPTION:
URL:https://wilcogop.org/event/northwest-austin-republican-women-monthly-meeting/2030-08-07/
LOCATION:Balcones Country Club\, 8600 Balcones Club Dr\, Austin\, TX\, 78750\, United States
ORGANIZER;CN="Northwest Austin Republican Women":MAILTO:membership@nwarw.org
END:VEVENT
BEGIN:VEVENT
DTSTART;TZID=America/Chicago:20300904T110000
DTEND;TZID=America/Chicago:20300904T130000
DTSTAMP:20260423T115722
CREATED:20260415T132834Z
LAST-MODIFIED:20260415T132834Z
UID:10001300-1914750000-1914757200@wilcogop.org
SUMMARY:Northwest Austin Republican Women Monthly Meeting
DESCRIPTION:
URL:https://wilcogop.org/event/northwest-austin-republican-women-monthly-meeting/2030-09-04/
LOCATION:Balcones Country Club\, 8600 Balcones Club Dr\, Austin\, TX\, 78750\, United States
ORGANIZER;CN="Northwest Austin Republican Women":MAILTO:membership@nwarw.org
END:VEVENT
BEGIN:VEVENT
DTSTART;TZID=America/Chicago:20301002T110000
DTEND;TZID=America/Chicago:20301002T130000
DTSTAMP:20260423T115722
CREATED:20260415T132834Z
LAST-MODIFIED:20260415T132834Z
UID:10001301-1917169200-1917176400@wilcogop.org
SUMMARY:Northwest Austin Republican Women Monthly Meeting
DESCRIPTION:
URL:https://wilcogop.org/event/northwest-austin-republican-women-monthly-meeting/2030-10-02/
LOCATION:Balcones Country Club\, 8600 Balcones Club Dr\, Austin\, TX\, 78750\, United States
ORGANIZER;CN="Northwest Austin Republican Women":MAILTO:membership@nwarw.org
END:VEVENT
BEGIN:VEVENT
DTSTART;TZID=America/Chicago:20301106T110000
DTEND;TZID=America/Chicago:20301106T130000
DTSTAMP:20260423T115722
CREATED:20260415T132834Z
LAST-MODIFIED:20260415T132834Z
UID:10001302-1920193200-1920200400@wilcogop.org
SUMMARY:Northwest Austin Republican Women Monthly Meeting
DESCRIPTION:
URL:https://wilcogop.org/event/northwest-austin-republican-women-monthly-meeting/2030-11-06/
LOCATION:Balcones Country Club\, 8600 Balcones Club Dr\, Austin\, TX\, 78750\, United States
ORGANIZER;CN="Northwest Austin Republican Women":MAILTO:membership@nwarw.org
END:VEVENT
BEGIN:VEVENT
DTSTART;TZID=America/Chicago:20301204T110000
DTEND;TZID=America/Chicago:20301204T130000
DTSTAMP:20260423T115722
CREATED:20260415T132834Z
LAST-MODIFIED:20260415T132834Z
UID:10001303-1922612400-1922619600@wilcogop.org
SUMMARY:Northwest Austin Republican Women Monthly Meeting
DESCRIPTION:
URL:https://wilcogop.org/event/northwest-austin-republican-women-monthly-meeting/2030-12-04/
LOCATION:Balcones Country Club\, 8600 Balcones Club Dr\, Austin\, TX\, 78750\, United States
ORGANIZER;CN="Northwest Austin Republican Women":MAILTO:membership@nwarw.org
END:VEVENT
BEGIN:VEVENT
DTSTART;TZID=America/Chicago:20310101T110000
DTEND;TZID=America/Chicago:20310101T130000
DTSTAMP:20260423T115722
CREATED:20260415T132834Z
LAST-MODIFIED:20260415T132834Z
UID:10001304-1925031600-1925038800@wilcogop.org
SUMMARY:Northwest Austin Republican Women Monthly Meeting
DESCRIPTION:
URL:https://wilcogop.org/event/northwest-austin-republican-women-monthly-meeting/2031-01-01/
LOCATION:Balcones Country Club\, 8600 Balcones Club Dr\, Austin\, TX\, 78750\, United States
ORGANIZER;CN="Northwest Austin Republican Women":MAILTO:membership@nwarw.org
END:VEVENT
BEGIN:VEVENT
DTSTART;TZID=America/Chicago:20310205T110000
DTEND;TZID=America/Chicago:20310205T130000
DTSTAMP:20260423T115722
CREATED:20260415T132834Z
LAST-MODIFIED:20260415T132834Z
UID:10001305-1928055600-1928062800@wilcogop.org
SUMMARY:Northwest Austin Republican Women Monthly Meeting
DESCRIPTION:
URL:https://wilcogop.org/event/northwest-austin-republican-women-monthly-meeting/2031-02-05/
LOCATION:Balcones Country Club\, 8600 Balcones Club Dr\, Austin\, TX\, 78750\, United States
ORGANIZER;CN="Northwest Austin Republican Women":MAILTO:membership@nwarw.org
END:VEVENT
BEGIN:VEVENT
DTSTART;TZID=America/Chicago:20310305T110000
DTEND;TZID=America/Chicago:20310305T130000
DTSTAMP:20260423T115722
CREATED:20260415T132834Z
LAST-MODIFIED:20260415T132834Z
UID:10001306-1930474800-1930482000@wilcogop.org
SUMMARY:Northwest Austin Republican Women Monthly Meeting
DESCRIPTION:
URL:https://wilcogop.org/event/northwest-austin-republican-women-monthly-meeting/2031-03-05/
LOCATION:Balcones Country Club\, 8600 Balcones Club Dr\, Austin\, TX\, 78750\, United States
ORGANIZER;CN="Northwest Austin Republican Women":MAILTO:membership@nwarw.org
END:VEVENT
BEGIN:VEVENT
DTSTART;TZID=America/Chicago:20310402T110000
DTEND;TZID=America/Chicago:20310402T130000
DTSTAMP:20260423T115722
CREATED:20260415T132834Z
LAST-MODIFIED:20260415T132834Z
UID:10001307-1932894000-1932901200@wilcogop.org
SUMMARY:Northwest Austin Republican Women Monthly Meeting
DESCRIPTION:
URL:https://wilcogop.org/event/northwest-austin-republican-women-monthly-meeting/2031-04-02/
LOCATION:Balcones Country Club\, 8600 Balcones Club Dr\, Austin\, TX\, 78750\, United States
ORGANIZER;CN="Northwest Austin Republican Women":MAILTO:membership@nwarw.org
END:VEVENT
END:VCALENDAR