BEGIN:VCALENDAR
VERSION:2.0
PRODID:-//Williamson County Republican Party - ECPv6.15.20//NONSGML v1.0//EN
CALSCALE:GREGORIAN
METHOD:PUBLISH
X-ORIGINAL-URL:https://wilcogop.org
X-WR-CALDESC:Events for Williamson County Republican Party
REFRESH-INTERVAL;VALUE=DURATION:PT1H
X-Robots-Tag:noindex
X-PUBLISHED-TTL:PT1H
BEGIN:VTIMEZONE
TZID:America/Chicago
BEGIN:DAYLIGHT
TZOFFSETFROM:-0600
TZOFFSETTO:-0500
TZNAME:CDT
DTSTART:20260308T080000
END:DAYLIGHT
BEGIN:STANDARD
TZOFFSETFROM:-0500
TZOFFSETTO:-0600
TZNAME:CST
DTSTART:20261101T070000
END:STANDARD
BEGIN:DAYLIGHT
TZOFFSETFROM:-0600
TZOFFSETTO:-0500
TZNAME:CDT
DTSTART:20270314T080000
END:DAYLIGHT
BEGIN:STANDARD
TZOFFSETFROM:-0500
TZOFFSETTO:-0600
TZNAME:CST
DTSTART:20271107T070000
END:STANDARD
BEGIN:DAYLIGHT
TZOFFSETFROM:-0600
TZOFFSETTO:-0500
TZNAME:CDT
DTSTART:20280312T080000
END:DAYLIGHT
BEGIN:STANDARD
TZOFFSETFROM:-0500
TZOFFSETTO:-0600
TZNAME:CST
DTSTART:20281105T070000
END:STANDARD
BEGIN:DAYLIGHT
TZOFFSETFROM:-0600
TZOFFSETTO:-0500
TZNAME:CDT
DTSTART:20290311T080000
END:DAYLIGHT
BEGIN:STANDARD
TZOFFSETFROM:-0500
TZOFFSETTO:-0600
TZNAME:CST
DTSTART:20291104T070000
END:STANDARD
BEGIN:DAYLIGHT
TZOFFSETFROM:-0600
TZOFFSETTO:-0500
TZNAME:CDT
DTSTART:20300310T080000
END:DAYLIGHT
BEGIN:STANDARD
TZOFFSETFROM:-0500
TZOFFSETTO:-0600
TZNAME:CST
DTSTART:20301103T070000
END:STANDARD
END:VTIMEZONE
BEGIN:VEVENT
DTSTART;TZID=America/Chicago:20270303T110000
DTEND;TZID=America/Chicago:20270303T130000
DTSTAMP:20260421T103157
CREATED:20260415T132834Z
LAST-MODIFIED:20260415T132834Z
UID:10001258-1804071600-1804078800@wilcogop.org
SUMMARY:Northwest Austin Republican Women Monthly Meeting
DESCRIPTION:
URL:https://wilcogop.org/event/northwest-austin-republican-women-monthly-meeting/2027-03-03/
LOCATION:Balcones Country Club\, 8600 Balcones Club Dr\, Austin\, TX\, 78750\, United States
ORGANIZER;CN="Northwest Austin Republican Women":MAILTO:membership@nwarw.org
END:VEVENT
BEGIN:VEVENT
DTSTART;TZID=America/Chicago:20270407T110000
DTEND;TZID=America/Chicago:20270407T130000
DTSTAMP:20260421T103157
CREATED:20260415T132834Z
LAST-MODIFIED:20260415T132834Z
UID:10001259-1807095600-1807102800@wilcogop.org
SUMMARY:Northwest Austin Republican Women Monthly Meeting
DESCRIPTION:
URL:https://wilcogop.org/event/northwest-austin-republican-women-monthly-meeting/2027-04-07/
LOCATION:Balcones Country Club\, 8600 Balcones Club Dr\, Austin\, TX\, 78750\, United States
ORGANIZER;CN="Northwest Austin Republican Women":MAILTO:membership@nwarw.org
END:VEVENT
BEGIN:VEVENT
DTSTART;TZID=America/Chicago:20270505T110000
DTEND;TZID=America/Chicago:20270505T130000
DTSTAMP:20260421T103157
CREATED:20260415T132834Z
LAST-MODIFIED:20260415T132834Z
UID:10001260-1809514800-1809522000@wilcogop.org
SUMMARY:Northwest Austin Republican Women Monthly Meeting
DESCRIPTION:
URL:https://wilcogop.org/event/northwest-austin-republican-women-monthly-meeting/2027-05-05/
LOCATION:Balcones Country Club\, 8600 Balcones Club Dr\, Austin\, TX\, 78750\, United States
ORGANIZER;CN="Northwest Austin Republican Women":MAILTO:membership@nwarw.org
END:VEVENT
BEGIN:VEVENT
DTSTART;TZID=America/Chicago:20270602T110000
DTEND;TZID=America/Chicago:20270602T130000
DTSTAMP:20260421T103157
CREATED:20260415T132834Z
LAST-MODIFIED:20260415T132834Z
UID:10001261-1811934000-1811941200@wilcogop.org
SUMMARY:Northwest Austin Republican Women Monthly Meeting
DESCRIPTION:
URL:https://wilcogop.org/event/northwest-austin-republican-women-monthly-meeting/2027-06-02/
LOCATION:Balcones Country Club\, 8600 Balcones Club Dr\, Austin\, TX\, 78750\, United States
ORGANIZER;CN="Northwest Austin Republican Women":MAILTO:membership@nwarw.org
END:VEVENT
BEGIN:VEVENT
DTSTART;TZID=America/Chicago:20270707T110000
DTEND;TZID=America/Chicago:20270707T130000
DTSTAMP:20260421T103157
CREATED:20260415T132834Z
LAST-MODIFIED:20260415T132834Z
UID:10001262-1814958000-1814965200@wilcogop.org
SUMMARY:Northwest Austin Republican Women Monthly Meeting
DESCRIPTION:
URL:https://wilcogop.org/event/northwest-austin-republican-women-monthly-meeting/2027-07-07/
LOCATION:Balcones Country Club\, 8600 Balcones Club Dr\, Austin\, TX\, 78750\, United States
ORGANIZER;CN="Northwest Austin Republican Women":MAILTO:membership@nwarw.org
END:VEVENT
BEGIN:VEVENT
DTSTART;TZID=America/Chicago:20270804T110000
DTEND;TZID=America/Chicago:20270804T130000
DTSTAMP:20260421T103157
CREATED:20260415T132834Z
LAST-MODIFIED:20260415T132834Z
UID:10001263-1817377200-1817384400@wilcogop.org
SUMMARY:Northwest Austin Republican Women Monthly Meeting
DESCRIPTION:
URL:https://wilcogop.org/event/northwest-austin-republican-women-monthly-meeting/2027-08-04/
LOCATION:Balcones Country Club\, 8600 Balcones Club Dr\, Austin\, TX\, 78750\, United States
ORGANIZER;CN="Northwest Austin Republican Women":MAILTO:membership@nwarw.org
END:VEVENT
BEGIN:VEVENT
DTSTART;TZID=America/Chicago:20270901T110000
DTEND;TZID=America/Chicago:20270901T130000
DTSTAMP:20260421T103157
CREATED:20260415T132834Z
LAST-MODIFIED:20260415T132834Z
UID:10001264-1819796400-1819803600@wilcogop.org
SUMMARY:Northwest Austin Republican Women Monthly Meeting
DESCRIPTION:
URL:https://wilcogop.org/event/northwest-austin-republican-women-monthly-meeting/2027-09-01/
LOCATION:Balcones Country Club\, 8600 Balcones Club Dr\, Austin\, TX\, 78750\, United States
ORGANIZER;CN="Northwest Austin Republican Women":MAILTO:membership@nwarw.org
END:VEVENT
BEGIN:VEVENT
DTSTART;TZID=America/Chicago:20271006T110000
DTEND;TZID=America/Chicago:20271006T130000
DTSTAMP:20260421T103157
CREATED:20260415T132834Z
LAST-MODIFIED:20260415T132834Z
UID:10001265-1822820400-1822827600@wilcogop.org
SUMMARY:Northwest Austin Republican Women Monthly Meeting
DESCRIPTION:
URL:https://wilcogop.org/event/northwest-austin-republican-women-monthly-meeting/2027-10-06/
LOCATION:Balcones Country Club\, 8600 Balcones Club Dr\, Austin\, TX\, 78750\, United States
ORGANIZER;CN="Northwest Austin Republican Women":MAILTO:membership@nwarw.org
END:VEVENT
BEGIN:VEVENT
DTSTART;TZID=America/Chicago:20271103T110000
DTEND;TZID=America/Chicago:20271103T130000
DTSTAMP:20260421T103157
CREATED:20260415T132834Z
LAST-MODIFIED:20260415T132834Z
UID:10001266-1825239600-1825246800@wilcogop.org
SUMMARY:Northwest Austin Republican Women Monthly Meeting
DESCRIPTION:
URL:https://wilcogop.org/event/northwest-austin-republican-women-monthly-meeting/2027-11-03/
LOCATION:Balcones Country Club\, 8600 Balcones Club Dr\, Austin\, TX\, 78750\, United States
ORGANIZER;CN="Northwest Austin Republican Women":MAILTO:membership@nwarw.org
END:VEVENT
BEGIN:VEVENT
DTSTART;TZID=America/Chicago:20271201T110000
DTEND;TZID=America/Chicago:20271201T130000
DTSTAMP:20260421T103157
CREATED:20260415T132834Z
LAST-MODIFIED:20260415T132834Z
UID:10001267-1827658800-1827666000@wilcogop.org
SUMMARY:Northwest Austin Republican Women Monthly Meeting
DESCRIPTION:
URL:https://wilcogop.org/event/northwest-austin-republican-women-monthly-meeting/2027-12-01/
LOCATION:Balcones Country Club\, 8600 Balcones Club Dr\, Austin\, TX\, 78750\, United States
ORGANIZER;CN="Northwest Austin Republican Women":MAILTO:membership@nwarw.org
END:VEVENT
BEGIN:VEVENT
DTSTART;TZID=America/Chicago:20280105T110000
DTEND;TZID=America/Chicago:20280105T130000
DTSTAMP:20260421T103157
CREATED:20260415T132834Z
LAST-MODIFIED:20260415T132834Z
UID:10001268-1830682800-1830690000@wilcogop.org
SUMMARY:Northwest Austin Republican Women Monthly Meeting
DESCRIPTION:
URL:https://wilcogop.org/event/northwest-austin-republican-women-monthly-meeting/2028-01-05/
LOCATION:Balcones Country Club\, 8600 Balcones Club Dr\, Austin\, TX\, 78750\, United States
ORGANIZER;CN="Northwest Austin Republican Women":MAILTO:membership@nwarw.org
END:VEVENT
BEGIN:VEVENT
DTSTART;TZID=America/Chicago:20280202T110000
DTEND;TZID=America/Chicago:20280202T130000
DTSTAMP:20260421T103157
CREATED:20260415T132834Z
LAST-MODIFIED:20260415T132834Z
UID:10001269-1833102000-1833109200@wilcogop.org
SUMMARY:Northwest Austin Republican Women Monthly Meeting
DESCRIPTION:
URL:https://wilcogop.org/event/northwest-austin-republican-women-monthly-meeting/2028-02-02/
LOCATION:Balcones Country Club\, 8600 Balcones Club Dr\, Austin\, TX\, 78750\, United States
ORGANIZER;CN="Northwest Austin Republican Women":MAILTO:membership@nwarw.org
END:VEVENT
BEGIN:VEVENT
DTSTART;TZID=America/Chicago:20280301T110000
DTEND;TZID=America/Chicago:20280301T130000
DTSTAMP:20260421T103157
CREATED:20260415T132834Z
LAST-MODIFIED:20260415T132834Z
UID:10001270-1835521200-1835528400@wilcogop.org
SUMMARY:Northwest Austin Republican Women Monthly Meeting
DESCRIPTION:
URL:https://wilcogop.org/event/northwest-austin-republican-women-monthly-meeting/2028-03-01/
LOCATION:Balcones Country Club\, 8600 Balcones Club Dr\, Austin\, TX\, 78750\, United States
ORGANIZER;CN="Northwest Austin Republican Women":MAILTO:membership@nwarw.org
END:VEVENT
BEGIN:VEVENT
DTSTART;TZID=America/Chicago:20280405T110000
DTEND;TZID=America/Chicago:20280405T130000
DTSTAMP:20260421T103157
CREATED:20260415T132834Z
LAST-MODIFIED:20260415T132834Z
UID:10001271-1838545200-1838552400@wilcogop.org
SUMMARY:Northwest Austin Republican Women Monthly Meeting
DESCRIPTION:
URL:https://wilcogop.org/event/northwest-austin-republican-women-monthly-meeting/2028-04-05/
LOCATION:Balcones Country Club\, 8600 Balcones Club Dr\, Austin\, TX\, 78750\, United States
ORGANIZER;CN="Northwest Austin Republican Women":MAILTO:membership@nwarw.org
END:VEVENT
BEGIN:VEVENT
DTSTART;TZID=America/Chicago:20280503T110000
DTEND;TZID=America/Chicago:20280503T130000
DTSTAMP:20260421T103157
CREATED:20260415T132834Z
LAST-MODIFIED:20260415T132834Z
UID:10001272-1840964400-1840971600@wilcogop.org
SUMMARY:Northwest Austin Republican Women Monthly Meeting
DESCRIPTION:
URL:https://wilcogop.org/event/northwest-austin-republican-women-monthly-meeting/2028-05-03/
LOCATION:Balcones Country Club\, 8600 Balcones Club Dr\, Austin\, TX\, 78750\, United States
ORGANIZER;CN="Northwest Austin Republican Women":MAILTO:membership@nwarw.org
END:VEVENT
BEGIN:VEVENT
DTSTART;TZID=America/Chicago:20280607T110000
DTEND;TZID=America/Chicago:20280607T130000
DTSTAMP:20260421T103157
CREATED:20260415T132834Z
LAST-MODIFIED:20260415T132834Z
UID:10001273-1843988400-1843995600@wilcogop.org
SUMMARY:Northwest Austin Republican Women Monthly Meeting
DESCRIPTION:
URL:https://wilcogop.org/event/northwest-austin-republican-women-monthly-meeting/2028-06-07/
LOCATION:Balcones Country Club\, 8600 Balcones Club Dr\, Austin\, TX\, 78750\, United States
ORGANIZER;CN="Northwest Austin Republican Women":MAILTO:membership@nwarw.org
END:VEVENT
BEGIN:VEVENT
DTSTART;TZID=America/Chicago:20280705T110000
DTEND;TZID=America/Chicago:20280705T130000
DTSTAMP:20260421T103157
CREATED:20260415T132834Z
LAST-MODIFIED:20260415T132834Z
UID:10001274-1846407600-1846414800@wilcogop.org
SUMMARY:Northwest Austin Republican Women Monthly Meeting
DESCRIPTION:
URL:https://wilcogop.org/event/northwest-austin-republican-women-monthly-meeting/2028-07-05/
LOCATION:Balcones Country Club\, 8600 Balcones Club Dr\, Austin\, TX\, 78750\, United States
ORGANIZER;CN="Northwest Austin Republican Women":MAILTO:membership@nwarw.org
END:VEVENT
BEGIN:VEVENT
DTSTART;TZID=America/Chicago:20280802T110000
DTEND;TZID=America/Chicago:20280802T130000
DTSTAMP:20260421T103157
CREATED:20260415T132834Z
LAST-MODIFIED:20260415T132834Z
UID:10001275-1848826800-1848834000@wilcogop.org
SUMMARY:Northwest Austin Republican Women Monthly Meeting
DESCRIPTION:
URL:https://wilcogop.org/event/northwest-austin-republican-women-monthly-meeting/2028-08-02/
LOCATION:Balcones Country Club\, 8600 Balcones Club Dr\, Austin\, TX\, 78750\, United States
ORGANIZER;CN="Northwest Austin Republican Women":MAILTO:membership@nwarw.org
END:VEVENT
BEGIN:VEVENT
DTSTART;TZID=America/Chicago:20280906T110000
DTEND;TZID=America/Chicago:20280906T130000
DTSTAMP:20260421T103157
CREATED:20260415T132834Z
LAST-MODIFIED:20260415T132834Z
UID:10001276-1851850800-1851858000@wilcogop.org
SUMMARY:Northwest Austin Republican Women Monthly Meeting
DESCRIPTION:
URL:https://wilcogop.org/event/northwest-austin-republican-women-monthly-meeting/2028-09-06/
LOCATION:Balcones Country Club\, 8600 Balcones Club Dr\, Austin\, TX\, 78750\, United States
ORGANIZER;CN="Northwest Austin Republican Women":MAILTO:membership@nwarw.org
END:VEVENT
BEGIN:VEVENT
DTSTART;TZID=America/Chicago:20281004T110000
DTEND;TZID=America/Chicago:20281004T130000
DTSTAMP:20260421T103157
CREATED:20260415T132834Z
LAST-MODIFIED:20260415T132834Z
UID:10001277-1854270000-1854277200@wilcogop.org
SUMMARY:Northwest Austin Republican Women Monthly Meeting
DESCRIPTION:
URL:https://wilcogop.org/event/northwest-austin-republican-women-monthly-meeting/2028-10-04/
LOCATION:Balcones Country Club\, 8600 Balcones Club Dr\, Austin\, TX\, 78750\, United States
ORGANIZER;CN="Northwest Austin Republican Women":MAILTO:membership@nwarw.org
END:VEVENT
BEGIN:VEVENT
DTSTART;TZID=America/Chicago:20281101T110000
DTEND;TZID=America/Chicago:20281101T130000
DTSTAMP:20260421T103157
CREATED:20260415T132834Z
LAST-MODIFIED:20260415T132834Z
UID:10001278-1856689200-1856696400@wilcogop.org
SUMMARY:Northwest Austin Republican Women Monthly Meeting
DESCRIPTION:
URL:https://wilcogop.org/event/northwest-austin-republican-women-monthly-meeting/2028-11-01/
LOCATION:Balcones Country Club\, 8600 Balcones Club Dr\, Austin\, TX\, 78750\, United States
ORGANIZER;CN="Northwest Austin Republican Women":MAILTO:membership@nwarw.org
END:VEVENT
BEGIN:VEVENT
DTSTART;TZID=America/Chicago:20281206T110000
DTEND;TZID=America/Chicago:20281206T130000
DTSTAMP:20260421T103157
CREATED:20260415T132834Z
LAST-MODIFIED:20260415T132834Z
UID:10001279-1859713200-1859720400@wilcogop.org
SUMMARY:Northwest Austin Republican Women Monthly Meeting
DESCRIPTION:
URL:https://wilcogop.org/event/northwest-austin-republican-women-monthly-meeting/2028-12-06/
LOCATION:Balcones Country Club\, 8600 Balcones Club Dr\, Austin\, TX\, 78750\, United States
ORGANIZER;CN="Northwest Austin Republican Women":MAILTO:membership@nwarw.org
END:VEVENT
BEGIN:VEVENT
DTSTART;TZID=America/Chicago:20290103T110000
DTEND;TZID=America/Chicago:20290103T130000
DTSTAMP:20260421T103157
CREATED:20260415T132834Z
LAST-MODIFIED:20260415T132834Z
UID:10001280-1862132400-1862139600@wilcogop.org
SUMMARY:Northwest Austin Republican Women Monthly Meeting
DESCRIPTION:
URL:https://wilcogop.org/event/northwest-austin-republican-women-monthly-meeting/2029-01-03/
LOCATION:Balcones Country Club\, 8600 Balcones Club Dr\, Austin\, TX\, 78750\, United States
ORGANIZER;CN="Northwest Austin Republican Women":MAILTO:membership@nwarw.org
END:VEVENT
BEGIN:VEVENT
DTSTART;TZID=America/Chicago:20290207T110000
DTEND;TZID=America/Chicago:20290207T130000
DTSTAMP:20260421T103157
CREATED:20260415T132834Z
LAST-MODIFIED:20260415T132834Z
UID:10001281-1865156400-1865163600@wilcogop.org
SUMMARY:Northwest Austin Republican Women Monthly Meeting
DESCRIPTION:
URL:https://wilcogop.org/event/northwest-austin-republican-women-monthly-meeting/2029-02-07/
LOCATION:Balcones Country Club\, 8600 Balcones Club Dr\, Austin\, TX\, 78750\, United States
ORGANIZER;CN="Northwest Austin Republican Women":MAILTO:membership@nwarw.org
END:VEVENT
BEGIN:VEVENT
DTSTART;TZID=America/Chicago:20290307T110000
DTEND;TZID=America/Chicago:20290307T130000
DTSTAMP:20260421T103157
CREATED:20260415T132834Z
LAST-MODIFIED:20260415T132834Z
UID:10001282-1867575600-1867582800@wilcogop.org
SUMMARY:Northwest Austin Republican Women Monthly Meeting
DESCRIPTION:
URL:https://wilcogop.org/event/northwest-austin-republican-women-monthly-meeting/2029-03-07/
LOCATION:Balcones Country Club\, 8600 Balcones Club Dr\, Austin\, TX\, 78750\, United States
ORGANIZER;CN="Northwest Austin Republican Women":MAILTO:membership@nwarw.org
END:VEVENT
BEGIN:VEVENT
DTSTART;TZID=America/Chicago:20290404T110000
DTEND;TZID=America/Chicago:20290404T130000
DTSTAMP:20260421T103157
CREATED:20260415T132834Z
LAST-MODIFIED:20260415T132834Z
UID:10001283-1869994800-1870002000@wilcogop.org
SUMMARY:Northwest Austin Republican Women Monthly Meeting
DESCRIPTION:
URL:https://wilcogop.org/event/northwest-austin-republican-women-monthly-meeting/2029-04-04/
LOCATION:Balcones Country Club\, 8600 Balcones Club Dr\, Austin\, TX\, 78750\, United States
ORGANIZER;CN="Northwest Austin Republican Women":MAILTO:membership@nwarw.org
END:VEVENT
BEGIN:VEVENT
DTSTART;TZID=America/Chicago:20290502T110000
DTEND;TZID=America/Chicago:20290502T130000
DTSTAMP:20260421T103157
CREATED:20260415T132834Z
LAST-MODIFIED:20260415T132834Z
UID:10001284-1872414000-1872421200@wilcogop.org
SUMMARY:Northwest Austin Republican Women Monthly Meeting
DESCRIPTION:
URL:https://wilcogop.org/event/northwest-austin-republican-women-monthly-meeting/2029-05-02/
LOCATION:Balcones Country Club\, 8600 Balcones Club Dr\, Austin\, TX\, 78750\, United States
ORGANIZER;CN="Northwest Austin Republican Women":MAILTO:membership@nwarw.org
END:VEVENT
BEGIN:VEVENT
DTSTART;TZID=America/Chicago:20290606T110000
DTEND;TZID=America/Chicago:20290606T130000
DTSTAMP:20260421T103157
CREATED:20260415T132834Z
LAST-MODIFIED:20260415T132834Z
UID:10001285-1875438000-1875445200@wilcogop.org
SUMMARY:Northwest Austin Republican Women Monthly Meeting
DESCRIPTION:
URL:https://wilcogop.org/event/northwest-austin-republican-women-monthly-meeting/2029-06-06/
LOCATION:Balcones Country Club\, 8600 Balcones Club Dr\, Austin\, TX\, 78750\, United States
ORGANIZER;CN="Northwest Austin Republican Women":MAILTO:membership@nwarw.org
END:VEVENT
BEGIN:VEVENT
DTSTART;TZID=America/Chicago:20290704T110000
DTEND;TZID=America/Chicago:20290704T130000
DTSTAMP:20260421T103157
CREATED:20260415T132834Z
LAST-MODIFIED:20260415T132834Z
UID:10001286-1877857200-1877864400@wilcogop.org
SUMMARY:Northwest Austin Republican Women Monthly Meeting
DESCRIPTION:
URL:https://wilcogop.org/event/northwest-austin-republican-women-monthly-meeting/2029-07-04/
LOCATION:Balcones Country Club\, 8600 Balcones Club Dr\, Austin\, TX\, 78750\, United States
ORGANIZER;CN="Northwest Austin Republican Women":MAILTO:membership@nwarw.org
END:VEVENT
BEGIN:VEVENT
DTSTART;TZID=America/Chicago:20290801T110000
DTEND;TZID=America/Chicago:20290801T130000
DTSTAMP:20260421T103157
CREATED:20260415T132834Z
LAST-MODIFIED:20260415T132834Z
UID:10001287-1880276400-1880283600@wilcogop.org
SUMMARY:Northwest Austin Republican Women Monthly Meeting
DESCRIPTION:
URL:https://wilcogop.org/event/northwest-austin-republican-women-monthly-meeting/2029-08-01/
LOCATION:Balcones Country Club\, 8600 Balcones Club Dr\, Austin\, TX\, 78750\, United States
ORGANIZER;CN="Northwest Austin Republican Women":MAILTO:membership@nwarw.org
END:VEVENT
END:VCALENDAR