BEGIN:VCALENDAR
VERSION:2.0
PRODID:-//Williamson County Republican Party - ECPv6.15.20//NONSGML v1.0//EN
CALSCALE:GREGORIAN
METHOD:PUBLISH
X-ORIGINAL-URL:https://wilcogop.org
X-WR-CALDESC:Events for Williamson County Republican Party
REFRESH-INTERVAL;VALUE=DURATION:PT1H
X-Robots-Tag:noindex
X-PUBLISHED-TTL:PT1H
BEGIN:VTIMEZONE
TZID:America/New_York
BEGIN:DAYLIGHT
TZOFFSETFROM:-0500
TZOFFSETTO:-0400
TZNAME:EDT
DTSTART:20250309T070000
END:DAYLIGHT
BEGIN:STANDARD
TZOFFSETFROM:-0400
TZOFFSETTO:-0500
TZNAME:EST
DTSTART:20251102T060000
END:STANDARD
BEGIN:DAYLIGHT
TZOFFSETFROM:-0500
TZOFFSETTO:-0400
TZNAME:EDT
DTSTART:20260308T070000
END:DAYLIGHT
BEGIN:STANDARD
TZOFFSETFROM:-0400
TZOFFSETTO:-0500
TZNAME:EST
DTSTART:20261101T060000
END:STANDARD
BEGIN:DAYLIGHT
TZOFFSETFROM:-0500
TZOFFSETTO:-0400
TZNAME:EDT
DTSTART:20270314T070000
END:DAYLIGHT
BEGIN:STANDARD
TZOFFSETFROM:-0400
TZOFFSETTO:-0500
TZNAME:EST
DTSTART:20271107T060000
END:STANDARD
END:VTIMEZONE
BEGIN:VTIMEZONE
TZID:America/Chicago
BEGIN:DAYLIGHT
TZOFFSETFROM:-0600
TZOFFSETTO:-0500
TZNAME:CDT
DTSTART:20250309T080000
END:DAYLIGHT
BEGIN:STANDARD
TZOFFSETFROM:-0500
TZOFFSETTO:-0600
TZNAME:CST
DTSTART:20251102T070000
END:STANDARD
BEGIN:DAYLIGHT
TZOFFSETFROM:-0600
TZOFFSETTO:-0500
TZNAME:CDT
DTSTART:20260308T080000
END:DAYLIGHT
BEGIN:STANDARD
TZOFFSETFROM:-0500
TZOFFSETTO:-0600
TZNAME:CST
DTSTART:20261101T070000
END:STANDARD
BEGIN:DAYLIGHT
TZOFFSETFROM:-0600
TZOFFSETTO:-0500
TZNAME:CDT
DTSTART:20270314T080000
END:DAYLIGHT
BEGIN:STANDARD
TZOFFSETFROM:-0500
TZOFFSETTO:-0600
TZNAME:CST
DTSTART:20271107T070000
END:STANDARD
END:VTIMEZONE
BEGIN:VTIMEZONE
TZID:America/Chicago
BEGIN:DAYLIGHT
TZOFFSETFROM:-0600
TZOFFSETTO:-0500
TZNAME:CDT
DTSTART:20250309T080000
END:DAYLIGHT
BEGIN:STANDARD
TZOFFSETFROM:-0500
TZOFFSETTO:-0600
TZNAME:CST
DTSTART:20251102T070000
END:STANDARD
BEGIN:DAYLIGHT
TZOFFSETFROM:-0600
TZOFFSETTO:-0500
TZNAME:CDT
DTSTART:20260308T080000
END:DAYLIGHT
BEGIN:STANDARD
TZOFFSETFROM:-0500
TZOFFSETTO:-0600
TZNAME:CST
DTSTART:20261101T070000
END:STANDARD
BEGIN:DAYLIGHT
TZOFFSETFROM:-0600
TZOFFSETTO:-0500
TZNAME:CDT
DTSTART:20270314T080000
END:DAYLIGHT
BEGIN:STANDARD
TZOFFSETFROM:-0500
TZOFFSETTO:-0600
TZNAME:CST
DTSTART:20271107T070000
END:STANDARD
END:VTIMEZONE
BEGIN:VEVENT
DTSTART;TZID=America/New_York:20260120T183000
DTEND;TZID=America/New_York:20260120T203000
DTSTAMP:20260421T121417
CREATED:20260113T163902Z
LAST-MODIFIED:20260113T163903Z
UID:10000034-1768933800-1768941000@wilcogop.org
SUMMARY:Wilco Young Republicans
DESCRIPTION:
URL:https://wilcogop.org/event/wilco-young-republicans-2/2026-01-20/
LOCATION:Alcove Cantina\, 119 E Main St\, Round Rock\, TX\, 78664\, United States
CATEGORIES:Event
END:VEVENT
BEGIN:VEVENT
DTSTART;TZID=America/Chicago:20260124T173000
DTEND;TZID=America/Chicago:20260124T223000
DTSTAMP:20260421T121417
CREATED:20251106T010213Z
LAST-MODIFIED:20260105T195243Z
UID:10000765-1769275800-1769293800@wilcogop.org
SUMMARY:Golden Age Gala
DESCRIPTION:Celebrate with the Williamson County Republican Party as we usher in a new Golden Age of American exceptionalism with Keynote Speakers Benny Johnson and Congressman Jim Jordan! \nThis is the can’t-miss political event of the year\, and we are excited to kick off an important mid-term year by gathering with hundreds of conservatives in Round Rock. \nCandidates\, local clubs\, and businesses are encouraged to explore sponsorship opportunities in order to guarantee seating with friends\, supporters\, or club members. Those interested in Title Sponsorship or Speaker Sponsorship should email chairman@wilcogop.org. \nThe VIP experience includes a photo opportunity with Benny Johnson\, complimentary light appetizers\, and an open bar before the dinner program. \nSuggested attire: black tie/formal \nAbout our speakers: \nBenny Johnson is a conservative political commentator and digital strategist known for his viral\, comedic\, and high-energy political content. As the host of The Benny Show and co-founder of Turning Point USA’s media division\, Johnson has built one of the most recognizable voices in right-leaning online commentary. \nHe first gained attention as a journalist for BuzzFeed and The Blaze\, where his blend of humor\, visual storytelling\, and political analysis made him a breakout figure in digital media. He later became Creative Director for Turning Point USA\, helping develop the group’s youth-oriented video content strategy and live event coverage. \nToday\, Benny reaches millions across multiple platforms with his energetic style of news commentary\, pop-culture analysis\, and activism-driven storytelling. His presentations center on how storytelling\, humor\, and authenticity can shift modern political engagement and communication. \nOutside of his show\, Benny is a frequent guest at conservative conferences\, including TPUSA’s AmericaFest\, CPAC\, and various leadership summits\, where he speaks on the future of media\, influence\, and cultural engagement. \nCongressman Jim Jordan was raised in Champaign County\, Ohio\, graduating from Graham High School in 1982\, where he was a four-time state champion in wrestling with a career record of 150-1. He went on to earn a Bachelor’s Degree in Economics from the University of Wisconsin\, where he was a two-time NCAA wrestling champion. He later earned a Master’s degree in Education from the Ohio State University and a Law Degree from Capital University in Columbus\, Ohio. \nIn the 114th Congress\, Congressman Jordan helped found the House Freedom Caucus\, and served as its first Chairman. He serves on the House Judiciary Committee and the House Oversight and Government Reform Committee\, where he serves as Chairman of the Subcommittee on Health Care\, Benefits\, and Administrative Rules. In 2021\, Congressman Jordan was awarded the Presidential Medal of Freedom by President Donald J Trump.
URL:https://wilcogop.org/event/golden-age-gala/
LOCATION:TX
END:VEVENT
BEGIN:VEVENT
DTSTART;TZID=America/Chicago:20260127T183000
DTEND;TZID=America/Chicago:20260127T183000
DTSTAMP:20260421T121417
CREATED:20250331T140004Z
LAST-MODIFIED:20250912T042348Z
UID:10000861-1769538600-1769538600@wilcogop.org
SUMMARY:Williamson County Executive Committee Meeting
DESCRIPTION:
URL:https://wilcogop.org/event/williamson-county-executive-committee-meeting-5/2026-01-27/
LOCATION:Williamson County Jester Annex\, 1801 E Old Settlers Blvd\, Round Rock\, TX\, 78664\, United States
CATEGORIES:Executive Committee Meeting
END:VEVENT
BEGIN:VEVENT
DTSTART;TZID=America/Chicago:20260127T183000
DTEND;TZID=America/Chicago:20260127T183000
DTSTAMP:20260421T121417
CREATED:20260126T171854Z
LAST-MODIFIED:20260126T171855Z
UID:10000697-1769538600-1769538600@wilcogop.org
SUMMARY:Williamson County Executive Committee Meeting
DESCRIPTION:
URL:https://wilcogop.org/event/williamson-county-executive-committee-meeting-5-2/
LOCATION:1501 Leander Dr\, 1501 Leander Dr\, Leander\, TX\, United States
CATEGORIES:Executive Committee Meeting
END:VEVENT
BEGIN:VEVENT
DTSTART;TZID=America/Chicago:20260129T180000
DTEND;TZID=America/Chicago:20260129T203000
DTSTAMP:20260421T121417
CREATED:20260128T162122Z
LAST-MODIFIED:20260128T162122Z
UID:10000833-1769709600-1769718600@wilcogop.org
SUMMARY:Take Back Texas Tour Stop
DESCRIPTION:For Liberty & Justice is collaborating with the Texas GOP and the Wilco GOP to host a countywide candidate forum to highlight the candidates who share our Christian Conservative values. \nJoin us on Thursday\, January 29 at 6 p.m. at Vintage Church in Liberty Hill for an evening of boldness and reformation as the church steps up to Take Back Texas by upholding biblical values. Confirmed candidates include: \nSteve Snell for County Judge \nSarah Moore and Ryan Bownds for 512th District Court \nJeff Mayes\, David McDonald and Rupal Chaudhari for County Commissioner Precinct 2 \nRaymond Hamden and Elvis Lossa for Congressional District 31
URL:https://wilcogop.org/event/take-back-texas-tour-stop/
LOCATION:Vintage Church Liberty Hill\, 170 County Road 214\, Liberty Hill\, TX\, 78642\, United States
END:VEVENT
END:VCALENDAR