BEGIN:VCALENDAR
VERSION:2.0
PRODID:-//Williamson County Republican Party - ECPv6.15.20//NONSGML v1.0//EN
CALSCALE:GREGORIAN
METHOD:PUBLISH
X-WR-CALNAME:Williamson County Republican Party
X-ORIGINAL-URL:https://wilcogop.org
X-WR-CALDESC:Events for Williamson County Republican Party
REFRESH-INTERVAL;VALUE=DURATION:PT1H
X-Robots-Tag:noindex
X-PUBLISHED-TTL:PT1H
BEGIN:VTIMEZONE
TZID:America/Chicago
BEGIN:DAYLIGHT
TZOFFSETFROM:-0600
TZOFFSETTO:-0500
TZNAME:CDT
DTSTART:20290311T080000
END:DAYLIGHT
BEGIN:STANDARD
TZOFFSETFROM:-0500
TZOFFSETTO:-0600
TZNAME:CST
DTSTART:20291104T070000
END:STANDARD
BEGIN:DAYLIGHT
TZOFFSETFROM:-0600
TZOFFSETTO:-0500
TZNAME:CDT
DTSTART:20300310T080000
END:DAYLIGHT
BEGIN:STANDARD
TZOFFSETFROM:-0500
TZOFFSETTO:-0600
TZNAME:CST
DTSTART:20301103T070000
END:STANDARD
BEGIN:DAYLIGHT
TZOFFSETFROM:-0600
TZOFFSETTO:-0500
TZNAME:CDT
DTSTART:20310309T080000
END:DAYLIGHT
BEGIN:STANDARD
TZOFFSETFROM:-0500
TZOFFSETTO:-0600
TZNAME:CST
DTSTART:20311102T070000
END:STANDARD
BEGIN:DAYLIGHT
TZOFFSETFROM:-0600
TZOFFSETTO:-0500
TZNAME:CDT
DTSTART:20320314T080000
END:DAYLIGHT
BEGIN:STANDARD
TZOFFSETFROM:-0500
TZOFFSETTO:-0600
TZNAME:CST
DTSTART:20321107T070000
END:STANDARD
END:VTIMEZONE
BEGIN:VTIMEZONE
TZID:America/New_York
BEGIN:DAYLIGHT
TZOFFSETFROM:-0500
TZOFFSETTO:-0400
TZNAME:EDT
DTSTART:20290311T070000
END:DAYLIGHT
BEGIN:STANDARD
TZOFFSETFROM:-0400
TZOFFSETTO:-0500
TZNAME:EST
DTSTART:20291104T060000
END:STANDARD
BEGIN:DAYLIGHT
TZOFFSETFROM:-0500
TZOFFSETTO:-0400
TZNAME:EDT
DTSTART:20300310T070000
END:DAYLIGHT
BEGIN:STANDARD
TZOFFSETFROM:-0400
TZOFFSETTO:-0500
TZNAME:EST
DTSTART:20301103T060000
END:STANDARD
BEGIN:DAYLIGHT
TZOFFSETFROM:-0500
TZOFFSETTO:-0400
TZNAME:EDT
DTSTART:20310309T070000
END:DAYLIGHT
BEGIN:STANDARD
TZOFFSETFROM:-0400
TZOFFSETTO:-0500
TZNAME:EST
DTSTART:20311102T060000
END:STANDARD
BEGIN:DAYLIGHT
TZOFFSETFROM:-0500
TZOFFSETTO:-0400
TZNAME:EDT
DTSTART:20320314T070000
END:DAYLIGHT
BEGIN:STANDARD
TZOFFSETFROM:-0400
TZOFFSETTO:-0500
TZNAME:EST
DTSTART:20321107T060000
END:STANDARD
END:VTIMEZONE
BEGIN:VTIMEZONE
TZID:America/Chicago
BEGIN:DAYLIGHT
TZOFFSETFROM:-0600
TZOFFSETTO:-0500
TZNAME:CDT
DTSTART:20290311T080000
END:DAYLIGHT
BEGIN:STANDARD
TZOFFSETFROM:-0500
TZOFFSETTO:-0600
TZNAME:CST
DTSTART:20291104T070000
END:STANDARD
BEGIN:DAYLIGHT
TZOFFSETFROM:-0600
TZOFFSETTO:-0500
TZNAME:CDT
DTSTART:20300310T080000
END:DAYLIGHT
BEGIN:STANDARD
TZOFFSETFROM:-0500
TZOFFSETTO:-0600
TZNAME:CST
DTSTART:20301103T070000
END:STANDARD
BEGIN:DAYLIGHT
TZOFFSETFROM:-0600
TZOFFSETTO:-0500
TZNAME:CDT
DTSTART:20310309T080000
END:DAYLIGHT
BEGIN:STANDARD
TZOFFSETFROM:-0500
TZOFFSETTO:-0600
TZNAME:CST
DTSTART:20311102T070000
END:STANDARD
BEGIN:DAYLIGHT
TZOFFSETFROM:-0600
TZOFFSETTO:-0500
TZNAME:CDT
DTSTART:20320314T080000
END:DAYLIGHT
BEGIN:STANDARD
TZOFFSETFROM:-0500
TZOFFSETTO:-0600
TZNAME:CST
DTSTART:20321107T070000
END:STANDARD
END:VTIMEZONE
BEGIN:VEVENT
DTSTART;TZID=America/Chicago:20301106T110000
DTEND;TZID=America/Chicago:20301106T130000
DTSTAMP:20260422T000755
CREATED:20260415T132834Z
LAST-MODIFIED:20260415T132834Z
UID:10001302-1920193200-1920200400@wilcogop.org
SUMMARY:Northwest Austin Republican Women Monthly Meeting
DESCRIPTION:
URL:https://wilcogop.org/event/northwest-austin-republican-women-monthly-meeting/2030-11-06/
LOCATION:Balcones Country Club\, 8600 Balcones Club Dr\, Austin\, TX\, 78750\, United States
ORGANIZER;CN="Northwest Austin Republican Women":MAILTO:membership@nwarw.org
END:VEVENT
BEGIN:VEVENT
DTSTART;TZID=America/Chicago:20301118T120000
DTEND;TZID=America/Chicago:20301118T133000
DTSTAMP:20260422T000755
CREATED:20260415T132216Z
LAST-MODIFIED:20260415T132216Z
UID:10001061-1921233600-1921239000@wilcogop.org
SUMMARY:Liberty Hill Republican Women Monthly Meeting
DESCRIPTION:
URL:https://wilcogop.org/event/liberty-hill-republican-women-monthly-meeting/2030-11-18/
LOCATION:Jardin Corona 15395 W State Highway 29 Liberty Hill\, 15395 W State Highway 29\, Liberty Hill\, 78642\, United States
END:VEVENT
BEGIN:VEVENT
DTSTART;TZID=America/New_York:20301119T183000
DTEND;TZID=America/New_York:20301119T203000
DTSTAMP:20260422T000755
CREATED:20260409T051144Z
LAST-MODIFIED:20260414T123655Z
UID:10001001-1921343400-1921350600@wilcogop.org
SUMMARY:Wilco Young Republicans
DESCRIPTION:
URL:https://wilcogop.org/event/wilco-young-republicans-2-2/2030-11-19/
LOCATION:The Rock\, 205 N Mays St\, Round Rock\, Texas\, 78664\, United States
CATEGORIES:Event
END:VEVENT
BEGIN:VEVENT
DTSTART;TZID=America/Chicago:20301119T183000
DTEND;TZID=America/Chicago:20301119T203000
DTSTAMP:20260422T000755
CREATED:20260415T132945Z
LAST-MODIFIED:20260415T132945Z
UID:10001363-1921343400-1921350600@wilcogop.org
SUMMARY:True Texas Project - Wilco Monthly Meeting
DESCRIPTION:
URL:https://wilcogop.org/event/true-texas-project-wilco-monthly-meeting/2030-11-19/
LOCATION:1501 Leander Dr\, 1501 Leander Dr\, Leander\, TX\, United States
END:VEVENT
BEGIN:VEVENT
DTSTART;TZID=America/Chicago:20301121T110000
DTEND;TZID=America/Chicago:20301121T130000
DTSTAMP:20260422T000755
CREATED:20260415T132524Z
LAST-MODIFIED:20260415T132524Z
UID:10001181-1921489200-1921496400@wilcogop.org
SUMMARY:Georgetown Area Republican Women
DESCRIPTION:
URL:https://wilcogop.org/event/georgetown-area-republican-women/2030-11-21/
LOCATION:Georgetown Chamber of Commerce\, 1 Chamber Way\, Georgetown\, TX\, 78626\, United States
ORGANIZER;CN="Georgetown Area Republican Women":MAILTO:garwpac@gmail.com
END:VEVENT
BEGIN:VEVENT
DTSTART;TZID=America/Chicago:20301121T183000
DTEND;TZID=America/Chicago:20301121T203000
DTSTAMP:20260422T000755
CREATED:20260415T132359Z
LAST-MODIFIED:20260415T132422Z
UID:10001121-1921516200-1921523400@wilcogop.org
SUMMARY:East Williamson County Republicans Monthly Meeting
DESCRIPTION:
URL:https://wilcogop.org/event/east-williamson-county-republicans-monthly-meeting/2030-11-21/
LOCATION:Sirloin Stockade – Taylor\, 3607 N Main St\, Taylor\, TX\, 76574\, United States
END:VEVENT
BEGIN:VEVENT
DTSTART;TZID=America/Chicago:20301125T110000
DTEND;TZID=America/Chicago:20301125T130000
DTSTAMP:20260422T000755
CREATED:20260415T132624Z
LAST-MODIFIED:20260415T132624Z
UID:10001241-1921834800-1921842000@wilcogop.org
SUMMARY:Leander Area Republican Women
DESCRIPTION:
URL:https://wilcogop.org/event/leander-area-republican-women/2030-11-25/
LOCATION:Facility Resource\, Inc\, 1641 Scottsdale Dr\, Cedar Park\,\, TX\, 78613\, United States
ORGANIZER;CN="Leander Area Republican Women":MAILTO:presidentlarw@gmail.com
END:VEVENT
BEGIN:VEVENT
DTSTART;TZID=America/Chicago:20301126T183000
DTEND;TZID=America/Chicago:20301126T183000
DTSTAMP:20260422T000755
CREATED:20250331T140004Z
LAST-MODIFIED:20250912T042348Z
UID:10000865-1921948200-1921948200@wilcogop.org
SUMMARY:Williamson County Executive Committee Meeting
DESCRIPTION:
URL:https://wilcogop.org/event/williamson-county-executive-committee-meeting-5/2030-11-26/
LOCATION:Williamson County Jester Annex\, 1801 E Old Settlers Blvd\, Round Rock\, TX\, 78664\, United States
CATEGORIES:Executive Committee Meeting
END:VEVENT
BEGIN:VEVENT
DTSTART;TZID=America/Chicago:20301204T110000
DTEND;TZID=America/Chicago:20301204T130000
DTSTAMP:20260422T000755
CREATED:20260415T132834Z
LAST-MODIFIED:20260415T132834Z
UID:10001303-1922612400-1922619600@wilcogop.org
SUMMARY:Northwest Austin Republican Women Monthly Meeting
DESCRIPTION:
URL:https://wilcogop.org/event/northwest-austin-republican-women-monthly-meeting/2030-12-04/
LOCATION:Balcones Country Club\, 8600 Balcones Club Dr\, Austin\, TX\, 78750\, United States
ORGANIZER;CN="Northwest Austin Republican Women":MAILTO:membership@nwarw.org
END:VEVENT
BEGIN:VEVENT
DTSTART;TZID=America/Chicago:20301216T120000
DTEND;TZID=America/Chicago:20301216T133000
DTSTAMP:20260422T000755
CREATED:20260415T132216Z
LAST-MODIFIED:20260415T132216Z
UID:10001062-1923652800-1923658200@wilcogop.org
SUMMARY:Liberty Hill Republican Women Monthly Meeting
DESCRIPTION:
URL:https://wilcogop.org/event/liberty-hill-republican-women-monthly-meeting/2030-12-16/
LOCATION:Jardin Corona 15395 W State Highway 29 Liberty Hill\, 15395 W State Highway 29\, Liberty Hill\, 78642\, United States
END:VEVENT
BEGIN:VEVENT
DTSTART;TZID=America/New_York:20301217T183000
DTEND;TZID=America/New_York:20301217T203000
DTSTAMP:20260422T000755
CREATED:20260409T051144Z
LAST-MODIFIED:20260414T123655Z
UID:10001002-1923762600-1923769800@wilcogop.org
SUMMARY:Wilco Young Republicans
DESCRIPTION:
URL:https://wilcogop.org/event/wilco-young-republicans-2-2/2030-12-17/
LOCATION:The Rock\, 205 N Mays St\, Round Rock\, Texas\, 78664\, United States
CATEGORIES:Event
END:VEVENT
BEGIN:VEVENT
DTSTART;TZID=America/Chicago:20301217T183000
DTEND;TZID=America/Chicago:20301217T203000
DTSTAMP:20260422T000755
CREATED:20260415T132945Z
LAST-MODIFIED:20260415T132945Z
UID:10001364-1923762600-1923769800@wilcogop.org
SUMMARY:True Texas Project - Wilco Monthly Meeting
DESCRIPTION:
URL:https://wilcogop.org/event/true-texas-project-wilco-monthly-meeting/2030-12-17/
LOCATION:1501 Leander Dr\, 1501 Leander Dr\, Leander\, TX\, United States
END:VEVENT
BEGIN:VEVENT
DTSTART;TZID=America/Chicago:20301219T110000
DTEND;TZID=America/Chicago:20301219T130000
DTSTAMP:20260422T000755
CREATED:20260415T132524Z
LAST-MODIFIED:20260415T132524Z
UID:10001182-1923908400-1923915600@wilcogop.org
SUMMARY:Georgetown Area Republican Women
DESCRIPTION:
URL:https://wilcogop.org/event/georgetown-area-republican-women/2030-12-19/
LOCATION:Georgetown Chamber of Commerce\, 1 Chamber Way\, Georgetown\, TX\, 78626\, United States
ORGANIZER;CN="Georgetown Area Republican Women":MAILTO:garwpac@gmail.com
END:VEVENT
BEGIN:VEVENT
DTSTART;TZID=America/Chicago:20301219T183000
DTEND;TZID=America/Chicago:20301219T203000
DTSTAMP:20260422T000755
CREATED:20260415T132359Z
LAST-MODIFIED:20260415T132422Z
UID:10001122-1923935400-1923942600@wilcogop.org
SUMMARY:East Williamson County Republicans Monthly Meeting
DESCRIPTION:
URL:https://wilcogop.org/event/east-williamson-county-republicans-monthly-meeting/2030-12-19/
LOCATION:Sirloin Stockade – Taylor\, 3607 N Main St\, Taylor\, TX\, 76574\, United States
END:VEVENT
BEGIN:VEVENT
DTSTART;TZID=America/Chicago:20301223T110000
DTEND;TZID=America/Chicago:20301223T130000
DTSTAMP:20260422T000755
CREATED:20260415T132624Z
LAST-MODIFIED:20260415T132624Z
UID:10001242-1924254000-1924261200@wilcogop.org
SUMMARY:Leander Area Republican Women
DESCRIPTION:
URL:https://wilcogop.org/event/leander-area-republican-women/2030-12-23/
LOCATION:Facility Resource\, Inc\, 1641 Scottsdale Dr\, Cedar Park\,\, TX\, 78613\, United States
ORGANIZER;CN="Leander Area Republican Women":MAILTO:presidentlarw@gmail.com
END:VEVENT
BEGIN:VEVENT
DTSTART;TZID=America/Chicago:20301231T183000
DTEND;TZID=America/Chicago:20301231T183000
DTSTAMP:20260422T000755
CREATED:20250331T140004Z
LAST-MODIFIED:20250912T042348Z
UID:10000866-1924972200-1924972200@wilcogop.org
SUMMARY:Williamson County Executive Committee Meeting
DESCRIPTION:
URL:https://wilcogop.org/event/williamson-county-executive-committee-meeting-5/2030-12-31/
LOCATION:Williamson County Jester Annex\, 1801 E Old Settlers Blvd\, Round Rock\, TX\, 78664\, United States
CATEGORIES:Executive Committee Meeting
END:VEVENT
BEGIN:VEVENT
DTSTART;TZID=America/Chicago:20310101T110000
DTEND;TZID=America/Chicago:20310101T130000
DTSTAMP:20260422T000755
CREATED:20260415T132834Z
LAST-MODIFIED:20260415T132834Z
UID:10001304-1925031600-1925038800@wilcogop.org
SUMMARY:Northwest Austin Republican Women Monthly Meeting
DESCRIPTION:
URL:https://wilcogop.org/event/northwest-austin-republican-women-monthly-meeting/2031-01-01/
LOCATION:Balcones Country Club\, 8600 Balcones Club Dr\, Austin\, TX\, 78750\, United States
ORGANIZER;CN="Northwest Austin Republican Women":MAILTO:membership@nwarw.org
END:VEVENT
BEGIN:VEVENT
DTSTART;TZID=America/Chicago:20310116T110000
DTEND;TZID=America/Chicago:20310116T130000
DTSTAMP:20260422T000755
CREATED:20260415T132524Z
LAST-MODIFIED:20260415T132524Z
UID:10001183-1926327600-1926334800@wilcogop.org
SUMMARY:Georgetown Area Republican Women
DESCRIPTION:
URL:https://wilcogop.org/event/georgetown-area-republican-women/2031-01-16/
LOCATION:Georgetown Chamber of Commerce\, 1 Chamber Way\, Georgetown\, TX\, 78626\, United States
ORGANIZER;CN="Georgetown Area Republican Women":MAILTO:garwpac@gmail.com
END:VEVENT
BEGIN:VEVENT
DTSTART;TZID=America/Chicago:20310116T183000
DTEND;TZID=America/Chicago:20310116T203000
DTSTAMP:20260422T000755
CREATED:20260415T132359Z
LAST-MODIFIED:20260415T132422Z
UID:10001123-1926354600-1926361800@wilcogop.org
SUMMARY:East Williamson County Republicans Monthly Meeting
DESCRIPTION:
URL:https://wilcogop.org/event/east-williamson-county-republicans-monthly-meeting/2031-01-16/
LOCATION:Sirloin Stockade – Taylor\, 3607 N Main St\, Taylor\, TX\, 76574\, United States
END:VEVENT
BEGIN:VEVENT
DTSTART;TZID=America/Chicago:20310120T120000
DTEND;TZID=America/Chicago:20310120T133000
DTSTAMP:20260422T000755
CREATED:20260415T132216Z
LAST-MODIFIED:20260415T132216Z
UID:10001063-1926676800-1926682200@wilcogop.org
SUMMARY:Liberty Hill Republican Women Monthly Meeting
DESCRIPTION:
URL:https://wilcogop.org/event/liberty-hill-republican-women-monthly-meeting/2031-01-20/
LOCATION:Jardin Corona 15395 W State Highway 29 Liberty Hill\, 15395 W State Highway 29\, Liberty Hill\, 78642\, United States
END:VEVENT
BEGIN:VEVENT
DTSTART;TZID=America/New_York:20310121T183000
DTEND;TZID=America/New_York:20310121T203000
DTSTAMP:20260422T000755
CREATED:20260409T051144Z
LAST-MODIFIED:20260414T123655Z
UID:10001003-1926786600-1926793800@wilcogop.org
SUMMARY:Wilco Young Republicans
DESCRIPTION:
URL:https://wilcogop.org/event/wilco-young-republicans-2-2/2031-01-21/
LOCATION:The Rock\, 205 N Mays St\, Round Rock\, Texas\, 78664\, United States
CATEGORIES:Event
END:VEVENT
BEGIN:VEVENT
DTSTART;TZID=America/Chicago:20310121T183000
DTEND;TZID=America/Chicago:20310121T203000
DTSTAMP:20260422T000755
CREATED:20260415T132945Z
LAST-MODIFIED:20260415T132945Z
UID:10001365-1926786600-1926793800@wilcogop.org
SUMMARY:True Texas Project - Wilco Monthly Meeting
DESCRIPTION:
URL:https://wilcogop.org/event/true-texas-project-wilco-monthly-meeting/2031-01-21/
LOCATION:1501 Leander Dr\, 1501 Leander Dr\, Leander\, TX\, United States
END:VEVENT
BEGIN:VEVENT
DTSTART;TZID=America/Chicago:20310127T110000
DTEND;TZID=America/Chicago:20310127T130000
DTSTAMP:20260422T000755
CREATED:20260415T132624Z
LAST-MODIFIED:20260415T132624Z
UID:10001243-1927278000-1927285200@wilcogop.org
SUMMARY:Leander Area Republican Women
DESCRIPTION:
URL:https://wilcogop.org/event/leander-area-republican-women/2031-01-27/
LOCATION:Facility Resource\, Inc\, 1641 Scottsdale Dr\, Cedar Park\,\, TX\, 78613\, United States
ORGANIZER;CN="Leander Area Republican Women":MAILTO:presidentlarw@gmail.com
END:VEVENT
BEGIN:VEVENT
DTSTART;TZID=America/Chicago:20310128T183000
DTEND;TZID=America/Chicago:20310128T183000
DTSTAMP:20260422T000755
CREATED:20250331T140004Z
LAST-MODIFIED:20250912T042348Z
UID:10000867-1927391400-1927391400@wilcogop.org
SUMMARY:Williamson County Executive Committee Meeting
DESCRIPTION:
URL:https://wilcogop.org/event/williamson-county-executive-committee-meeting-5/2031-01-28/
LOCATION:Williamson County Jester Annex\, 1801 E Old Settlers Blvd\, Round Rock\, TX\, 78664\, United States
CATEGORIES:Executive Committee Meeting
END:VEVENT
BEGIN:VEVENT
DTSTART;TZID=America/Chicago:20310205T110000
DTEND;TZID=America/Chicago:20310205T130000
DTSTAMP:20260422T000755
CREATED:20260415T132834Z
LAST-MODIFIED:20260415T132834Z
UID:10001305-1928055600-1928062800@wilcogop.org
SUMMARY:Northwest Austin Republican Women Monthly Meeting
DESCRIPTION:
URL:https://wilcogop.org/event/northwest-austin-republican-women-monthly-meeting/2031-02-05/
LOCATION:Balcones Country Club\, 8600 Balcones Club Dr\, Austin\, TX\, 78750\, United States
ORGANIZER;CN="Northwest Austin Republican Women":MAILTO:membership@nwarw.org
END:VEVENT
BEGIN:VEVENT
DTSTART;TZID=America/Chicago:20310217T120000
DTEND;TZID=America/Chicago:20310217T133000
DTSTAMP:20260422T000755
CREATED:20260415T132216Z
LAST-MODIFIED:20260415T132216Z
UID:10001064-1929096000-1929101400@wilcogop.org
SUMMARY:Liberty Hill Republican Women Monthly Meeting
DESCRIPTION:
URL:https://wilcogop.org/event/liberty-hill-republican-women-monthly-meeting/2031-02-17/
LOCATION:Jardin Corona 15395 W State Highway 29 Liberty Hill\, 15395 W State Highway 29\, Liberty Hill\, 78642\, United States
END:VEVENT
BEGIN:VEVENT
DTSTART;TZID=America/New_York:20310218T183000
DTEND;TZID=America/New_York:20310218T203000
DTSTAMP:20260422T000755
CREATED:20260409T051144Z
LAST-MODIFIED:20260414T123655Z
UID:10001004-1929205800-1929213000@wilcogop.org
SUMMARY:Wilco Young Republicans
DESCRIPTION:
URL:https://wilcogop.org/event/wilco-young-republicans-2-2/2031-02-18/
LOCATION:The Rock\, 205 N Mays St\, Round Rock\, Texas\, 78664\, United States
CATEGORIES:Event
END:VEVENT
BEGIN:VEVENT
DTSTART;TZID=America/Chicago:20310218T183000
DTEND;TZID=America/Chicago:20310218T203000
DTSTAMP:20260422T000755
CREATED:20260415T132945Z
LAST-MODIFIED:20260415T132945Z
UID:10001366-1929205800-1929213000@wilcogop.org
SUMMARY:True Texas Project - Wilco Monthly Meeting
DESCRIPTION:
URL:https://wilcogop.org/event/true-texas-project-wilco-monthly-meeting/2031-02-18/
LOCATION:1501 Leander Dr\, 1501 Leander Dr\, Leander\, TX\, United States
END:VEVENT
BEGIN:VEVENT
DTSTART;TZID=America/Chicago:20310220T110000
DTEND;TZID=America/Chicago:20310220T130000
DTSTAMP:20260422T000755
CREATED:20260415T132524Z
LAST-MODIFIED:20260415T132524Z
UID:10001184-1929351600-1929358800@wilcogop.org
SUMMARY:Georgetown Area Republican Women
DESCRIPTION:
URL:https://wilcogop.org/event/georgetown-area-republican-women/2031-02-20/
LOCATION:Georgetown Chamber of Commerce\, 1 Chamber Way\, Georgetown\, TX\, 78626\, United States
ORGANIZER;CN="Georgetown Area Republican Women":MAILTO:garwpac@gmail.com
END:VEVENT
BEGIN:VEVENT
DTSTART;TZID=America/Chicago:20310220T183000
DTEND;TZID=America/Chicago:20310220T203000
DTSTAMP:20260422T000755
CREATED:20260415T132359Z
LAST-MODIFIED:20260415T132422Z
UID:10001124-1929378600-1929385800@wilcogop.org
SUMMARY:East Williamson County Republicans Monthly Meeting
DESCRIPTION:
URL:https://wilcogop.org/event/east-williamson-county-republicans-monthly-meeting/2031-02-20/
LOCATION:Sirloin Stockade – Taylor\, 3607 N Main St\, Taylor\, TX\, 76574\, United States
END:VEVENT
END:VCALENDAR