BEGIN:VCALENDAR
VERSION:2.0
PRODID:-//Williamson County Republican Party - ECPv6.15.20//NONSGML v1.0//EN
CALSCALE:GREGORIAN
METHOD:PUBLISH
X-ORIGINAL-URL:https://wilcogop.org
X-WR-CALDESC:Events for Williamson County Republican Party
REFRESH-INTERVAL;VALUE=DURATION:PT1H
X-Robots-Tag:noindex
X-PUBLISHED-TTL:PT1H
BEGIN:VTIMEZONE
TZID:America/Chicago
BEGIN:DAYLIGHT
TZOFFSETFROM:-0600
TZOFFSETTO:-0500
TZNAME:CDT
DTSTART:20290311T080000
END:DAYLIGHT
BEGIN:STANDARD
TZOFFSETFROM:-0500
TZOFFSETTO:-0600
TZNAME:CST
DTSTART:20291104T070000
END:STANDARD
BEGIN:DAYLIGHT
TZOFFSETFROM:-0600
TZOFFSETTO:-0500
TZNAME:CDT
DTSTART:20300310T080000
END:DAYLIGHT
BEGIN:STANDARD
TZOFFSETFROM:-0500
TZOFFSETTO:-0600
TZNAME:CST
DTSTART:20301103T070000
END:STANDARD
BEGIN:DAYLIGHT
TZOFFSETFROM:-0600
TZOFFSETTO:-0500
TZNAME:CDT
DTSTART:20310309T080000
END:DAYLIGHT
BEGIN:STANDARD
TZOFFSETFROM:-0500
TZOFFSETTO:-0600
TZNAME:CST
DTSTART:20311102T070000
END:STANDARD
END:VTIMEZONE
BEGIN:VTIMEZONE
TZID:America/New_York
BEGIN:DAYLIGHT
TZOFFSETFROM:-0500
TZOFFSETTO:-0400
TZNAME:EDT
DTSTART:20290311T070000
END:DAYLIGHT
BEGIN:STANDARD
TZOFFSETFROM:-0400
TZOFFSETTO:-0500
TZNAME:EST
DTSTART:20291104T060000
END:STANDARD
BEGIN:DAYLIGHT
TZOFFSETFROM:-0500
TZOFFSETTO:-0400
TZNAME:EDT
DTSTART:20300310T070000
END:DAYLIGHT
BEGIN:STANDARD
TZOFFSETFROM:-0400
TZOFFSETTO:-0500
TZNAME:EST
DTSTART:20301103T060000
END:STANDARD
BEGIN:DAYLIGHT
TZOFFSETFROM:-0500
TZOFFSETTO:-0400
TZNAME:EDT
DTSTART:20310309T070000
END:DAYLIGHT
BEGIN:STANDARD
TZOFFSETFROM:-0400
TZOFFSETTO:-0500
TZNAME:EST
DTSTART:20311102T060000
END:STANDARD
END:VTIMEZONE
BEGIN:VTIMEZONE
TZID:America/Chicago
BEGIN:DAYLIGHT
TZOFFSETFROM:-0600
TZOFFSETTO:-0500
TZNAME:CDT
DTSTART:20290311T080000
END:DAYLIGHT
BEGIN:STANDARD
TZOFFSETFROM:-0500
TZOFFSETTO:-0600
TZNAME:CST
DTSTART:20291104T070000
END:STANDARD
BEGIN:DAYLIGHT
TZOFFSETFROM:-0600
TZOFFSETTO:-0500
TZNAME:CDT
DTSTART:20300310T080000
END:DAYLIGHT
BEGIN:STANDARD
TZOFFSETFROM:-0500
TZOFFSETTO:-0600
TZNAME:CST
DTSTART:20301103T070000
END:STANDARD
BEGIN:DAYLIGHT
TZOFFSETFROM:-0600
TZOFFSETTO:-0500
TZNAME:CDT
DTSTART:20310309T080000
END:DAYLIGHT
BEGIN:STANDARD
TZOFFSETFROM:-0500
TZOFFSETTO:-0600
TZNAME:CST
DTSTART:20311102T070000
END:STANDARD
END:VTIMEZONE
BEGIN:VEVENT
DTSTART;TZID=America/Chicago:20300605T110000
DTEND;TZID=America/Chicago:20300605T130000
DTSTAMP:20260421T182518
CREATED:20260415T132834Z
LAST-MODIFIED:20260415T132834Z
UID:10001297-1906887600-1906894800@wilcogop.org
SUMMARY:Northwest Austin Republican Women Monthly Meeting
DESCRIPTION:
URL:https://wilcogop.org/event/northwest-austin-republican-women-monthly-meeting/2030-06-05/
LOCATION:Balcones Country Club\, 8600 Balcones Club Dr\, Austin\, TX\, 78750\, United States
ORGANIZER;CN="Northwest Austin Republican Women":MAILTO:membership@nwarw.org
END:VEVENT
BEGIN:VEVENT
DTSTART;TZID=America/Chicago:20300617T120000
DTEND;TZID=America/Chicago:20300617T133000
DTSTAMP:20260421T182518
CREATED:20260415T132216Z
LAST-MODIFIED:20260415T132216Z
UID:10001056-1907928000-1907933400@wilcogop.org
SUMMARY:Liberty Hill Republican Women Monthly Meeting
DESCRIPTION:
URL:https://wilcogop.org/event/liberty-hill-republican-women-monthly-meeting/2030-06-17/
LOCATION:Jardin Corona 15395 W State Highway 29 Liberty Hill\, 15395 W State Highway 29\, Liberty Hill\, 78642\, United States
END:VEVENT
BEGIN:VEVENT
DTSTART;TZID=America/New_York:20300618T183000
DTEND;TZID=America/New_York:20300618T203000
DTSTAMP:20260421T182518
CREATED:20260409T051144Z
LAST-MODIFIED:20260414T123655Z
UID:10000996-1908037800-1908045000@wilcogop.org
SUMMARY:Wilco Young Republicans
DESCRIPTION:
URL:https://wilcogop.org/event/wilco-young-republicans-2-2/2030-06-18/
LOCATION:The Rock\, 205 N Mays St\, Round Rock\, Texas\, 78664\, United States
CATEGORIES:Event
END:VEVENT
BEGIN:VEVENT
DTSTART;TZID=America/Chicago:20300618T183000
DTEND;TZID=America/Chicago:20300618T203000
DTSTAMP:20260421T182518
CREATED:20260415T132945Z
LAST-MODIFIED:20260415T132945Z
UID:10001358-1908037800-1908045000@wilcogop.org
SUMMARY:True Texas Project - Wilco Monthly Meeting
DESCRIPTION:
URL:https://wilcogop.org/event/true-texas-project-wilco-monthly-meeting/2030-06-18/
LOCATION:1501 Leander Dr\, 1501 Leander Dr\, Leander\, TX\, United States
END:VEVENT
BEGIN:VEVENT
DTSTART;TZID=America/Chicago:20300620T110000
DTEND;TZID=America/Chicago:20300620T130000
DTSTAMP:20260421T182518
CREATED:20260415T132524Z
LAST-MODIFIED:20260415T132524Z
UID:10001176-1908183600-1908190800@wilcogop.org
SUMMARY:Georgetown Area Republican Women
DESCRIPTION:
URL:https://wilcogop.org/event/georgetown-area-republican-women/2030-06-20/
LOCATION:Georgetown Chamber of Commerce\, 1 Chamber Way\, Georgetown\, TX\, 78626\, United States
ORGANIZER;CN="Georgetown Area Republican Women":MAILTO:garwpac@gmail.com
END:VEVENT
BEGIN:VEVENT
DTSTART;TZID=America/Chicago:20300620T183000
DTEND;TZID=America/Chicago:20300620T203000
DTSTAMP:20260421T182518
CREATED:20260415T132359Z
LAST-MODIFIED:20260415T132422Z
UID:10001116-1908210600-1908217800@wilcogop.org
SUMMARY:East Williamson County Republicans Monthly Meeting
DESCRIPTION:
URL:https://wilcogop.org/event/east-williamson-county-republicans-monthly-meeting/2030-06-20/
LOCATION:Sirloin Stockade – Taylor\, 3607 N Main St\, Taylor\, TX\, 76574\, United States
END:VEVENT
BEGIN:VEVENT
DTSTART;TZID=America/Chicago:20300624T110000
DTEND;TZID=America/Chicago:20300624T130000
DTSTAMP:20260421T182518
CREATED:20260415T132624Z
LAST-MODIFIED:20260415T132624Z
UID:10001236-1908529200-1908536400@wilcogop.org
SUMMARY:Leander Area Republican Women
DESCRIPTION:
URL:https://wilcogop.org/event/leander-area-republican-women/2030-06-24/
LOCATION:Facility Resource\, Inc\, 1641 Scottsdale Dr\, Cedar Park\,\, TX\, 78613\, United States
ORGANIZER;CN="Leander Area Republican Women":MAILTO:presidentlarw@gmail.com
END:VEVENT
BEGIN:VEVENT
DTSTART;TZID=America/Chicago:20300625T183000
DTEND;TZID=America/Chicago:20300625T183000
DTSTAMP:20260421T182518
CREATED:20250331T140004Z
LAST-MODIFIED:20250912T042348Z
UID:10000761-1908642600-1908642600@wilcogop.org
SUMMARY:Williamson County Executive Committee Meeting
DESCRIPTION:
URL:https://wilcogop.org/event/williamson-county-executive-committee-meeting-5/2030-06-25/
LOCATION:Williamson County Jester Annex\, 1801 E Old Settlers Blvd\, Round Rock\, TX\, 78664\, United States
CATEGORIES:Executive Committee Meeting
END:VEVENT
BEGIN:VEVENT
DTSTART;TZID=America/Chicago:20300703T110000
DTEND;TZID=America/Chicago:20300703T130000
DTSTAMP:20260421T182518
CREATED:20260415T132834Z
LAST-MODIFIED:20260415T132834Z
UID:10001298-1909306800-1909314000@wilcogop.org
SUMMARY:Northwest Austin Republican Women Monthly Meeting
DESCRIPTION:
URL:https://wilcogop.org/event/northwest-austin-republican-women-monthly-meeting/2030-07-03/
LOCATION:Balcones Country Club\, 8600 Balcones Club Dr\, Austin\, TX\, 78750\, United States
ORGANIZER;CN="Northwest Austin Republican Women":MAILTO:membership@nwarw.org
END:VEVENT
BEGIN:VEVENT
DTSTART;TZID=America/Chicago:20300715T120000
DTEND;TZID=America/Chicago:20300715T133000
DTSTAMP:20260421T182518
CREATED:20260415T132216Z
LAST-MODIFIED:20260415T132216Z
UID:10001057-1910347200-1910352600@wilcogop.org
SUMMARY:Liberty Hill Republican Women Monthly Meeting
DESCRIPTION:
URL:https://wilcogop.org/event/liberty-hill-republican-women-monthly-meeting/2030-07-15/
LOCATION:Jardin Corona 15395 W State Highway 29 Liberty Hill\, 15395 W State Highway 29\, Liberty Hill\, 78642\, United States
END:VEVENT
BEGIN:VEVENT
DTSTART;TZID=America/New_York:20300716T183000
DTEND;TZID=America/New_York:20300716T203000
DTSTAMP:20260421T182518
CREATED:20260409T051144Z
LAST-MODIFIED:20260414T123655Z
UID:10000997-1910457000-1910464200@wilcogop.org
SUMMARY:Wilco Young Republicans
DESCRIPTION:
URL:https://wilcogop.org/event/wilco-young-republicans-2-2/2030-07-16/
LOCATION:The Rock\, 205 N Mays St\, Round Rock\, Texas\, 78664\, United States
CATEGORIES:Event
END:VEVENT
BEGIN:VEVENT
DTSTART;TZID=America/Chicago:20300716T183000
DTEND;TZID=America/Chicago:20300716T203000
DTSTAMP:20260421T182518
CREATED:20260415T132945Z
LAST-MODIFIED:20260415T132945Z
UID:10001359-1910457000-1910464200@wilcogop.org
SUMMARY:True Texas Project - Wilco Monthly Meeting
DESCRIPTION:
URL:https://wilcogop.org/event/true-texas-project-wilco-monthly-meeting/2030-07-16/
LOCATION:1501 Leander Dr\, 1501 Leander Dr\, Leander\, TX\, United States
END:VEVENT
BEGIN:VEVENT
DTSTART;TZID=America/Chicago:20300718T110000
DTEND;TZID=America/Chicago:20300718T130000
DTSTAMP:20260421T182518
CREATED:20260415T132524Z
LAST-MODIFIED:20260415T132524Z
UID:10001177-1910602800-1910610000@wilcogop.org
SUMMARY:Georgetown Area Republican Women
DESCRIPTION:
URL:https://wilcogop.org/event/georgetown-area-republican-women/2030-07-18/
LOCATION:Georgetown Chamber of Commerce\, 1 Chamber Way\, Georgetown\, TX\, 78626\, United States
ORGANIZER;CN="Georgetown Area Republican Women":MAILTO:garwpac@gmail.com
END:VEVENT
BEGIN:VEVENT
DTSTART;TZID=America/Chicago:20300718T183000
DTEND;TZID=America/Chicago:20300718T203000
DTSTAMP:20260421T182518
CREATED:20260415T132359Z
LAST-MODIFIED:20260415T132422Z
UID:10001117-1910629800-1910637000@wilcogop.org
SUMMARY:East Williamson County Republicans Monthly Meeting
DESCRIPTION:
URL:https://wilcogop.org/event/east-williamson-county-republicans-monthly-meeting/2030-07-18/
LOCATION:Sirloin Stockade – Taylor\, 3607 N Main St\, Taylor\, TX\, 76574\, United States
END:VEVENT
BEGIN:VEVENT
DTSTART;TZID=America/Chicago:20300722T110000
DTEND;TZID=America/Chicago:20300722T130000
DTSTAMP:20260421T182518
CREATED:20260415T132624Z
LAST-MODIFIED:20260415T132624Z
UID:10001237-1910948400-1910955600@wilcogop.org
SUMMARY:Leander Area Republican Women
DESCRIPTION:
URL:https://wilcogop.org/event/leander-area-republican-women/2030-07-22/
LOCATION:Facility Resource\, Inc\, 1641 Scottsdale Dr\, Cedar Park\,\, TX\, 78613\, United States
ORGANIZER;CN="Leander Area Republican Women":MAILTO:presidentlarw@gmail.com
END:VEVENT
BEGIN:VEVENT
DTSTART;TZID=America/Chicago:20300730T183000
DTEND;TZID=America/Chicago:20300730T183000
DTSTAMP:20260421T182518
CREATED:20250331T140004Z
LAST-MODIFIED:20250912T042348Z
UID:10000762-1911666600-1911666600@wilcogop.org
SUMMARY:Williamson County Executive Committee Meeting
DESCRIPTION:
URL:https://wilcogop.org/event/williamson-county-executive-committee-meeting-5/2030-07-30/
LOCATION:Williamson County Jester Annex\, 1801 E Old Settlers Blvd\, Round Rock\, TX\, 78664\, United States
CATEGORIES:Executive Committee Meeting
END:VEVENT
BEGIN:VEVENT
DTSTART;TZID=America/Chicago:20300807T110000
DTEND;TZID=America/Chicago:20300807T130000
DTSTAMP:20260421T182518
CREATED:20260415T132834Z
LAST-MODIFIED:20260415T132834Z
UID:10001299-1912330800-1912338000@wilcogop.org
SUMMARY:Northwest Austin Republican Women Monthly Meeting
DESCRIPTION:
URL:https://wilcogop.org/event/northwest-austin-republican-women-monthly-meeting/2030-08-07/
LOCATION:Balcones Country Club\, 8600 Balcones Club Dr\, Austin\, TX\, 78750\, United States
ORGANIZER;CN="Northwest Austin Republican Women":MAILTO:membership@nwarw.org
END:VEVENT
BEGIN:VEVENT
DTSTART;TZID=America/Chicago:20300815T110000
DTEND;TZID=America/Chicago:20300815T130000
DTSTAMP:20260421T182518
CREATED:20260415T132524Z
LAST-MODIFIED:20260415T132524Z
UID:10001178-1913022000-1913029200@wilcogop.org
SUMMARY:Georgetown Area Republican Women
DESCRIPTION:
URL:https://wilcogop.org/event/georgetown-area-republican-women/2030-08-15/
LOCATION:Georgetown Chamber of Commerce\, 1 Chamber Way\, Georgetown\, TX\, 78626\, United States
ORGANIZER;CN="Georgetown Area Republican Women":MAILTO:garwpac@gmail.com
END:VEVENT
BEGIN:VEVENT
DTSTART;TZID=America/Chicago:20300815T183000
DTEND;TZID=America/Chicago:20300815T203000
DTSTAMP:20260421T182518
CREATED:20260415T132359Z
LAST-MODIFIED:20260415T132422Z
UID:10001118-1913049000-1913056200@wilcogop.org
SUMMARY:East Williamson County Republicans Monthly Meeting
DESCRIPTION:
URL:https://wilcogop.org/event/east-williamson-county-republicans-monthly-meeting/2030-08-15/
LOCATION:Sirloin Stockade – Taylor\, 3607 N Main St\, Taylor\, TX\, 76574\, United States
END:VEVENT
BEGIN:VEVENT
DTSTART;TZID=America/Chicago:20300819T120000
DTEND;TZID=America/Chicago:20300819T133000
DTSTAMP:20260421T182518
CREATED:20260415T132216Z
LAST-MODIFIED:20260415T132216Z
UID:10001058-1913371200-1913376600@wilcogop.org
SUMMARY:Liberty Hill Republican Women Monthly Meeting
DESCRIPTION:
URL:https://wilcogop.org/event/liberty-hill-republican-women-monthly-meeting/2030-08-19/
LOCATION:Jardin Corona 15395 W State Highway 29 Liberty Hill\, 15395 W State Highway 29\, Liberty Hill\, 78642\, United States
END:VEVENT
BEGIN:VEVENT
DTSTART;TZID=America/New_York:20300820T183000
DTEND;TZID=America/New_York:20300820T203000
DTSTAMP:20260421T182518
CREATED:20260409T051144Z
LAST-MODIFIED:20260414T123655Z
UID:10000998-1913481000-1913488200@wilcogop.org
SUMMARY:Wilco Young Republicans
DESCRIPTION:
URL:https://wilcogop.org/event/wilco-young-republicans-2-2/2030-08-20/
LOCATION:The Rock\, 205 N Mays St\, Round Rock\, Texas\, 78664\, United States
CATEGORIES:Event
END:VEVENT
BEGIN:VEVENT
DTSTART;TZID=America/Chicago:20300820T183000
DTEND;TZID=America/Chicago:20300820T203000
DTSTAMP:20260421T182518
CREATED:20260415T132945Z
LAST-MODIFIED:20260415T132945Z
UID:10001360-1913481000-1913488200@wilcogop.org
SUMMARY:True Texas Project - Wilco Monthly Meeting
DESCRIPTION:
URL:https://wilcogop.org/event/true-texas-project-wilco-monthly-meeting/2030-08-20/
LOCATION:1501 Leander Dr\, 1501 Leander Dr\, Leander\, TX\, United States
END:VEVENT
BEGIN:VEVENT
DTSTART;TZID=America/Chicago:20300826T110000
DTEND;TZID=America/Chicago:20300826T130000
DTSTAMP:20260421T182518
CREATED:20260415T132624Z
LAST-MODIFIED:20260415T132624Z
UID:10001238-1913972400-1913979600@wilcogop.org
SUMMARY:Leander Area Republican Women
DESCRIPTION:
URL:https://wilcogop.org/event/leander-area-republican-women/2030-08-26/
LOCATION:Facility Resource\, Inc\, 1641 Scottsdale Dr\, Cedar Park\,\, TX\, 78613\, United States
ORGANIZER;CN="Leander Area Republican Women":MAILTO:presidentlarw@gmail.com
END:VEVENT
BEGIN:VEVENT
DTSTART;TZID=America/Chicago:20300827T183000
DTEND;TZID=America/Chicago:20300827T183000
DTSTAMP:20260421T182518
CREATED:20250331T140004Z
LAST-MODIFIED:20250912T042348Z
UID:10000763-1914085800-1914085800@wilcogop.org
SUMMARY:Williamson County Executive Committee Meeting
DESCRIPTION:
URL:https://wilcogop.org/event/williamson-county-executive-committee-meeting-5/2030-08-27/
LOCATION:Williamson County Jester Annex\, 1801 E Old Settlers Blvd\, Round Rock\, TX\, 78664\, United States
CATEGORIES:Executive Committee Meeting
END:VEVENT
BEGIN:VEVENT
DTSTART;TZID=America/Chicago:20300904T110000
DTEND;TZID=America/Chicago:20300904T130000
DTSTAMP:20260421T182518
CREATED:20260415T132834Z
LAST-MODIFIED:20260415T132834Z
UID:10001300-1914750000-1914757200@wilcogop.org
SUMMARY:Northwest Austin Republican Women Monthly Meeting
DESCRIPTION:
URL:https://wilcogop.org/event/northwest-austin-republican-women-monthly-meeting/2030-09-04/
LOCATION:Balcones Country Club\, 8600 Balcones Club Dr\, Austin\, TX\, 78750\, United States
ORGANIZER;CN="Northwest Austin Republican Women":MAILTO:membership@nwarw.org
END:VEVENT
BEGIN:VEVENT
DTSTART;TZID=America/Chicago:20300916T120000
DTEND;TZID=America/Chicago:20300916T133000
DTSTAMP:20260421T182518
CREATED:20260415T132216Z
LAST-MODIFIED:20260415T132216Z
UID:10001059-1915790400-1915795800@wilcogop.org
SUMMARY:Liberty Hill Republican Women Monthly Meeting
DESCRIPTION:
URL:https://wilcogop.org/event/liberty-hill-republican-women-monthly-meeting/2030-09-16/
LOCATION:Jardin Corona 15395 W State Highway 29 Liberty Hill\, 15395 W State Highway 29\, Liberty Hill\, 78642\, United States
END:VEVENT
BEGIN:VEVENT
DTSTART;TZID=America/New_York:20300917T183000
DTEND;TZID=America/New_York:20300917T203000
DTSTAMP:20260421T182518
CREATED:20260409T051144Z
LAST-MODIFIED:20260414T123655Z
UID:10000999-1915900200-1915907400@wilcogop.org
SUMMARY:Wilco Young Republicans
DESCRIPTION:
URL:https://wilcogop.org/event/wilco-young-republicans-2-2/2030-09-17/
LOCATION:The Rock\, 205 N Mays St\, Round Rock\, Texas\, 78664\, United States
CATEGORIES:Event
END:VEVENT
BEGIN:VEVENT
DTSTART;TZID=America/Chicago:20300917T183000
DTEND;TZID=America/Chicago:20300917T203000
DTSTAMP:20260421T182518
CREATED:20260415T132945Z
LAST-MODIFIED:20260415T132945Z
UID:10001361-1915900200-1915907400@wilcogop.org
SUMMARY:True Texas Project - Wilco Monthly Meeting
DESCRIPTION:
URL:https://wilcogop.org/event/true-texas-project-wilco-monthly-meeting/2030-09-17/
LOCATION:1501 Leander Dr\, 1501 Leander Dr\, Leander\, TX\, United States
END:VEVENT
BEGIN:VEVENT
DTSTART;TZID=America/Chicago:20300919T110000
DTEND;TZID=America/Chicago:20300919T130000
DTSTAMP:20260421T182518
CREATED:20260415T132524Z
LAST-MODIFIED:20260415T132524Z
UID:10001179-1916046000-1916053200@wilcogop.org
SUMMARY:Georgetown Area Republican Women
DESCRIPTION:
URL:https://wilcogop.org/event/georgetown-area-republican-women/2030-09-19/
LOCATION:Georgetown Chamber of Commerce\, 1 Chamber Way\, Georgetown\, TX\, 78626\, United States
ORGANIZER;CN="Georgetown Area Republican Women":MAILTO:garwpac@gmail.com
END:VEVENT
BEGIN:VEVENT
DTSTART;TZID=America/Chicago:20300919T183000
DTEND;TZID=America/Chicago:20300919T203000
DTSTAMP:20260421T182518
CREATED:20260415T132359Z
LAST-MODIFIED:20260415T132422Z
UID:10001119-1916073000-1916080200@wilcogop.org
SUMMARY:East Williamson County Republicans Monthly Meeting
DESCRIPTION:
URL:https://wilcogop.org/event/east-williamson-county-republicans-monthly-meeting/2030-09-19/
LOCATION:Sirloin Stockade – Taylor\, 3607 N Main St\, Taylor\, TX\, 76574\, United States
END:VEVENT
END:VCALENDAR