BEGIN:VCALENDAR
VERSION:2.0
PRODID:-//Williamson County Republican Party - ECPv6.15.20//NONSGML v1.0//EN
CALSCALE:GREGORIAN
METHOD:PUBLISH
X-ORIGINAL-URL:https://wilcogop.org
X-WR-CALDESC:Events for Williamson County Republican Party
REFRESH-INTERVAL;VALUE=DURATION:PT1H
X-Robots-Tag:noindex
X-PUBLISHED-TTL:PT1H
BEGIN:VTIMEZONE
TZID:America/Chicago
BEGIN:DAYLIGHT
TZOFFSETFROM:-0600
TZOFFSETTO:-0500
TZNAME:CDT
DTSTART:20280312T080000
END:DAYLIGHT
BEGIN:STANDARD
TZOFFSETFROM:-0500
TZOFFSETTO:-0600
TZNAME:CST
DTSTART:20281105T070000
END:STANDARD
BEGIN:DAYLIGHT
TZOFFSETFROM:-0600
TZOFFSETTO:-0500
TZNAME:CDT
DTSTART:20290311T080000
END:DAYLIGHT
BEGIN:STANDARD
TZOFFSETFROM:-0500
TZOFFSETTO:-0600
TZNAME:CST
DTSTART:20291104T070000
END:STANDARD
BEGIN:DAYLIGHT
TZOFFSETFROM:-0600
TZOFFSETTO:-0500
TZNAME:CDT
DTSTART:20300310T080000
END:DAYLIGHT
BEGIN:STANDARD
TZOFFSETFROM:-0500
TZOFFSETTO:-0600
TZNAME:CST
DTSTART:20301103T070000
END:STANDARD
END:VTIMEZONE
BEGIN:VTIMEZONE
TZID:America/Chicago
BEGIN:DAYLIGHT
TZOFFSETFROM:-0600
TZOFFSETTO:-0500
TZNAME:CDT
DTSTART:20280312T080000
END:DAYLIGHT
BEGIN:STANDARD
TZOFFSETFROM:-0500
TZOFFSETTO:-0600
TZNAME:CST
DTSTART:20281105T070000
END:STANDARD
BEGIN:DAYLIGHT
TZOFFSETFROM:-0600
TZOFFSETTO:-0500
TZNAME:CDT
DTSTART:20290311T080000
END:DAYLIGHT
BEGIN:STANDARD
TZOFFSETFROM:-0500
TZOFFSETTO:-0600
TZNAME:CST
DTSTART:20291104T070000
END:STANDARD
BEGIN:DAYLIGHT
TZOFFSETFROM:-0600
TZOFFSETTO:-0500
TZNAME:CDT
DTSTART:20300310T080000
END:DAYLIGHT
BEGIN:STANDARD
TZOFFSETFROM:-0500
TZOFFSETTO:-0600
TZNAME:CST
DTSTART:20301103T070000
END:STANDARD
END:VTIMEZONE
BEGIN:VTIMEZONE
TZID:America/New_York
BEGIN:DAYLIGHT
TZOFFSETFROM:-0500
TZOFFSETTO:-0400
TZNAME:EDT
DTSTART:20280312T070000
END:DAYLIGHT
BEGIN:STANDARD
TZOFFSETFROM:-0400
TZOFFSETTO:-0500
TZNAME:EST
DTSTART:20281105T060000
END:STANDARD
BEGIN:DAYLIGHT
TZOFFSETFROM:-0500
TZOFFSETTO:-0400
TZNAME:EDT
DTSTART:20290311T070000
END:DAYLIGHT
BEGIN:STANDARD
TZOFFSETFROM:-0400
TZOFFSETTO:-0500
TZNAME:EST
DTSTART:20291104T060000
END:STANDARD
BEGIN:DAYLIGHT
TZOFFSETFROM:-0500
TZOFFSETTO:-0400
TZNAME:EDT
DTSTART:20300310T070000
END:DAYLIGHT
BEGIN:STANDARD
TZOFFSETFROM:-0400
TZOFFSETTO:-0500
TZNAME:EST
DTSTART:20301103T060000
END:STANDARD
END:VTIMEZONE
BEGIN:VEVENT
DTSTART;TZID=America/Chicago:20290821T183000
DTEND;TZID=America/Chicago:20290821T203000
DTSTAMP:20260421T115121
CREATED:20260415T132945Z
LAST-MODIFIED:20260415T132945Z
UID:10001348-1882031400-1882038600@wilcogop.org
SUMMARY:True Texas Project - Wilco Monthly Meeting
DESCRIPTION:
URL:https://wilcogop.org/event/true-texas-project-wilco-monthly-meeting/2029-08-21/
LOCATION:1501 Leander Dr\, 1501 Leander Dr\, Leander\, TX\, United States
END:VEVENT
BEGIN:VEVENT
DTSTART;TZID=America/Chicago:20290827T110000
DTEND;TZID=America/Chicago:20290827T130000
DTSTAMP:20260421T115121
CREATED:20260415T132624Z
LAST-MODIFIED:20260415T132624Z
UID:10001226-1882522800-1882530000@wilcogop.org
SUMMARY:Leander Area Republican Women
DESCRIPTION:
URL:https://wilcogop.org/event/leander-area-republican-women/2029-08-27/
LOCATION:Facility Resource\, Inc\, 1641 Scottsdale Dr\, Cedar Park\,\, TX\, 78613\, United States
ORGANIZER;CN="Leander Area Republican Women":MAILTO:presidentlarw@gmail.com
END:VEVENT
BEGIN:VEVENT
DTSTART;TZID=America/Chicago:20290828T183000
DTEND;TZID=America/Chicago:20290828T183000
DTSTAMP:20260421T115121
CREATED:20250331T140004Z
LAST-MODIFIED:20250912T042348Z
UID:10000740-1882636200-1882636200@wilcogop.org
SUMMARY:Williamson County Executive Committee Meeting
DESCRIPTION:
URL:https://wilcogop.org/event/williamson-county-executive-committee-meeting-5/2029-08-28/
LOCATION:Williamson County Jester Annex\, 1801 E Old Settlers Blvd\, Round Rock\, TX\, 78664\, United States
CATEGORIES:Executive Committee Meeting
END:VEVENT
BEGIN:VEVENT
DTSTART;TZID=America/Chicago:20290905T110000
DTEND;TZID=America/Chicago:20290905T130000
DTSTAMP:20260421T115121
CREATED:20260415T132834Z
LAST-MODIFIED:20260415T132834Z
UID:10001288-1883300400-1883307600@wilcogop.org
SUMMARY:Northwest Austin Republican Women Monthly Meeting
DESCRIPTION:
URL:https://wilcogop.org/event/northwest-austin-republican-women-monthly-meeting/2029-09-05/
LOCATION:Balcones Country Club\, 8600 Balcones Club Dr\, Austin\, TX\, 78750\, United States
ORGANIZER;CN="Northwest Austin Republican Women":MAILTO:membership@nwarw.org
END:VEVENT
BEGIN:VEVENT
DTSTART;TZID=America/Chicago:20290917T120000
DTEND;TZID=America/Chicago:20290917T133000
DTSTAMP:20260421T115121
CREATED:20260415T132216Z
LAST-MODIFIED:20260415T132216Z
UID:10001047-1884340800-1884346200@wilcogop.org
SUMMARY:Liberty Hill Republican Women Monthly Meeting
DESCRIPTION:
URL:https://wilcogop.org/event/liberty-hill-republican-women-monthly-meeting/2029-09-17/
LOCATION:Jardin Corona 15395 W State Highway 29 Liberty Hill\, 15395 W State Highway 29\, Liberty Hill\, 78642\, United States
END:VEVENT
BEGIN:VEVENT
DTSTART;TZID=America/New_York:20290918T183000
DTEND;TZID=America/New_York:20290918T203000
DTSTAMP:20260421T115121
CREATED:20260409T051144Z
LAST-MODIFIED:20260414T123655Z
UID:10000987-1884450600-1884457800@wilcogop.org
SUMMARY:Wilco Young Republicans
DESCRIPTION:
URL:https://wilcogop.org/event/wilco-young-republicans-2-2/2029-09-18/
LOCATION:The Rock\, 205 N Mays St\, Round Rock\, Texas\, 78664\, United States
CATEGORIES:Event
END:VEVENT
BEGIN:VEVENT
DTSTART;TZID=America/Chicago:20290918T183000
DTEND;TZID=America/Chicago:20290918T203000
DTSTAMP:20260421T115121
CREATED:20260415T132945Z
LAST-MODIFIED:20260415T132945Z
UID:10001349-1884450600-1884457800@wilcogop.org
SUMMARY:True Texas Project - Wilco Monthly Meeting
DESCRIPTION:
URL:https://wilcogop.org/event/true-texas-project-wilco-monthly-meeting/2029-09-18/
LOCATION:1501 Leander Dr\, 1501 Leander Dr\, Leander\, TX\, United States
END:VEVENT
BEGIN:VEVENT
DTSTART;TZID=America/Chicago:20290920T110000
DTEND;TZID=America/Chicago:20290920T130000
DTSTAMP:20260421T115121
CREATED:20260415T132524Z
LAST-MODIFIED:20260415T132524Z
UID:10001167-1884596400-1884603600@wilcogop.org
SUMMARY:Georgetown Area Republican Women
DESCRIPTION:
URL:https://wilcogop.org/event/georgetown-area-republican-women/2029-09-20/
LOCATION:Georgetown Chamber of Commerce\, 1 Chamber Way\, Georgetown\, TX\, 78626\, United States
ORGANIZER;CN="Georgetown Area Republican Women":MAILTO:garwpac@gmail.com
END:VEVENT
BEGIN:VEVENT
DTSTART;TZID=America/Chicago:20290920T183000
DTEND;TZID=America/Chicago:20290920T203000
DTSTAMP:20260421T115121
CREATED:20260415T132359Z
LAST-MODIFIED:20260415T132422Z
UID:10001107-1884623400-1884630600@wilcogop.org
SUMMARY:East Williamson County Republicans Monthly Meeting
DESCRIPTION:
URL:https://wilcogop.org/event/east-williamson-county-republicans-monthly-meeting/2029-09-20/
LOCATION:Sirloin Stockade – Taylor\, 3607 N Main St\, Taylor\, TX\, 76574\, United States
END:VEVENT
BEGIN:VEVENT
DTSTART;TZID=America/Chicago:20290924T110000
DTEND;TZID=America/Chicago:20290924T130000
DTSTAMP:20260421T115121
CREATED:20260415T132624Z
LAST-MODIFIED:20260415T132624Z
UID:10001227-1884942000-1884949200@wilcogop.org
SUMMARY:Leander Area Republican Women
DESCRIPTION:
URL:https://wilcogop.org/event/leander-area-republican-women/2029-09-24/
LOCATION:Facility Resource\, Inc\, 1641 Scottsdale Dr\, Cedar Park\,\, TX\, 78613\, United States
ORGANIZER;CN="Leander Area Republican Women":MAILTO:presidentlarw@gmail.com
END:VEVENT
BEGIN:VEVENT
DTSTART;TZID=America/Chicago:20290925T183000
DTEND;TZID=America/Chicago:20290925T183000
DTSTAMP:20260421T115121
CREATED:20250331T140004Z
LAST-MODIFIED:20250912T042348Z
UID:10000741-1885055400-1885055400@wilcogop.org
SUMMARY:Williamson County Executive Committee Meeting
DESCRIPTION:
URL:https://wilcogop.org/event/williamson-county-executive-committee-meeting-5/2029-09-25/
LOCATION:Williamson County Jester Annex\, 1801 E Old Settlers Blvd\, Round Rock\, TX\, 78664\, United States
CATEGORIES:Executive Committee Meeting
END:VEVENT
BEGIN:VEVENT
DTSTART;TZID=America/Chicago:20291003T110000
DTEND;TZID=America/Chicago:20291003T130000
DTSTAMP:20260421T115121
CREATED:20260415T132834Z
LAST-MODIFIED:20260415T132834Z
UID:10001289-1885719600-1885726800@wilcogop.org
SUMMARY:Northwest Austin Republican Women Monthly Meeting
DESCRIPTION:
URL:https://wilcogop.org/event/northwest-austin-republican-women-monthly-meeting/2029-10-03/
LOCATION:Balcones Country Club\, 8600 Balcones Club Dr\, Austin\, TX\, 78750\, United States
ORGANIZER;CN="Northwest Austin Republican Women":MAILTO:membership@nwarw.org
END:VEVENT
BEGIN:VEVENT
DTSTART;TZID=America/Chicago:20291015T120000
DTEND;TZID=America/Chicago:20291015T133000
DTSTAMP:20260421T115121
CREATED:20260415T132216Z
LAST-MODIFIED:20260415T132216Z
UID:10001048-1886760000-1886765400@wilcogop.org
SUMMARY:Liberty Hill Republican Women Monthly Meeting
DESCRIPTION:
URL:https://wilcogop.org/event/liberty-hill-republican-women-monthly-meeting/2029-10-15/
LOCATION:Jardin Corona 15395 W State Highway 29 Liberty Hill\, 15395 W State Highway 29\, Liberty Hill\, 78642\, United States
END:VEVENT
BEGIN:VEVENT
DTSTART;TZID=America/New_York:20291016T183000
DTEND;TZID=America/New_York:20291016T203000
DTSTAMP:20260421T115121
CREATED:20260409T051144Z
LAST-MODIFIED:20260414T123655Z
UID:10000988-1886869800-1886877000@wilcogop.org
SUMMARY:Wilco Young Republicans
DESCRIPTION:
URL:https://wilcogop.org/event/wilco-young-republicans-2-2/2029-10-16/
LOCATION:The Rock\, 205 N Mays St\, Round Rock\, Texas\, 78664\, United States
CATEGORIES:Event
END:VEVENT
BEGIN:VEVENT
DTSTART;TZID=America/Chicago:20291016T183000
DTEND;TZID=America/Chicago:20291016T203000
DTSTAMP:20260421T115121
CREATED:20260415T132945Z
LAST-MODIFIED:20260415T132945Z
UID:10001350-1886869800-1886877000@wilcogop.org
SUMMARY:True Texas Project - Wilco Monthly Meeting
DESCRIPTION:
URL:https://wilcogop.org/event/true-texas-project-wilco-monthly-meeting/2029-10-16/
LOCATION:1501 Leander Dr\, 1501 Leander Dr\, Leander\, TX\, United States
END:VEVENT
BEGIN:VEVENT
DTSTART;TZID=America/Chicago:20291018T110000
DTEND;TZID=America/Chicago:20291018T130000
DTSTAMP:20260421T115121
CREATED:20260415T132524Z
LAST-MODIFIED:20260415T132524Z
UID:10001168-1887015600-1887022800@wilcogop.org
SUMMARY:Georgetown Area Republican Women
DESCRIPTION:
URL:https://wilcogop.org/event/georgetown-area-republican-women/2029-10-18/
LOCATION:Georgetown Chamber of Commerce\, 1 Chamber Way\, Georgetown\, TX\, 78626\, United States
ORGANIZER;CN="Georgetown Area Republican Women":MAILTO:garwpac@gmail.com
END:VEVENT
BEGIN:VEVENT
DTSTART;TZID=America/Chicago:20291018T183000
DTEND;TZID=America/Chicago:20291018T203000
DTSTAMP:20260421T115121
CREATED:20260415T132359Z
LAST-MODIFIED:20260415T132422Z
UID:10001108-1887042600-1887049800@wilcogop.org
SUMMARY:East Williamson County Republicans Monthly Meeting
DESCRIPTION:
URL:https://wilcogop.org/event/east-williamson-county-republicans-monthly-meeting/2029-10-18/
LOCATION:Sirloin Stockade – Taylor\, 3607 N Main St\, Taylor\, TX\, 76574\, United States
END:VEVENT
BEGIN:VEVENT
DTSTART;TZID=America/Chicago:20291022T110000
DTEND;TZID=America/Chicago:20291022T130000
DTSTAMP:20260421T115121
CREATED:20260415T132624Z
LAST-MODIFIED:20260415T132624Z
UID:10001228-1887361200-1887368400@wilcogop.org
SUMMARY:Leander Area Republican Women
DESCRIPTION:
URL:https://wilcogop.org/event/leander-area-republican-women/2029-10-22/
LOCATION:Facility Resource\, Inc\, 1641 Scottsdale Dr\, Cedar Park\,\, TX\, 78613\, United States
ORGANIZER;CN="Leander Area Republican Women":MAILTO:presidentlarw@gmail.com
END:VEVENT
BEGIN:VEVENT
DTSTART;TZID=America/Chicago:20291030T183000
DTEND;TZID=America/Chicago:20291030T183000
DTSTAMP:20260421T115121
CREATED:20250331T140004Z
LAST-MODIFIED:20250912T042348Z
UID:10000742-1888079400-1888079400@wilcogop.org
SUMMARY:Williamson County Executive Committee Meeting
DESCRIPTION:
URL:https://wilcogop.org/event/williamson-county-executive-committee-meeting-5/2029-10-30/
LOCATION:Williamson County Jester Annex\, 1801 E Old Settlers Blvd\, Round Rock\, TX\, 78664\, United States
CATEGORIES:Executive Committee Meeting
END:VEVENT
BEGIN:VEVENT
DTSTART;TZID=America/Chicago:20291107T110000
DTEND;TZID=America/Chicago:20291107T130000
DTSTAMP:20260421T115121
CREATED:20260415T132834Z
LAST-MODIFIED:20260415T132834Z
UID:10001290-1888743600-1888750800@wilcogop.org
SUMMARY:Northwest Austin Republican Women Monthly Meeting
DESCRIPTION:
URL:https://wilcogop.org/event/northwest-austin-republican-women-monthly-meeting/2029-11-07/
LOCATION:Balcones Country Club\, 8600 Balcones Club Dr\, Austin\, TX\, 78750\, United States
ORGANIZER;CN="Northwest Austin Republican Women":MAILTO:membership@nwarw.org
END:VEVENT
BEGIN:VEVENT
DTSTART;TZID=America/Chicago:20291115T110000
DTEND;TZID=America/Chicago:20291115T130000
DTSTAMP:20260421T115121
CREATED:20260415T132524Z
LAST-MODIFIED:20260415T132524Z
UID:10001169-1889434800-1889442000@wilcogop.org
SUMMARY:Georgetown Area Republican Women
DESCRIPTION:
URL:https://wilcogop.org/event/georgetown-area-republican-women/2029-11-15/
LOCATION:Georgetown Chamber of Commerce\, 1 Chamber Way\, Georgetown\, TX\, 78626\, United States
ORGANIZER;CN="Georgetown Area Republican Women":MAILTO:garwpac@gmail.com
END:VEVENT
BEGIN:VEVENT
DTSTART;TZID=America/Chicago:20291115T183000
DTEND;TZID=America/Chicago:20291115T203000
DTSTAMP:20260421T115121
CREATED:20260415T132359Z
LAST-MODIFIED:20260415T132422Z
UID:10001109-1889461800-1889469000@wilcogop.org
SUMMARY:East Williamson County Republicans Monthly Meeting
DESCRIPTION:
URL:https://wilcogop.org/event/east-williamson-county-republicans-monthly-meeting/2029-11-15/
LOCATION:Sirloin Stockade – Taylor\, 3607 N Main St\, Taylor\, TX\, 76574\, United States
END:VEVENT
BEGIN:VEVENT
DTSTART;TZID=America/Chicago:20291119T120000
DTEND;TZID=America/Chicago:20291119T133000
DTSTAMP:20260421T115121
CREATED:20260415T132216Z
LAST-MODIFIED:20260415T132216Z
UID:10001049-1889784000-1889789400@wilcogop.org
SUMMARY:Liberty Hill Republican Women Monthly Meeting
DESCRIPTION:
URL:https://wilcogop.org/event/liberty-hill-republican-women-monthly-meeting/2029-11-19/
LOCATION:Jardin Corona 15395 W State Highway 29 Liberty Hill\, 15395 W State Highway 29\, Liberty Hill\, 78642\, United States
END:VEVENT
BEGIN:VEVENT
DTSTART;TZID=America/New_York:20291120T183000
DTEND;TZID=America/New_York:20291120T203000
DTSTAMP:20260421T115121
CREATED:20260409T051144Z
LAST-MODIFIED:20260414T123655Z
UID:10000989-1889893800-1889901000@wilcogop.org
SUMMARY:Wilco Young Republicans
DESCRIPTION:
URL:https://wilcogop.org/event/wilco-young-republicans-2-2/2029-11-20/
LOCATION:The Rock\, 205 N Mays St\, Round Rock\, Texas\, 78664\, United States
CATEGORIES:Event
END:VEVENT
BEGIN:VEVENT
DTSTART;TZID=America/Chicago:20291120T183000
DTEND;TZID=America/Chicago:20291120T203000
DTSTAMP:20260421T115121
CREATED:20260415T132945Z
LAST-MODIFIED:20260415T132945Z
UID:10001351-1889893800-1889901000@wilcogop.org
SUMMARY:True Texas Project - Wilco Monthly Meeting
DESCRIPTION:
URL:https://wilcogop.org/event/true-texas-project-wilco-monthly-meeting/2029-11-20/
LOCATION:1501 Leander Dr\, 1501 Leander Dr\, Leander\, TX\, United States
END:VEVENT
BEGIN:VEVENT
DTSTART;TZID=America/Chicago:20291126T110000
DTEND;TZID=America/Chicago:20291126T130000
DTSTAMP:20260421T115121
CREATED:20260415T132624Z
LAST-MODIFIED:20260415T132624Z
UID:10001229-1890385200-1890392400@wilcogop.org
SUMMARY:Leander Area Republican Women
DESCRIPTION:
URL:https://wilcogop.org/event/leander-area-republican-women/2029-11-26/
LOCATION:Facility Resource\, Inc\, 1641 Scottsdale Dr\, Cedar Park\,\, TX\, 78613\, United States
ORGANIZER;CN="Leander Area Republican Women":MAILTO:presidentlarw@gmail.com
END:VEVENT
BEGIN:VEVENT
DTSTART;TZID=America/Chicago:20291127T183000
DTEND;TZID=America/Chicago:20291127T183000
DTSTAMP:20260421T115121
CREATED:20250331T140004Z
LAST-MODIFIED:20250912T042348Z
UID:10000743-1890498600-1890498600@wilcogop.org
SUMMARY:Williamson County Executive Committee Meeting
DESCRIPTION:
URL:https://wilcogop.org/event/williamson-county-executive-committee-meeting-5/2029-11-27/
LOCATION:Williamson County Jester Annex\, 1801 E Old Settlers Blvd\, Round Rock\, TX\, 78664\, United States
CATEGORIES:Executive Committee Meeting
END:VEVENT
BEGIN:VEVENT
DTSTART;TZID=America/Chicago:20291205T110000
DTEND;TZID=America/Chicago:20291205T130000
DTSTAMP:20260421T115121
CREATED:20260415T132834Z
LAST-MODIFIED:20260415T132834Z
UID:10001291-1891162800-1891170000@wilcogop.org
SUMMARY:Northwest Austin Republican Women Monthly Meeting
DESCRIPTION:
URL:https://wilcogop.org/event/northwest-austin-republican-women-monthly-meeting/2029-12-05/
LOCATION:Balcones Country Club\, 8600 Balcones Club Dr\, Austin\, TX\, 78750\, United States
ORGANIZER;CN="Northwest Austin Republican Women":MAILTO:membership@nwarw.org
END:VEVENT
BEGIN:VEVENT
DTSTART;TZID=America/Chicago:20291217T120000
DTEND;TZID=America/Chicago:20291217T133000
DTSTAMP:20260421T115121
CREATED:20260415T132216Z
LAST-MODIFIED:20260415T132216Z
UID:10001050-1892203200-1892208600@wilcogop.org
SUMMARY:Liberty Hill Republican Women Monthly Meeting
DESCRIPTION:
URL:https://wilcogop.org/event/liberty-hill-republican-women-monthly-meeting/2029-12-17/
LOCATION:Jardin Corona 15395 W State Highway 29 Liberty Hill\, 15395 W State Highway 29\, Liberty Hill\, 78642\, United States
END:VEVENT
BEGIN:VEVENT
DTSTART;TZID=America/New_York:20291218T183000
DTEND;TZID=America/New_York:20291218T203000
DTSTAMP:20260421T115121
CREATED:20260409T051144Z
LAST-MODIFIED:20260414T123655Z
UID:10000990-1892313000-1892320200@wilcogop.org
SUMMARY:Wilco Young Republicans
DESCRIPTION:
URL:https://wilcogop.org/event/wilco-young-republicans-2-2/2029-12-18/
LOCATION:The Rock\, 205 N Mays St\, Round Rock\, Texas\, 78664\, United States
CATEGORIES:Event
END:VEVENT
END:VCALENDAR