BEGIN:VCALENDAR
VERSION:2.0
PRODID:-//Williamson County Republican Party - ECPv6.15.20//NONSGML v1.0//EN
CALSCALE:GREGORIAN
METHOD:PUBLISH
X-WR-CALNAME:Williamson County Republican Party
X-ORIGINAL-URL:https://wilcogop.org
X-WR-CALDESC:Events for Williamson County Republican Party
REFRESH-INTERVAL;VALUE=DURATION:PT1H
X-Robots-Tag:noindex
X-PUBLISHED-TTL:PT1H
BEGIN:VTIMEZONE
TZID:America/Chicago
BEGIN:DAYLIGHT
TZOFFSETFROM:-0600
TZOFFSETTO:-0500
TZNAME:CDT
DTSTART:20250309T080000
END:DAYLIGHT
BEGIN:STANDARD
TZOFFSETFROM:-0500
TZOFFSETTO:-0600
TZNAME:CST
DTSTART:20251102T070000
END:STANDARD
BEGIN:DAYLIGHT
TZOFFSETFROM:-0600
TZOFFSETTO:-0500
TZNAME:CDT
DTSTART:20260308T080000
END:DAYLIGHT
BEGIN:STANDARD
TZOFFSETFROM:-0500
TZOFFSETTO:-0600
TZNAME:CST
DTSTART:20261101T070000
END:STANDARD
BEGIN:DAYLIGHT
TZOFFSETFROM:-0600
TZOFFSETTO:-0500
TZNAME:CDT
DTSTART:20270314T080000
END:DAYLIGHT
BEGIN:STANDARD
TZOFFSETFROM:-0500
TZOFFSETTO:-0600
TZNAME:CST
DTSTART:20271107T070000
END:STANDARD
END:VTIMEZONE
BEGIN:VEVENT
DTSTART;TZID=America/Chicago:20260307T090000
DTEND;TZID=America/Chicago:20260307T190000
DTSTAMP:20260420T202939
CREATED:20260128T162758Z
LAST-MODIFIED:20260227T134515Z
UID:10000837-1772874000-1772910000@wilcogop.org
SUMMARY:Precinct Conventions
DESCRIPTION:Precinct conventions are grassroots gatherings that serve as the foundational step in the Republican Party of Texas convention process.. Held after primary elections\, these neighborhood-level meetings bring together voters who participated in the party’s primary to shape our party’s direction from the ground up. \nAt a precinct convention\, attendees elect delegates and alternates to represent their local precinct at higher-level senatorial district and state conventions. They also debate and vote on resolutions that propose policy positions\, platform planks\, or legislative priorities—ideas that can rise through the convention hierarchy to influence the official party platform. These gatherings empower everyday voters to directly impact party rules\, candidate endorsements\, and issue stances\, embodying true bottom-up political participation. \nWhether you’re passionate about specific issues or want to help build your party’s future\, attending your local precinct convention is one of the most accessible ways to get involved in the political process. \nFind your precinct number here. \nTo find your Precinct Convention location and time\, please check here. We will be updating this information frequently. \nTo learn how to write a Resolution for consideration at your Precinct Convention\, click here or use the Texas GOP Resolution tool.
URL:https://wilcogop.org/event/precinct-conventions/
LOCATION:To Be Announced Soon
END:VEVENT
END:VCALENDAR