BEGIN:VCALENDAR
VERSION:2.0
PRODID:-//Williamson County Republican Party - ECPv6.15.20//NONSGML v1.0//EN
CALSCALE:GREGORIAN
METHOD:PUBLISH
X-WR-CALNAME:Williamson County Republican Party
X-ORIGINAL-URL:https://wilcogop.org
X-WR-CALDESC:Events for Williamson County Republican Party
REFRESH-INTERVAL;VALUE=DURATION:PT1H
X-Robots-Tag:noindex
X-PUBLISHED-TTL:PT1H
BEGIN:VTIMEZONE
TZID:America/New_York
BEGIN:DAYLIGHT
TZOFFSETFROM:-0500
TZOFFSETTO:-0400
TZNAME:EDT
DTSTART:20230312T070000
END:DAYLIGHT
BEGIN:STANDARD
TZOFFSETFROM:-0400
TZOFFSETTO:-0500
TZNAME:EST
DTSTART:20231105T060000
END:STANDARD
BEGIN:DAYLIGHT
TZOFFSETFROM:-0500
TZOFFSETTO:-0400
TZNAME:EDT
DTSTART:20240310T070000
END:DAYLIGHT
BEGIN:STANDARD
TZOFFSETFROM:-0400
TZOFFSETTO:-0500
TZNAME:EST
DTSTART:20241103T060000
END:STANDARD
BEGIN:DAYLIGHT
TZOFFSETFROM:-0500
TZOFFSETTO:-0400
TZNAME:EDT
DTSTART:20250309T070000
END:DAYLIGHT
BEGIN:STANDARD
TZOFFSETFROM:-0400
TZOFFSETTO:-0500
TZNAME:EST
DTSTART:20251102T060000
END:STANDARD
END:VTIMEZONE
BEGIN:VEVENT
DTSTART;TZID=America/New_York:20240807T111500
DTEND;TZID=America/New_York:20240807T111500
DTSTAMP:20260420T071622
CREATED:20240724T150041Z
LAST-MODIFIED:20240724T152955Z
UID:484-1723029300-1723029300@wilcogop.org
SUMMARY:Northwest Austin Republican Women Monthly Meeting : Why the US Should Support Taiwan
DESCRIPTION:Speaker: Dr. Yao Yuan-Yeh\n			\n				RSVP
URL:https://wilcogop.org/event/northwest-austin-republican-women-monthly-meeting-why-the-us-should-support-taiwan/
LOCATION:Balcones Country Club\, 8600 Balcones Club Dr\, Austin\, TX\, 78750\, United States
CATEGORIES:Event
ORGANIZER;CN="Northwest Austin Republican Women":MAILTO:membership@nwarw.org
END:VEVENT
END:VCALENDAR